Workbook

Sheet January,February,March
N2: Hotel Name :
N3: Date :
A6: June | B6: January | J6: February | Q6: March
C7: Budget Rm Nts | E7: 6525 | G7: Budget Avg | H7: 725.13 | J7: Budget Rm Nts | L7: 6375 | N7: Budget Avg | O7: 746.18 | Q7: Budget Rm Nts | S7: 6765 | U7: Budget Avg | V7: 675.91
C8: Budget Occ % | E8: 0.852 | F8: Budget Rm Rev | H8: 4731500 | J8: Budget Occ % | L8: 0.922 | M8: Budget Rm Rev | O8: 4756900 | P8: 0 | Q8: Budget Occ % | S8: 0.884 | T8: Budget Rm Rev | V8: 4572525
C9: Available Rms | E9: 7657 | J9: Available Rms | L9: 6916 | Q9: Available Rms | S9: 7657
B10: Month of Jan,Feb,Mar
B11: Day of the Month | C11: Total Rooms On the Books for whole month | D11: Total Revenue On the Books for whole month | E11: Average Rate per Month | F11: Occ % for end of the Month | G11: Pick-Up Room Nights per Day | H11: Avg Rate Pick Up | J11: Total Rooms On the Books for whole month | K11: Total Revenue On the Books for whole month | L11: Average Rate per Month | M11: Occ % for end of the Month | N11: Pick-Up Room Nights per Day | O11: Avg Rate Pick Up | Q11: Total Rooms On the Books for whole month | R11: Total Revenue On the Books for whole month | S11: Average Rate per Month | T11: Occ % for end of the Month | U11: Pick-Up Room Nights per Day | V11: Avg Rate Pick up
C12: 304 | D12: 304 | E12: 304 | F12: 304 | G12: 304 | H12: 304 | J12: 304 | K12: 304 | L12: 304 | M12: 304 | N12: 304 | O12: 304 | Q12: 304 | R12: 304 | S12: 304 | T12: 304 | U12: 304 | V12: 304
B13: 1 | C13: =4761+227 -> 4988 | D13: =2684304.07+133686.11 -> 2817990.2 | E13: =D13/C13 -> 564.95393 | F13: =C13/$E$9 -> 0.65143006 | G13: =(C13-4938) -> 50 | H13: =-(D13-2241965.51)/-G13 -> 11520.493 | J13: 1525 | K13: 828216.54 | L13: =K13/J13 -> 543.09281 | M13: =J13/$L$9 -> 0.22050318 | N13: =J13-1506 -> 19 | O13: =(K13-1905664.12)/N13 -> -56707.767 | Q13: 1131 | R13: 560429.71 | S13: =R13/Q13 -> 495.51698 | T13: =Q13/$S$9 -> 0.14770798 | U13: =Q13-2479 -> -1348 | V13: =(R13-R12)/U13 -> -415.52352
B14: =B13+1 -> 2 | C14: =418+4758 -> 5176 | D14: =249651.3+2680895.65 -> 2930546.9 | E14: =D14/C14 -> 566.17986 | F14: =C14/$E$9 -> 0.67598276 | G14: =(C14-C13) -> 188 | H14: =(D14-D13)/G14 -> 598.70622 | J14: 1619 | K14: 880292.98 | L14: =K14/J14 -> 543.72636 | M14: =J14/$L$9 -> 0.23409485 | N14: =(J14-J13) -> 94 | O14: =-(K14-K13)/-N14 -> 554.00468 | Q14: 1133 | R14: 561179.71 | S14: =R14/Q14 -> 495.30425 | T14: =Q14/$S$9 -> 0.14796918 | U14: =Q14-Q13 -> 2 | V14: =(R14-R13)/U14 -> 375
B15: =B14+1 -> 3 | C15: =4693+636 -> 5329 | D15: =2656939.23+373857.87 -> 3030797.1 | E15: =D15/C15 -> 568.73655 | F15: =C15/$E$9 -> 0.69596448 | G15: =(C15-C14) -> 153 | H15: =(D15-D14)/G15 -> 655.22974 | J15: 1675 | K15: 911825.47 | L15: =K15/J15 -> 544.37341 | M15: =J15/$L$9 -> 0.24219202 | N15: =(J15-J14) -> 56 | O15: =-(K15-K14)/-N15 -> 563.08018 | Q15: 1136 | R15: 563179.71 | S15: =R15/Q15 -> 495.75679 | T15: =Q15/$S$9 -> 0.14836098 | U15: =Q15-Q14 -> 3 | V15: =(R15-R14)/U15 -> 666.66667
B16: 4 | C16: =4600+883 -> 5483 | D16: =2630851.99+510945.5 -> 3141797.5 | E16: =D16/C16 -> 573.00702 | F16: =C16/$E$9 -> 0.71607679 | G16: =(C16-C15) -> 154 | H16: =(D16-D15)/G16 -> 720.78175 | J16: 1724 | K16: 936123.9 | L16: =K16/J16 -> 542.9953 | M16: =J16/$L$9 -> 0.24927704 | N16: =(J16-J15) -> 49 | O16: =-(K16-K15)/-N16 -> 495.88633 | Q16: 1146 | R16: 568688.03 | S16: =R16/Q16 -> 496.23737 | T16: =Q16/$S$9 -> 0.14966697 | U16: =Q16-Q15 -> 10 | V16: =(R16-R15)/U16 -> 550.832
B17: =B16+1 -> 5 | C17: =1124+4379 -> 5503 | D17: =650026.42+2546906.94 -> 3196933.4 | E17: =D17/C17 -> 580.94373 | F17: =C17/$E$9 -> 0.71868878 | G17: =(C17-C16) -> 20 | H17: =(D17-D16)/G17 -> 2756.7935 | J17: 1812 | K17: 993190.66 | L17: =K17/J17 -> 548.11847 | M17: =J17/$L$9 -> 0.26200116 | N17: =(J17-J16) -> 88 | O17: =(K17-K16)/N17 -> 648.48591 | Q17: 1173 | R17: 584263.03 | S17: =R17/Q17 -> 498.09295 | T17: =Q17/$S$9 -> 0.15319316 | U17: =Q17-Q16 -> 27 | V17: =(R17-R16)/-U17 -> -576.85185
B18: =B17+1 -> 6 | C18: =4198+1368 -> 5566 | D18: =2465879.23+790953.94 -> 3256833.2 | E18: =D18/C18 -> 585.12993 | F18: =C18/$E$9 -> 0.72691655 | G18: =(C18-C17) -> 63 | H18: =(D18-D17)/G18 -> 950.79063 | I18: 0 | J18: 1973 | K18: 1085621.4 | L18: =K18/J18 -> 550.23892 | M18: =J18/$L$9 -> 0.28528051 | N18: =(J18-J17) -> 161 | O18: =(K18-K17)/N18 -> 574.10385 | Q18: 1176 | R18: 585863.03 | S18: =R18/Q18 -> 498.18285 | T18: =Q18/$S$9 -> 0.15358495 | U18: =Q18-Q17 -> 3 | V18: =(R18-R17)/U18 -> 533.33333
B19: =B18+1 -> 7 | C19: =4003+1604 -> 5607 | D19: =2375897.59+917491.83 -> 3293389.4 | E19: =D19/C19 -> 587.37104 | F19: =C19/$E$9 -> 0.73227112 | G19: =(C19-C18) -> 41 | H19: =(D19-D18)/G19 -> 891.61585 | J19: 2009 | K19: 1107225.6 | L19: =K19/J19 -> 551.13268 | M19: =J19/$L$9 -> 0.29048583 | N19: =(J19-J18) -> 36 | O19: =-(K19-K18)/-N19 -> 600.11583 | Q19: 1185 | R19: 590104.72 | S19: =R19/Q19 -> 497.97867 | T19: =Q19/$S$9 -> 0.15476035 | U19: =Q19-Q18 -> 9 | V19: =(R19-R18)/U19 -> 471.29889
B20: =B19+1 -> 8 | C20: =3755+1827 -> 5582 | D20: =2247319.92+1049773.66 -> 3297093.6 | E20: =D20/C20 -> 590.66528 | F20: =C20/$E$9 -> 0.72900614 | G20: =(C20-C19) -> -25 | H20: =(D20-D19)/G20 -> -148.1664 | J20: 2025 | K20: 1116817.3 | L20: =K20/J20 -> 551.5147 | M20: =J20/$L$9 -> 0.29279931 | N20: =(J20-J19) -> 16 | O20: =(K20-K19)/N20 -> 599.4825 | Q20: 1187 | R20: 591788.06 | S20: =R20/Q20 -> 498.55776 | T20: =Q20/$S$9 -> 0.15502155 | U20: =Q20-Q19 -> 2 | V20: =(R20-R19)/U20 -> 841.67
B21: =B20+1 -> 9 | C21: =3631+2067 -> 5698 | D21: =2196079.63+1202010.19 -> 3398089.8 | E21: =D21/C21 -> 596.36536 | F21: =C21/$E$9 -> 0.74415567 | G21: =(C21-C20) -> 116 | H21: =(D21-D20)/G21 -> 870.65724 | J21: 2065 | K21: 1139533.9 | L21: =K21/J21 -> 551.83237 | M21: =J21/$L$9 -> 0.298583 | N21: =(J21-J20) -> 40 | O21: =(K21-K20)/N21 -> 567.9145 | Q21: 1197 | R21: 596421.4 | S21: =R21/Q21 -> 498.26349 | T21: =Q21/$S$9 -> 0.15632754 | U21: =Q21-Q20 -> 10 | V21: =(R21-R20)/U21 -> 463.334
B22: =B21+1 -> 10 | C22: =3472+2308 -> 5780 | D22: =2106574.73+1354119.29 -> 3460694 | E22: =D22/C22 -> 598.73599 | F22: =C22/$E$9 -> 0.75486483 | G22: =(C22-C21) -> 82 | H22: =(D22-D21)/G22 -> 763.46585 | J22: 2149 | K22: 1184083.6 | L22: =K22/J22 -> 550.99281 | M22: =J22/$L$9 -> 0.31072874 | N22: =(J22-J21) -> 84 | O22: =(K22-K21)/N22 -> 530.35357 | Q22: 1230 | R22: 614663.05 | S22: =R22/Q22 -> 499.72606 | T22: =Q22/$S$9 -> 0.16063733 | U22: =Q22-Q21 -> 33 | V22: =(R22-R21)/U22 -> 552.77727
B23: =B22+1 -> 11 | C23: =3388+2503 -> 5891 | D23: =2073692.84+1483501.56 -> 3557194.4 | E23: =D23/C23 -> 603.83541 | F23: =C23/$E$9 -> 0.76936137 | G23: =(C23-C22) -> 111 | H23: =(D23-D22)/G23 -> 869.37279 | J23: 2383 | K23: 1319051.1 | L23: =K23/J23 -> 553.52542 | M23: =J23/$L$9 -> 0.34456333 | N23: =(J23-J22) -> 234 | O23: =(K23-K22)/N23 -> 576.78427 | Q23: 1386 | R23: 691533.22 | S23: =R23/Q23 -> 498.94172 | T23: =Q23/$S$9 -> 0.18101084 | U23: =Q23-Q22 -> 156 | V23: 0
B24: =B23+1 -> 12 | C24: =3311+2675 -> 5986 | D24: =2040967.57+1597160.92 -> 3638128.5 | E24: =D24/C24 -> 607.77289 | F24: =C24/$E$9 -> 0.78176832 | G24: =(C24-C23) -> 95 | H24: =(D24-D23)/G24 -> 851.93779 | I24: 635.86 | J24: 2628 | K24: 1463267 | L24: =K24/J24 -> 556.79872 | M24: =J24/$L$9 -> 0.37998843 | N24: =(J24-J23) -> 245 | O24: =(K24-K23)/N24 -> 588.63657 | Q24: 1420 | R24: 718179.07 | S24: =R24/Q24 -> 505.75991 | T24: =Q24/$S$9 -> 0.18545122 | U24: =Q24-Q23 -> 34 | V24: =(R24-R23)/U24 -> 783.70147
B25: =B24+1 -> 13 | C25: =3194+2890 -> 6084 | D25: =2008521.3+1735514.43 -> 3744035.7 | E25: =D25/C25 -> 615.39049 | F25: =C25/$E$9 -> 0.79456706 | G25: =(C25-C24) -> 98 | H25: =(D25-D24)/G25 -> 1080.6861 | J25: 2761 | K25: 1556223.6 | L25: =K25/J25 -> 563.64492 | M25: =J25/$L$9 -> 0.3992192 | N25: =(J25-J24) -> 133 | O25: =(K25-K24)/N25 -> 698.9218 | Q25: 1456 | R25: 736253.85 | S25: =R25/Q25 -> 505.66885 | T25: =Q25/$S$9 -> 0.1901528 | U25: =Q25-Q24 -> 36 | V25: =(R25-R24)/U25 -> 502.07722
B26: =B25+1 -> 14 | C26: =3082+3088 -> 6170 | D26: =1965445+1864312.73 -> 3829757.7 | E26: =D26/C26 -> 620.70628 | F26: =C26/$E$9 -> 0.80579862 | G26: =(C26-C25) -> 86 | H26: =(D26-D25)/G26 -> 996.76744 | J26: 2816 | K26: 1589943.6 | L26: =K26/J26 -> 564.61066 | M26: =J26/$L$9 -> 0.40717178 | N26: =(J26-J25) -> 55 | O26: =(K26-K25)/N26 -> 613.09073 | Q26: 1488 | R26: 751053.85 | S26: =R26/Q26 -> 504.74049 | T26: =Q26/$S$9 -> 0.19433198 | U26: =Q26-Q25 -> 32 | V26: =(R26-R25)/U26 -> 462.5
B27: =B26+1 -> 15 | C27: =3302+2935 -> 6237 | D27: =1911231.37+1996518.98 -> 3907750.4 | E27: =D27/C27 -> 626.54327 | F27: =C27/$E$9 -> 0.81454878 | G27: =(C27-C26) -> 67 | H27: =(D27-D26)/G27 -> 1164.069 | J27: 2979 | K27: 1659579.9 | L27: =K27/J27 -> 557.09294 | M27: =J27/$L$9 -> 0.43074031 | N27: =(J27-J26) -> 163 | O27: =(K27-K26)/N27 -> 427.21626 | Q27: 1494 | R27: 753703.87 | S27: =R27/Q27 -> 504.4872 | T27: =Q27/$S$9 -> 0.19511558 | U27: =Q27-Q26 -> 6 | V27: =(R27-R26)/U27 -> 441.67
B28: =B27+1 -> 16 | C28: =2783+3527 -> 6310 | D28: =1811926.42+2150758.46 -> 3962684.9 | E28: =D28/C28 -> 628.00077 | F28: =C28/$E$9 -> 0.82408254 | G28: =(C28-C27) -> 73 | H28: =(D28-D27)/G28 -> 752.52781 | J28: 3087 | K28: 1738463.2 | L28: =K28/J28 -> 563.15621 | M28: =J28/$L$9 -> 0.44635628 | N28: =(J28-J27) -> 108 | O28: =(K28-K27)/N28 -> 730.4013 | Q28: 1517 | R28: 765470.59 | S28: =R28/Q28 -> 504.59498 | T28: =Q28/$S$9 -> 0.19811937 | U28: =Q28-Q27 -> 23 | V28: =(R28-R27)/U28 -> 511.59652
B29: =B28+1 -> 17 | C29: =2526+3765 -> 6291 | D29: =1676067.47+2314066.33 -> 3990133.8 | E29: =D29/C29 -> 634.26066 | F29: =C29/$E$9 -> 0.82160115 | G29: =(C29-C28) -> -19 | H29: =(D29-D28)/G29 -> -1444.68 | J29: 3284 | K29: 1844972.9 | L29: =K29/J29 -> 561.80661 | M29: =J29/$L$9 -> 0.47484095 | N29: =(J29-J28) -> 197 | O29: =(K29-K28)/N29 -> 540.65843 | Q29: 1568 | R29: 785615.6 | S29: =R29/Q29 -> 501.03036 | T29: =Q29/$S$9 -> 0.20477994 | U29: =Q29-Q28 -> 51 | V29: =(R29-R28)/U29 -> 395.0002
B30: =B29+1 -> 18 | C30: =2405+3956 -> 6361 | D30: =1646857.01+2454828.21 -> 4101685.2 | E30: =D30/C30 -> 644.81767 | F30: =C30/$E$9 -> 0.83074311 | G30: =(C30-C29) -> 70 | H30: =(D30-D29)/G30 -> 1593.5917 | J30: 3352 | K30: 1900737.3 | L30: =K30/J30 -> 567.04572 | M30: =J30/$L$9 -> 0.48467322 | N30: =(J30-J29) -> 68 | O30: =(K30-K29)/N30 -> 820.06382 | Q30: 1601 | R30: 809480.63 | S30: =R30/Q30 -> 505.60939 | T30: =Q30/$S$9 -> 0.20908972 | U30: =Q30-Q29 -> 33 | V30: =(R30-R29)/U30 -> 723.18273
B31: =B30+1 -> 19 | C31: =2301+4138 -> 6439 | D31: =1579682.37+2581867.31 -> 4161549.7 | E31: =D31/C31 -> 646.30372 | F31: =C31/$E$9 -> 0.84092987 | G31: =(C31-C30) -> 78 | H31: =(D31-D30)/G31 -> 767.49308 | J31: 3374 | K31: 1919785.9 | L31: =K31/J31 -> 568.99406 | M31: =J31/$L$9 -> 0.48785425 | N31: =(J31-J30) -> 22 | O31: =(K31-K30)/N31 -> 865.84955 | Q31: 1654 | R31: 812816.78 | S31: =R31/Q31 -> 491.4249 | T31: =Q31/$S$9 -> 0.21601149 | U31: =Q31-Q30 -> 53 | V31: =(R31-R30)/U31 -> 62.946226
B32: =B31+1 -> 20 | C32: 6431 | D32: 4176248.7 | E32: =D32/C32 -> 649.39336 | F32: =C32/$E$9 -> 0.83988507 | G32: =(C32-C31) -> -8 | H32: =(D32-D31)/G32 -> -1837.3775 | J32: 3475 | K32: 1990882.6 | L32: =K32/J32 -> 572.91586 | M32: =J32/$L$9 -> 0.50245807 | N32: =(J32-J31) -> 101 | O32: =(K32-K31)/N32 -> 703.92752 | Q32: 1707 | R32: 839555.59 | S32: =R32/Q32 -> 491.83104 | T32: =Q32/$S$9 -> 0.22293326 | U32: =Q32-Q31 -> 53 | V32: =(R32-R31)/U32 -> 504.50585
B33: =B32+1 -> 21 | C33: =1905+4505 -> 6410 | D33: =1347627.03+2846392.07 -> 4194019.1 | E33: =D33/C33 -> 654.29315 | F33: =C33/$E$9 -> 0.83714248 | G33: =(C33-C32) -> -21 | H33: =(D33-D32)/G33 -> -846.20952 | J33: 3486 | K33: 2000489.4 | L33: =K33/J33 -> 573.86384 | M33: =J33/$L$9 -> 0.50404858 | N33: =(J33-J32) -> 11 | O33: =(K33-K32)/N33 -> 873.33909 | Q33: 1707 | R33: 839555.59 | S33: =R33/Q33 -> 491.83104 | T33: =Q33/$S$9 -> 0.22293326 | U33: =Q33-Q32 -> 0 | V33: =(R33-R32)/U33 -> #DIV/0!
B34: =B33+1 -> 22 | C34: =1647+4726 -> 6373 | D34: =3018444.46+1170031.99 -> 4188476.5 | E34: =D34/C34 -> 657.2221 | F34: =C34/$E$9 -> 0.8323103 | G34: =(C34-C33) -> -37 | H34: =(D34-D33)/G34 -> 149.80135 | J34: 3511 | K34: 2020031.1 | L34: =K34/J34 -> 575.34351 | M34: =J34/$L$9 -> 0.50766339 | N34: =(J34-J33) -> 25 | O34: =(K34-K33)/N34 -> 781.6688 | Q34: 1723 | R34: 847597.27 | S34: =R34/Q34 -> 491.93109 | T34: =Q34/$S$9 -> 0.22502285 | U34: =Q34-Q33 -> 16 | V34: =(R34-R33)/U34 -> 502.605
B35: =B34+1 -> 23 | C35: =1480+4959 -> 6439 | D35: =1044830.95+3225187.75 -> 4270018.7 | E35: =D35/C35 -> 663.14936 | F35: =C35/$E$9 -> 0.84092987 | G35: =(C35-C34) -> 66 | H35: =(D35-D34)/G35 -> 1235.4886 | J35: 3795 | K35: 2203041.2 | L35: =K35/J35 -> 580.51151 | M35: =J35/$L$9 -> 0.54872759 | N35: =(J35-J34) -> 284 | O35: =(K35-K34)/N35 -> 644.40173 | Q35: 1761 | R35: 873397.29 | S35: =R35/Q35 -> 495.96666 | T35: =Q35/$S$9 -> 0.22998563 | U35: =Q35-Q34 -> 38 | V35: =(R35-R34)/U35 -> 678.94789
B36: =B35+1 -> 24 | C36: =1330+5201 -> 6531 | D36: =929397.91+3439162.43 -> 4368560.3 | E36: =D36/C36 -> 668.89609 | F36: =C36/$E$9 -> 0.85294502 | G36: =(C36-C35) -> 92 | H36: =(D36-D35)/G36 -> 1071.1048 | J36: 3894 | K36: 2271024.5 | L36: =K36/J36 -> 583.21122 | M36: =J36/$L$9 -> 0.56304222 | N36: =(J36-J35) -> 99 | O36: =(K36-K35)/N36 -> 686.7001 | Q36: 1808 | R36: 897837.4 | S36: =R36/Q36 -> 496.59148 | T36: =Q36/$S$9 -> 0.23612381 | U36: =Q36-Q35 -> 47 | V36: =(R36-R35)/U36 -> 520.00234
B37: =B36+1 -> 25 | C37: =1120+5446 -> 6566 | D37: =770559.42+3661595.81 -> 4432155.2 | E37: =D37/C37 -> 675.01603 | F37: =C37/$E$9 -> 0.857516 | G37: =(C37-C36) -> 35 | H37: =(D37-D36)/G37 -> 1816.9969 | J37: 4005 | K37: 2341015.9 | L37: =K37/J37 -> 584.52331 | M37: =J37/$L$9 -> 0.57909196 | N37: =(J37-J36) -> 111 | O37: =(K37-K36)/N37 -> 630.55306 | Q37: 1865 | R37: 927162.47 | S37: =R37/Q37 -> 497.13805 | T37: =Q37/$S$9 -> 0.24356798 | U37: =Q37-Q36 -> 57 | V37: =(R37-R36)/U37 -> 514.47491
B38: =B37+1 -> 26 | C38: =962+5693 -> 6655 | D38: =621076.62+3887435.63 -> 4508512.2 | E38: =D38/C38 -> 677.4624 | F38: =C38/$E$9 -> 0.86913935 | G38: =(C38-C37) -> 89 | H38: =(D38-D37)/G38 -> 857.94404 | J38: 4118 | K38: 2409937.9 | L38: =K38/J38 -> 585.22047 | M38: =J38/$L$9 -> 0.59543088 | N38: =(J38-J37) -> 113 | O38: =(K38-K37)/N38 -> 609.92929 | Q38: 1863 | R38: 927800.78 | S38: =R38/Q38 -> 498.01437 | T38: =Q38/$S$9 -> 0.24330678 | U38: =Q38-Q37 -> -2 | V38: =(R38-R37)/U38 -> -319.155
B39: =B38+1 -> 27 | C39: =753+5904 -> 6657 | D39: =465524.32+4095616.27 -> 4561140.6 | E39: =D39/C39 -> 685.16458 | F39: =C39/$E$9 -> 0.86940055 | G39: =(C39-C38) -> 2 | H39: =(D39-D38)/G39 -> 26314.17 | J39: 4132 | K39: 2405888.7 | L39: =K39/J39 -> 582.25768 | M39: =J39/$L$9 -> 0.59745518 | N39: =(J39-J38) -> 14 | O39: =(K39-K38)/N39 -> -289.22429 | Q39: 1883 | R39: 940859.13 | S39: =R39/Q39 -> 499.65965 | T39: =Q39/$S$9 -> 0.24591877 | U39: =Q39-Q38 -> 20 | V39: =(R39-R38)/-U39 -> -652.9175
B40: =B39+1 -> 28 | C40: =569+6089 -> 6658 | D40: =352159.43+4230705.05 -> 4582864.5 | E40: =D40/C40 -> 688.32449 | F40: =C40/$E$9 -> 0.86953115 | G40: =(C40-C39) -> 1 | H40: =(D40-D39)/G40 -> 21723.89 | J40: 4177 | K40: 2441550.1 | L40: =K40/J40 -> 584.5224 | M40: =J40/$L$9 -> 0.60396183 | N40: =(J40-J39) -> 45 | O40: =(K40-K39)/N40 -> 792.47422 | Q40: 1887 | R40: 943809.1 | S40: =R40/Q40 -> 500.1638 | T40: =Q40/$S$9 -> 0.24644116 | U40: =Q40-Q39 -> 4 | V40: =(R40-R39)/-U40 -> -737.4925
B41: =B40+1 -> 29 | C41: =6268+395 -> 6663 | D41: =4352903.14+244308.85 -> 4597212 | E41: =D41/C41 -> 689.96128 | F41: =C41/$E$9 -> 0.87018415 | G41: =(C41-C40) -> 5 | H41: =(D41-D40)/G41 -> 2869.502 | I41: 0 | J41: 4214 | K41: 2471883.1 | L41: =K41/J41 -> 586.58829 | M41: =J41/$L$9 -> 0.60931174 | N41: =(J41-J40) -> 37 | O41: =(K41-K40)/N41 -> 819.81054 | Q41: 1925 | R41: 964239.1 | S41: =R41/Q41 -> 500.90343 | T41: =Q41/$S$9 -> 0.25140394 | U41: =Q41-Q40 -> 38 | V41: =(R41-R40)/U41 -> 537.63158
B42: 30 | C42: =6452+216 -> 6668 | D42: =136204.15+4480391.43 -> 4616595.6 | E42: =D42/C42 -> 692.35087 | F42: =C42/$E$9 -> 0.87083714 | G42: =(C42-C41) -> 5 | H42: =(D42-D41)/G42 -> 3876.718 | Q42: 2078 | R42: 1049836.6 | S42: =R42/Q42 -> 505.21494 | T42: =Q42/$S$9 -> 0.27138566 | U42: =Q42-Q41 -> 153 | V42: =(R42-R41)/U42 -> 559.46105
B43: 31 | C43: 6676 | D43: 4638873.4 | E43: =D43/C43 -> 694.85821 | F43: =C43/$E$9 -> 0.87188194 | G43: =(C43-C42) -> 8 | H43: =(D43-D42)/G43 -> 2784.7275 | Q43: 2003 | R43: 1015732.5 | S43: =R43/Q43 -> 507.1056 | T43: =Q43/$S$9 -> 0.2615907 | U43: =Q43-Q42 -> -75 | V43: =(R43-R42)/U43 -> 454.7216

Sheet March,April,May
N3: Hotel Name :
N4: Date :
A6: June | B6: March | J6: April | Q6: May
C7: Budget Rm Nts | E7: 6765 | G7: Budget Avg | H7: 675.91 | J7: Budget Rm Nts | L7: 5805 | N7: Budget Avg | O7: 657.06 | Q7: Budget Rm Nts | S7: 6050 | U7: Budget Avg | V7: 554.09
C8: Budget Occ % | E8: 0.884 | F8: Budget Rm Rev | H8: 4572525 | J8: Budget Occ % | L8: 0.783 | M8: Budget Rm Rev | O8: 3814250 | P8: 0 | Q8: Budget Occ % | S8: 0.79 | T8: Budget Rm Rev | V8: 3352250
C9: Available Rms | E9: 7657 | J9: Available Rms | L9: 7410 | Q9: Available Rms | S9: =247*31 -> 7657
B10: Month of Mar,Apr, May
B11: Day of the Month | C11: Total Rooms On the Books for whole month | D11: Total Revenue On the Books for whole month | E11: Average Rate per Month | F11: Occ % for end of the Month | G11: Pick-Up Room Nights per Day | H11: Avg Rate Pick Up | J11: Total Rooms On the Books for whole month | K11: Total Revenue On the Books for whole month | L11: Average Rate per Month | M11: Occ % for end of the Month | N11: Pick-Up Room Nights per Day | O11: Avg Rate Pick Up | Q11: Total Rooms On the Books for whole month | R11: Total Revenue On the Books for whole month | S11: Average Rate per Month | T11: Occ % for end of the Month | U11: Pick-Up Room Nights per Day | V11: Avg Rate Pick up
C12: 304 | D12: 304 | E12: 304 | F12: 304 | G12: 304 | H12: 304 | I12: 304 | J12: 304 | K12: 304 | L12: 304 | M12: 304 | N12: 304 | O12: 304 | P12: 304 | Q12: 304 | R12: 304 | S12: 304 | T12: 304 | U12: 304 | V12: 304
B13: 1 | C13: =4451+238 -> 4689 | D13: =2454859.44+204780.86 -> 2659640.3 | E13: =D13/C13 -> 567.20842 | F13: =C13/$E$9 -> 0.61238083 | G13: 171 | H13: =-(D13-2610554.45)/-G13 -> 287.05175 | J13: 1868 | K13: 973623.69 | L13: =K13/J13 -> 521.21183 | M13: =J13/$L$9 -> 0.25209177 | N13: 10 | O13: =(K13-1015732.52)/N13 -> -4210.883 | Q13: 496 | R13: 253862.73 | S13: =R13/Q13 -> 511.82002 | T13: =Q13/$S$9 -> 0.064777328 | U13: 496 | V13: =(R13-R12)/U13 -> 511.20712
B14: =B13+1 -> 2 | C14: =442+4263 -> 4705 | D14: =2413377.24+370475.46 -> 2783852.7 | E14: =D14/C14 -> 591.67964 | F14: =C14/$E$9 -> 0.61447042 | G14: =(C14-C13) -> 16 | H14: =(D14-D13)/G14 -> 7763.275 | J14: 1885 | K14: 982440.37 | L14: =K14/J14 -> 521.18853 | M14: =J14/$L$9 -> 0.25438596 | N14: =(J14-J13) -> 17 | O14: =-(K14-K13)/-N14 -> 518.62824 | Q14: 498 | R14: 254854.39 | S14: =R14/Q14 -> 511.7558 | T14: =Q14/$S$9 -> 0.065038527 | U14: =Q14-Q13 -> 2 | V14: =(R14-R13)/U14 -> 495.83
B15: =B14+1 -> 3 | C15: =4140+678 -> 4818 | D15: =2353951.67+523004.41 -> 2876956.1 | E15: =D15/C15 -> 597.12663 | F15: =C15/$E$9 -> 0.62922816 | G15: =(C15-C14) -> 113 | H15: =(D15-D14)/G15 -> 823.92372 | J15: 2081 | K15: 1102245.4 | L15: =K15/J15 -> 529.67101 | M15: =J15/$L$9 -> 0.28083671 | N15: =(J15-J14) -> 196 | O15: =-(K15-K14)/-N15 -> 611.25 | Q15: 498 | R15: 254854.39 | S15: =R15/Q15 -> 511.7558 | T15: =Q15/$S$9 -> 0.065038527 | U15: =Q15-Q14 -> 0 | V15: =(R15-R14)/U15 -> #DIV/0!
B16: 4 | C16: =915+3905 -> 4820 | D16: =2229789.54+665911.77 -> 2895701.3 | E16: =D16/C16 -> 600.76791 | F16: =C16/$E$9 -> 0.62948936 | G16: =(C16-C15) -> 2 | H16: =(D16-D15)/G16 -> 9372.615 | J16: 2102 | K16: 1116398.8 | L16: =K16/J16 -> 531.11263 | M16: =J16/$L$9 -> 0.28367072 | N16: =(J16-J15) -> 21 | O16: =-(K16-K15)/-N16 -> 673.97048 | Q16: 498 | R16: 254854.39 | S16: =R16/Q16 -> 511.7558 | T16: =Q16/$S$9 -> 0.065038527 | U16: =Q16-Q15 -> 0 | V16: =(R16-R15)/U16 -> #DIV/0!
B17: =B16+1 -> 5 | C17: =1150+3669 -> 4819 | D17: =2118121.52+804936.34 -> 2923057.9 | E17: =D17/C17 -> 606.56938 | F17: =C17/$E$9 -> 0.62935876 | G17: =(C17-C16) -> -1 | H17: =(D17-D16)/G17 -> -27356.55 | J17: 2105 | K17: 1118348.8 | L17: =K17/J17 -> 531.28207 | M17: =J17/$L$9 -> 0.28407557 | N17: =(J17-J16) -> 3 | O17: =(K17-K16)/N17 -> 650 | Q17: 498 | R17: 254854.39 | S17: =R17/Q17 -> 511.7558 | T17: =Q17/$S$9 -> 0.065038527 | U17: =Q17-Q16 -> 0 | V17: =(R17-R16)/-U17 -> #DIV/0!
B18: =B17+1 -> 6 | C18: =3727+1355 -> 5082 | D18: =2100086.8+938788.88 -> 3038875.7 | E18: =D18/C18 -> 597.96845 | F18: =C18/$E$9 -> 0.66370641 | G18: =(C18-C17) -> 263 | H18: =(D18-D17)/G18 -> 440.37194 | I18: 0 | J18: 2149 | K18: 1147615.4 | L18: =K18/J18 -> 534.02297 | M18: =J18/$L$9 -> 0.2900135 | N18: =(J18-J17) -> 44 | O18: =(K18-K17)/N18 -> 665.15045 | Q18: 502 | R18: 258014.39 | S18: =R18/Q18 -> 513.97289 | T18: =Q18/$S$9 -> 0.065560925 | U18: =Q18-Q17 -> 4 | V18: =(R18-R17)/U18 -> 790
B19: =B18+1 -> 7 | C19: =3788+1592 -> 5380 | D19: =1096862.22+2146654.61 -> 3243516.8 | E19: =D19/C19 -> 602.88417 | F19: =C19/$E$9 -> 0.70262505 | G19: =(C19-C18) -> 298 | H19: =(D19-D18)/G19 -> 686.71527 | J19: 2350 | K19: 1213178.2 | L19: =K19/J19 -> 516.24604 | M19: =J19/$L$9 -> 0.317139 | N19: =(J19-J18) -> 201 | O19: =-(K19-K18)/-N19 -> 326.18318 | Q19: 806 | R19: 367564.39 | S19: =R19/Q19 -> 456.03522 | T19: =Q19/$S$9 -> 0.10526316 | U19: =Q19-Q18 -> 304 | V19: =(R19-R18)/U19 -> 360.36184
B20: =B19+1 -> 8 | C20: =1820+3757 -> 5577 | D20: =2131042.74+1254828.32 -> 3385871.1 | E20: =D20/C20 -> 607.11333 | F20: =C20/$E$9 -> 0.72835314 | G20: =(C20-C19) -> 197 | H20: =(D20-D19)/G20 -> 722.6103 | J20: 2416 | K20: 1296007.7 | L20: =K20/J20 -> 536.42701 | M20: =J20/$L$9 -> 0.32604588 | N20: =(J20-J19) -> 66 | O20: =(K20-K19)/N20 -> 1254.992 | Q20: 811 | R20: 370453.39 | S20: =R20/Q20 -> 456.78593 | T20: =Q20/$S$9 -> 0.10591616 | U20: =Q20-Q19 -> 5 | V20: =(R20-R19)/U20 -> 577.8
B21: =B20+1 -> 9 | C21: =2024+3497 -> 5521 | D21: =1402084.87+1960594.4 -> 3362679.3 | E21: =D21/C21 -> 609.07069 | F21: =C21/$E$9 -> 0.72103957 | G21: =(C21-C20) -> -56 | H21: =(D21-D20)/G21 -> 414.13911 | J21: 2437 | K21: 1304732.7 | L21: =K21/J21 -> 535.38478 | M21: =J21/$L$9 -> 0.32887989 | N21: =(J21-J20) -> 21 | O21: =(K21-K20)/N21 -> 415.47857 | Q21: 846 | R21: 385878.39 | S21: =R21/Q21 -> 456.12103 | T21: =Q21/$S$9 -> 0.11048714 | U21: =Q21-Q20 -> 35 | V21: =(R21-R20)/U21 -> 440.71429
B22: =B21+1 -> 10 | C22: =2209+3467 -> 5676 | D22: =1547623.52+1926432.2 -> 3474055.7 | E22: =D22/C22 -> 612.06056 | F22: =C22/$E$9 -> 0.74128249 | G22: =(C22-C21) -> 155 | H22: =(D22-D21)/G22 -> 718.55774 | J22: 2600 | K22: 1375815.5 | L22: =K22/J22 -> 529.15982 | M22: =J22/$L$9 -> 0.35087719 | N22: =(J22-J21) -> 163 | O22: =(K22-K21)/N22 -> 436.09098 | Q22: 962 | R22: 431168.7 | S22: =R22/Q22 -> 448.20031 | T22: =Q22/$S$9 -> 0.12563667 | U22: =Q22-Q21 -> 116 | V22: =(R22-R21)/U22 -> 390.43371
B23: =B22+1 -> 11 | C23: =2378+3323 -> 5701 | D23: =1838519.59+1661230.4 -> 3499750 | E23: =D23/C23 -> 613.88353 | F23: =C23/$E$9 -> 0.74454747 | G23: =(C23-C22) -> 25 | H23: =(D23-D22)/G23 -> 1027.7708 | J23: 2650 | K23: 1397402.3 | L23: =K23/J23 -> 527.32163 | M23: =J23/$L$9 -> 0.35762483 | N23: =(J23-J22) -> 50 | O23: =(K23-K22)/N23 -> 431.7358 | Q23: 962 | R23: 430538.7 | S23: =R23/Q23 -> 447.54543 | T23: =Q23/$S$9 -> 0.12563667 | U23: =Q23-Q22 -> 0 | V23: 0
B24: =B23+1 -> 12 | C24: =3259+2514 -> 5773 | D24: =1759053.23+1816600.68 -> 3575653.9 | E24: =D24/C24 -> 619.37535 | F24: =C24/$E$9 -> 0.75395063 | G24: =(C24-C23) -> 72 | H24: =(D24-D23)/G24 -> 1054.2211 | I24: 635.86 | J24: 2734 | K24: 1455427.4 | L24: =K24/J24 -> 532.34358 | M24: =J24/$L$9 -> 0.36896086 | N24: =(J24-J23) -> 84 | O24: =(K24-K23)/N24 -> 690.77417 | Q24: 962 | R24: 430538.7 | S24: =R24/Q24 -> 447.54543 | T24: =Q24/$S$9 -> 0.12563667 | U24: 0 | V24: =(R24-R23)/U24 -> #DIV/0!
B25: =B24+1 -> 13 | C25: =2731+3026 -> 5757 | D25: =1899924.09+1679901.23 -> 3579825.3 | E25: =D25/C25 -> 621.82132 | F25: =C25/$E$9 -> 0.75186104 | G25: =(C25-C24) -> -16 | H25: =(D25-D24)/G25 -> -260.71313 | J25: 2853 | K25: 1520319 | L25: =K25/J25 -> 532.88432 | M25: =J25/$L$9 -> 0.38502024 | N25: =(J25-J24) -> 119 | O25: =(K25-K24)/N25 -> 545.30765 | Q25: 977 | R25: 439130.32 | S25: =R25/Q25 -> 449.46809 | T25: =Q25/$S$9 -> 0.12759566 | U25: =Q25-Q24 -> 15 | V25: =(R25-R24)/U25 -> 572.77467
B26: =B25+1 -> 14 | C26: =2971+2819 -> 5790 | D26: =1580689+2067680.47 -> 3648369.5 | E26: =D26/C26 -> 630.11563 | F26: =C26/$E$9 -> 0.75617082 | G26: =(C26-C25) -> 33 | H26: =(D26-D25)/G26 -> 2077.0955 | J26: 2911 | K26: 1553571.6 | L26: =K26/J26 -> 533.69001 | M26: =J26/$L$9 -> 0.3928475 | N26: =(J26-J25) -> 58 | O26: =(K26-K25)/N26 -> 573.32172 | Q26: 977 | R26: 439130.32 | S26: =R26/Q26 -> 449.46809 | T26: =Q26/$S$9 -> 0.12759566 | U26: =Q26-Q25 -> 0 | V26: =(R26-R25)/U26 -> #DIV/0!
B27: =B26+1 -> 15 | C27: =3209+2549 -> 5758 | D27: =154719.7+3445553.61 -> 3600273.3 | E27: =D27/C27 -> 625.26456 | F27: =C27/$E$9 -> 0.75199164 | G27: =(C27-C26) -> -32 | H27: =(D27-D26)/G27 -> 1503.005 | J27: 2563 | K27: 1376385.2 | L27: =K27/J27 -> 537.02114 | M27: =J27/$L$9 -> 0.34588394 | N27: =(J27-J26) -> -348 | O27: =(K27-K26)/N27 -> 509.15644 | Q27: 1460 | R27: 692488.65 | S27: =R27/Q27 -> 474.30729 | T27: =Q27/$S$9 -> 0.1906752 | U27: =Q27-Q26 -> 483 | V27: =(R27-R26)/U27 -> 524.55141
B28: =B27+1 -> 16 | C28: =2467+3456 -> 5923 | D28: =1391726.33+2381745.73 -> 3773472.1 | E28: =D28/C28 -> 637.08797 | F28: =C28/$E$9 -> 0.77354055 | G28: =(C28-C27) -> 165 | H28: =(D28-D27)/G28 -> 1049.6894 | J28: 2713 | K28: 1449813.8 | L28: =K28/J28 -> 534.39505 | M28: =J28/$L$9 -> 0.36612686 | N28: =(J28-J27) -> 150 | O28: =(K28-K27)/N28 -> 489.52387 | Q28: 1474 | R28: 680448.63 | S28: =R28/Q28 -> 461.63408 | T28: =Q28/$S$9 -> 0.19250359 | U28: =Q28-Q27 -> 14 | V28: =(R28-R27)/U28 -> -860.00143
B29: =B28+1 -> 17 | C29: =3696+2168 -> 5864 | D29: =2549393.82+1228398.54 -> 3777792.4 | E29: =D29/C29 -> 644.23471 | F29: =C29/$E$9 -> 0.76583518 | G29: =(C29-C28) -> -59 | H29: =(D29-D28)/G29 -> -73.225424 | J29: 2678 | K29: 1433314.1 | L29: =K29/J29 -> 535.21809 | M29: =J29/$L$9 -> 0.36140351 | N29: =(J29-J28) -> -35 | O29: =(K29-K28)/N29 -> 471.42057 | Q29: 1427 | R29: 662640.12 | S29: =R29/Q29 -> 464.35888 | T29: =Q29/$S$9 -> 0.18636542 | U29: =Q29-Q28 -> -47 | V29: =(R29-R28)/U29 -> 378.90447
B30: =B29+1 -> 18 | C30: =2039+3868 -> 5907 | D30: =2660119.53+1161783.8 -> 3821903.3 | E30: =D30/C30 -> 647.01258 | F30: =C30/$E$9 -> 0.77145096 | G30: =(C30-C29) -> 43 | H30: =(D30-D29)/G30 -> 1025.8365 | J30: 2733 | K30: 1467095.7 | L30: =K30/J30 -> 536.8078 | M30: =J30/$L$9 -> 0.36882591 | N30: =(J30-J29) -> 55 | O30: =(K30-K29)/N30 -> 614.212 | Q30: 1428 | R30: 663128.12 | S30: =R30/Q30 -> 464.37543 | T30: =Q30/$S$9 -> 0.18649602 | U30: =Q30-Q29 -> 1 | V30: =(R30-R29)/U30 -> 488
B31: =B30+1 -> 19 | C31: =4048+1875 -> 5923 | D31: =1079397.35+2776241.26 -> 3855638.6 | E31: =D31/C31 -> 650.96043 | F31: =C31/$E$9 -> 0.77354055 | G31: =(C31-C30) -> 16 | H31: =(D31-D30)/G31 -> 2108.455 | J31: 2779 | K31: 1504179 | L31: =K31/J31 -> 541.26628 | M31: =J31/$L$9 -> 0.37503374 | N31: =(J31-J30) -> 46 | O31: =(K31-K30)/N31 -> 806.15826 | Q31: 1429 | R31: 664078.12 | S31: =R31/Q31 -> 464.71527 | T31: =Q31/$S$9 -> 0.18662662 | U31: =Q31-Q30 -> 1 | V31: =(R31-R30)/U31 -> 950
B32: =B31+1 -> 20 | C32: =1871+4207 -> 6078 | D32: =1092579.71+2891075.8 -> 3983655.5 | E32: =D32/C32 -> 655.4221 | F32: =C32/$E$9 -> 0.79378347 | G32: =(C32-C31) -> 155 | H32: =(D32-D31)/G32 -> 825.91548 | J32: 2878 | K32: 1557516.5 | L32: =K32/J32 -> 541.18016 | M32: =J32/$L$9 -> 0.38839406 | N32: =(J32-J31) -> 99 | O32: =(K32-K31)/N32 -> 538.76283 | Q32: 1489 | R32: 682944.92 | S32: =R32/Q32 -> 458.66012 | T32: =Q32/$S$9 -> 0.19446258 | U32: =Q32-Q31 -> 60 | V32: =(R32-R31)/U32 -> 314.44667
B33: =B32+1 -> 21 | C33: =1682+4416 -> 6098 | D33: =3046443.8+984585.79 -> 4031029.6 | E33: =D33/C33 -> 661.04126 | F33: =C33/$E$9 -> 0.79639546 | G33: =(C33-C32) -> 20 | H33: =(D33-D32)/G33 -> 2368.704 | J33: 2967 | K33: 1614378.3 | L33: =K33/J33 -> 544.11131 | M33: =J33/$L$9 -> 0.40040486 | N33: =(J33-J32) -> 89 | O33: =(K33-K32)/N33 -> 638.89618 | Q33: 1519 | R33: 697653.32 | S33: =R33/Q33 -> 459.28461 | T33: =Q33/$S$9 -> 0.19838057 | U33: =Q33-Q32 -> 30 | V33: =(R33-R32)/U33 -> 490.28
B34: =B33+1 -> 22 | C34: =4654+1489 -> 6143 | D34: =893632.26+3216552.39 -> 4110184.7 | E34: =D34/C34 -> 669.08427 | F34: =C34/$E$9 -> 0.80227243 | G34: =(C34-C33) -> 45 | H34: =(D34-D33)/G34 -> 1759.0013 | J34: 3031 | K34: 1665917.6 | L34: =K34/J34 -> 549.62641 | M34: =J34/$L$9 -> 0.40904184 | N34: =(J34-J33) -> 64 | O34: =(K34-K33)/N34 -> 805.30266 | Q34: 1528 | R34: 703461.66 | S34: =R34/Q34 -> 460.38067 | T34: =Q34/$S$9 -> 0.19955596 | U34: =Q34-Q33 -> 9 | V34: =(R34-R33)/U34 -> 645.37111
B35: =B34+1 -> 23 | C35: =4893+1334 -> 6227 | D35: =3386126.84+820707.97 -> 4206834.8 | E35: =D35/C35 -> 675.5797 | F35: =C35/$E$9 -> 0.81324278 | G35: =(C35-C34) -> 84 | H35: =(D35-D34)/G35 -> 1150.5971 | J35: 3167 | K35: 1709381.8 | L35: =K35/J35 -> 539.74796 | M35: =J35/$L$9 -> 0.42739541 | N35: =(J35-J34) -> 136 | O35: =(K35-K34)/N35 -> 319.58926 | Q35: 1534 | R35: 708111.66 | S35: =R35/Q35 -> 461.61125 | T35: =Q35/$S$9 -> 0.20033956 | U35: =Q35-Q34 -> 6 | V35: =(R35-R34)/U35 -> 775
B36: =B35+1 -> 24 | C36: =1216+5126 -> 6342 | D36: =3551134.93+752869.68 -> 4304004.6 | E36: =D36/C36 -> 678.65099 | F36: =C36/$E$9 -> 0.82826172 | G36: =(C36-C35) -> 115 | H36: =(D36-D35)/G36 -> 844.95478 | J36: 3352 | K36: 1809467 | L36: =K36/J36 -> 539.81712 | M36: =J36/$L$9 -> 0.45236167 | N36: =(J36-J35) -> 185 | O36: =(K36-K35)/N36 -> 541.00103 | Q36: 1538 | R36: 714194.86 | S36: =R36/Q36 -> 464.36597 | T36: =Q36/$S$9 -> 0.20086196 | U36: =Q36-Q35 -> 4 | V36: =(R36-R35)/U36 -> 1520.8
B37: =B36+1 -> 25 | C37: =5340+1044 -> 6384 | D37: =649536.51+3708103.51 -> 4357640 | E37: =D37/C37 -> 682.58772 | F37: =C37/$E$9 -> 0.8337469 | G37: =(C37-C36) -> 42 | H37: =(D37-D36)/G37 -> 1277.0336 | J37: 3412 | K37: 1856667 | L37: =K37/J37 -> 544.15798 | M37: =J37/$L$9 -> 0.46045884 | N37: =(J37-J36) -> 60 | O37: =(K37-K36)/N37 -> 786.6675 | Q37: 1553 | R37: 723178.16 | S37: =R37/Q37 -> 465.66527 | T37: =Q37/$S$9 -> 0.20282095 | U37: =Q37-Q36 -> 15 | V37: =(R37-R36)/U37 -> 598.88667
B38: =B37+1 -> 26 | C38: =5521+855 -> 6376 | D38: =3830510.94+536330.77 -> 4366841.7 | E38: =D38/C38 -> 684.88734 | F38: =C38/$E$9 -> 0.8327021 | G38: =(C38-C37) -> -8 | H38: =(D38-D37)/G38 -> -1150.2113 | J38: 3412 | K38: 1862044.6 | L38: =K38/J38 -> 545.73407 | M38: =J38/$L$9 -> 0.46045884 | N38: =(J38-J37) -> 0 | O38: =(K38-K37)/N38 -> #DIV/0! | Q38: 1605 | R38: 741938.18 | S38: =R38/Q38 -> 462.26678 | T38: =Q38/$S$9 -> 0.20961212 | U38: =Q38-Q37 -> 52 | V38: =(R38-R37)/U38 -> 360.76962
B39: =B38+1 -> 27 | C39: =5680+708 -> 6388 | D39: =452577.19+3943715.26 -> 4396292.5 | E39: =D39/C39 -> 688.21109 | F39: =C39/$E$9 -> 0.8342693 | G39: =(C39-C38) -> 12 | H39: =(D39-D38)/G39 -> 2454.2283 | J39: 3561 | K39: 1956688.5 | L39: =K39/J39 -> 549.47724 | M39: =J39/$L$9 -> 0.4805668 | N39: =(J39-J38) -> 149 | O39: =(K39-K38)/N39 -> 635.19349 | Q39: 1607 | R39: 742821.52 | S39: =R39/Q39 -> 462.24114 | T39: =Q39/$S$9 -> 0.20987332 | U39: =Q39-Q38 -> 2 | V39: =(R39-R38)/-U39 -> -441.67
B40: =B39+1 -> 28 | C40: =5873+570 -> 6443 | D40: =4085607.95+363733.55 -> 4449341.5 | E40: =D40/C40 -> 690.56984 | F40: =C40/$E$9 -> 0.84145227 | G40: =(C40-C39) -> 55 | H40: =(D40-D39)/G40 -> 964.52818 | J40: 3850 | K40: 2125117.6 | L40: =K40/J40 -> 551.9786 | M40: =J40/$L$9 -> 0.51956815 | N40: =(J40-J39) -> 289 | O40: =(K40-K39)/N40 -> 582.79979 | Q40: 1610 | R40: 743904.86 | S40: =R40/Q40 -> 462.05271 | T40: =Q40/$S$9 -> 0.21026512 | U40: =Q40-Q39 -> 3 | V40: =(R40-R39)/-U40 -> -361.11333
B41: =B40+1 -> 29 | C41: =6076+390 -> 6466 | D41: =244263.5+4239362.38 -> 4483625.9 | E41: =D41/C41 -> 693.41569 | F41: =C41/$E$9 -> 0.84445605 | G41: =(C41-C40) -> 23 | H41: =(D41-D40)/G41 -> 1490.6252 | I41: 0 | J41: 4040 | K41: 2220939.2 | L41: =K41/J41 -> 549.73742 | M41: =J41/$L$9 -> 0.54520918 | N41: =(J41-J40) -> 190 | O41: =(K41-K40)/N41 -> 504.32405 | Q41: 1619 | R41: 750254.86 | S41: =R41/Q41 -> 463.40634 | T41: =Q41/$S$9 -> 0.21144051 | U41: =Q41-Q40 -> 9 | V41: =(R41-R40)/U41 -> 705.55556
B42: 30 | C42: =190+6286 -> 6476 | D42: =115180.14+4408021.82 -> 4523202 | E42: =D42/C42 -> 698.45614 | F42: =C42/$E$9 -> 0.84576205 | G42: =(C42-C41) -> 10 | H42: =(D42-D41)/G42 -> 3957.608 | J42: 4211 | K42: 2324652.2 | L42: =K42/J42 -> 552.0428 | M42: =J42/$L$9 -> 0.5682861 | N42: =(J42-J41) -> 171 | O42: =(K42-K41)/N42 -> 606.50924 | Q42: 1649 | R42: 764454.94 | S42: =R42/Q42 -> 463.58699 | T42: =Q42/$S$9 -> 0.2153585 | U42: =Q42-Q41 -> 30 | V42: =(R42-R41)/U42 -> 473.336
B43: 31 | C43: 6495 | D43: 4575375.4 | E43: =D43/C43 -> 704.44578 | F43: =C43/$E$9 -> 0.84824344 | G43: =(C43-C42) -> 19 | H43: =(D43-D42)/G43 -> 2745.9689 | J43: 4276 | K43: 2357750.6 | L43: =K43/J43 -> 551.39163 | M43: =J43/$L$9 -> 0.57705803 | N43: =(J43-J42) -> 65 | O43: =(K43-K42)/N43 -> 509.20523 | Q43: 1655 | R43: 768338.28 | S43: =R43/Q43 -> 464.25274 | T43: =Q43/$S$9 -> 0.21614209 | U43: =Q43-Q42 -> 6 | V43: =(R43-R42)/U43 -> 647.22333

Sheet April,May, June
N4: Hotel Name :
N5: Date :
A8: June | B8: April | J8: May | Q8: June
C9: Budget Rm Nts | E9: 5805 | G9: Budget Avg | H9: 657.06 | J9: Budget Rm Nts | L9: 6050 | N9: Budget Avg | O9: 554.09 | Q9: Budget Rm Nts | S9: 5820 | U9: Budget Avg | V9: 456.45
C10: Budget Occ % | E10: 0.783 | F10: Budget Rm Rev | H10: 3814250 | J10: Budget Occ % | L10: 0.79 | M10: Budget Rm Rev | O10: 3352250 | Q10: Budget Occ % | S10: 0.785 | T10: Budget Rm Rev | V10: 2656525
C11: Available Rms | E11: 7410 | J11: Available Rms | L11: =247*31 -> 7657 | Q11: Available Rms | S11: 7410
B12: Month of Mar,Apr, May
B13: Day of the Month | C13: Total Rooms On the Books for whole month | D13: Total Revenue On the Books for whole month | E13: Average Rate per Month | F13: Occ % for end of the Month | G13: Pick-Up Room Nights per Day | H13: Avg Rate Pick Up | J13: Total Rooms On the Books for whole month | K13: Total Revenue On the Books for whole month | L13: Average Rate per Month | M13: Occ % for end of the Month | N13: Pick-Up Room Nights per Day | O13: Avg Rate Pick Up | Q13: Total Rooms On the Books for whole month | R13: Total Revenue On the Books for whole month | S13: Average Rate per Month | T13: Occ % for end of the Month | U13: Pick-Up Room Nights per Day | V13: Avg Rate Pick up
C14: 304 | D14: 304 | E14: 304 | F14: 304 | G14: 304 | H14: 304 | I14: 304 | J14: 304 | K14: 304 | L14: 304 | M14: 304 | N14: 304 | O14: 304 | P14: 304 | Q14: 304 | R14: 304 | S14: 304 | T14: 304 | U14: 304 | V14: 304
B15: 1 | C15: =4169+216 -> 4385 | D15: =2306974.83+146376.21 -> 2453351 | E15: =D15/C15 -> 559.48712 | F15: =C15/$E$11 -> 0.59176788 | G15: 109 | H15: 877.068 | J15: 1660 | K15: 769188.28 | L15: =K15/J15 -> 463.36643 | M15: =J15/$L$11 -> 0.21679509 | N15: 5 | O15: 170 | Q15: 477 | R15: 125697.57 | S15: =R15/Q15 -> 263.51692 | T15: =Q15/$S$11 -> 0.06437247 | U15: 5 | V15: 620
B16: =B15+1 -> 2 | C16: =4188+394 -> 4582 | D16: =2340333.17+259893.45 -> 2600226.6 | E16: =D16/C16 -> 567.48726 | F16: =C16/$E$11 -> 0.61835358 | G16: =(C16-C15) -> 197 | H16: =(D16-D15)/G16 -> 745.56132 | J16: 1676 | K16: 774605.35 | L16: =K16/J16 -> 462.17503 | M16: =J16/$L$11 -> 0.21888468 | N16: =(J16-J15) -> 16 | O16: =-(K16-K15)/-N16 -> 338.56687 | Q16: 480 | R16: 126782.57 | S16: =R16/Q16 -> 264.13035 | T16: =Q16/$S$11 -> 0.064777328 | U16: =Q16-Q15 -> 3 | V16: =(R16-R15)/U16 -> 361.66667
B17: =B16+1 -> 3 | C17: =548+4104 -> 4652 | D17: =364596.15+2353338.32 -> 2717934.5 | E17: =D17/C17 -> 584.25075 | F17: =C17/$E$11 -> 0.62780027 | G17: =(C17-C16) -> 70 | H17: =(D17-D16)/G17 -> 1681.5407 | J17: 1684 | K17: 779138.65 | L17: =K17/J17 -> 462.67141 | M17: =J17/$L$11 -> 0.21992948 | N17: =(J17-J16) -> 8 | O17: =-(K17-K16)/-N17 -> 566.6625 | Q17: 480 | R17: 126782.57 | S17: =R17/Q17 -> 264.13035 | T17: =Q17/$S$11 -> 0.064777328 | U17: 0 | V17: 0
B18: 4 | C18: =3908+744 -> 4652 | D18: =2258580.62+505584.48 -> 2764165.1 | E18: =D18/C18 -> 594.18854 | F18: =C18/$E$11 -> 0.62780027 | G18: =(C18-C17) -> 0 | H18: 0 | J18: 1701 | K18: 787609.49 | L18: =K18/J18 -> 463.02733 | M18: =J18/$L$11 -> 0.22214967 | N18: =(J18-J17) -> 17 | O18: =-(K18-K17)/-N18 -> 498.28471 | Q18: 480 | R18: 126782.57 | S18: =R18/Q18 -> 264.13035 | T18: =Q18/$S$11 -> 0.064777328 | U18: 0 | V18: 0
B19: =B18+1 -> 5 | C19: =973+3755 -> 4728 | D19: =2163134.6+663146.41 -> 2826281 | E19: =D19/C19 -> 597.77517 | F19: =C19/$E$11 -> 0.63805668 | G19: =(C19-C18) -> 76 | H19: =(D19-D18)/G19 -> 817.31461 | J19: 1718 | K19: 799392.86 | L19: =K19/J19 -> 465.30434 | M19: =J19/$L$11 -> 0.22436986 | N19: =(J19-J18) -> 17 | O19: =(K19-K18)/N19 -> 693.13941 | Q19: 482 | R19: 127277.57 | S19: =R19/Q19 -> 264.06135 | T19: =Q19/$S$11 -> 0.065047233 | U19: =Q19-Q18 -> 2 | V19: =(R19-R18)/U19 -> 247.5
B20: =B19+1 -> 6 | C20: =1210+3632 -> 4842 | D20: =2149818.7+839982.57 -> 2989801.3 | E20: =D20/C20 -> 617.47238 | F20: =C20/$E$11 -> 0.6534413 | G20: =(C20-C19) -> 114 | H20: =(D20-D19)/G20 -> 1434.3882 | I20: 0 | J20: 1750 | K20: 813378.71 | L20: =K20/J20 -> 464.78783 | M20: =J20/$L$11 -> 0.22854904 | N20: =(J20-J19) -> 32 | O20: =(K20-K19)/N20 -> 437.05781 | Q20: 485 | R20: 127827.57 | S20: =R20/Q20 -> 263.562 | T20: =Q20/$S$11 -> 0.065452092 | U20: =Q20-Q19 -> 3 | V20: =(R20-R19)/U20 -> 183.33333
B21: =B20+1 -> 7 | C21: =3609+1457 -> 5066 | D21: =2139687.88+1022498.16 -> 3162186 | E21: =D21/C21 -> 624.1978 | F21: =C21/$E$11 -> 0.68367072 | G21: =(C21-C20) -> 224 | H21: =(D21-D20)/G21 -> 769.57487 | J21: 1734 | K21: 819770.38 | L21: =K21/J21 -> 472.76262 | M21: =J21/$L$11 -> 0.22645945 | N21: =(J21-J20) -> -16 | O21: =-(K21-K20)/-N21 -> -399.47938 | Q21: 485 | R21: 127827.57 | S21: =R21/Q21 -> 263.562 | T21: =Q21/$S$11 -> 0.065452092 | U21: 0 | V21: 0
B22: =B21+1 -> 8 | C22: =3431+1689 -> 5120 | D22: =2005643.89+1211444.68 -> 3217088.6 | E22: =D22/C22 -> 628.33761 | F22: =C22/$E$11 -> 0.69095816 | G22: =(C22-C21) -> 54 | H22: =(D22-D21)/G22 -> 1016.7135 | J22: 1804 | K22: 851599.69 | L22: =K22/J22 -> 472.06191 | M22: =J22/$L$11 -> 0.23560141 | N22: =(J22-J21) -> 70 | O22: =(K22-K21)/N22 -> 454.70443 | Q22: 493 | R22: 130650.97 | S22: =R22/Q22 -> 265.01211 | T22: =Q22/$S$11 -> 0.066531714 | U22: =Q22-Q21 -> 8 | V22: =(R22-R21)/U22 -> 352.925
B23: =B22+1 -> 9 | C23: =3251+1901 -> 5152 | D23: =1905228.96+1376923.31 -> 3282152.3 | E23: =D23/C23 -> 637.06372 | F23: =C23/$E$11 -> 0.69527665 | G23: =(C23-C22) -> 32 | H23: =(D23-D22)/G23 -> 2033.2406 | J23: 1833 | K23: 859665.53 | L23: =K23/J23 -> 468.99374 | M23: =J23/$L$11 -> 0.23938879 | N23: =(J23-J22) -> 29 | O23: =(K23-K22)/N23 -> 278.13241 | Q23: 493 | R23: 130650.97 | S23: =R23/Q23 -> 265.01211 | T23: =Q23/$S$11 -> 0.066531714 | U23: 0 | V23: 0
B24: =B23+1 -> 10 | C24: =3086+2135 -> 5221 | D24: =1566164.81+1745254.82 -> 3311419.6 | E24: =D24/C24 -> 634.25007 | F24: =C24/$E$11 -> 0.70458839 | G24: =(C24-C23) -> 69 | H24: =(D24-D23)/G24 -> 424.16464 | J24: 1855 | K24: 871546.31 | L24: =K24/J24 -> 469.83629 | M24: =J24/$L$11 -> 0.24226198 | N24: =(J24-J23) -> 22 | O24: =(K24-K23)/N24 -> 540.03545 | Q24: 526 | R24: 143045.97 | S24: =R24/Q24 -> 271.95051 | T24: =Q24/$S$11 -> 0.070985155 | U24: =Q24-Q23 -> 33 | V24: =(R24-R23)/U24 -> 375.60606
B25: =B24+1 -> 11 | C25: =2382+3135 -> 5517 | D25: =1762798.02+1762529.57 -> 3525327.6 | E25: =D25/C25 -> 638.99358 | F25: =C25/$E$11 -> 0.74453441 | G25: =(C25-C24) -> 296 | H25: =(D25-D24)/G25 -> 722.66203 | J25: 1965 | K25: 937119.36 | L25: =K25/J25 -> 476.90553 | M25: =J25/$L$11 -> 0.25662792 | N25: =(J25-J24) -> 110 | O25: =(K25-K24)/N25 -> 596.11864 | Q25: 556 | R25: 158045.97 | S25: =R25/Q25 -> 284.25534 | T25: =Q25/$S$11 -> 0.075033738 | U25: =Q25-Q24 -> 30 | V25: =(R25-R24)/U25 -> 500
B26: =B25+1 -> 12 | C26: =2617+3019 -> 5636 | D26: =1692351.11+1950229.25 -> 3642580.4 | E26: =D26/C26 -> 646.30595 | F26: =C26/$E$11 -> 0.76059379 | G26: =(C26-C25) -> 119 | H26: =(D26-D25)/G26 -> 985.31739 | I26: 635.86 | J26: 2075 | K26: 997125.51 | L26: =K26/J26 -> 480.54241 | M26: =J26/$L$11 -> 0.27099386 | N26: =(J26-J25) -> 110 | O26: =(K26-K25)/N26 -> 545.51045 | Q26: 566 | R26: 163668.47 | S26: =R26/Q26 -> 289.16691 | T26: =Q26/$S$11 -> 0.076383266 | U26: =Q26-Q25 -> 10 | V26: =(R26-R25)/U26 -> 562.25
B27: =B26+1 -> 13 | C27: =2857+2873 -> 5730 | D27: =1614113.38+2145865.55 -> 3759978.9 | E27: =D27/C27 -> 656.19179 | F27: =C27/$E$11 -> 0.77327935 | G27: =(C27-C26) -> 94 | H27: =(D27-D26)/G27 -> 1248.921 | J27: 2111 | K27: 1014148.8 | L27: =K27/J27 -> 480.41157 | M27: =J27/$L$11 -> 0.27569544 | N27: =(J27-J26) -> 36 | O27: =(K27-K26)/N27 -> 472.86972 | Q27: 681 | R27: 202203.25 | S27: =R27/Q27 -> 296.92107 | T27: =Q27/$S$11 -> 0.091902834 | U27: =Q27-Q26 -> 115 | V27: =(R27-R26)/U27 -> 335.08504
B28: =B27+1 -> 14 | C28: =3088+2738 -> 5826 | D28: =2319291.45+1522830.79 -> 3842122.2 | E28: =D28/C28 -> 659.47859 | F28: =C28/$E$11 -> 0.78623482 | G28: =(C28-C27) -> 96 | H28: =(D28-D27)/G28 -> 855.65948 | J28: 2143 | K28: 1014715.5 | L28: =K28/J28 -> 473.50232 | M28: =J28/$L$11 -> 0.27987462 | N28: =(J28-J27) -> 32 | O28: =(K28-K27)/N28 -> 17.708125 | Q28: 681 | R28: 202203.25 | S28: =R28/Q28 -> 296.92107 | T28: =Q28/$S$11 -> 0.091902834 | U28: 0 | V28: 0
B29: =B28+1 -> 15 | C29: =2512+3306 -> 5818 | D29: =1386782.99+2477664.44 -> 3864447.4 | E29: =D29/C29 -> 664.22266 | F29: =C29/$E$11 -> 0.7851552 | G29: =(C29-C28) -> -8 | H29: =(D29-D28)/G29 -> -2790.6487 | J29: 2174 | K29: 1032282.1 | L29: =K29/J29 -> 474.83079 | M29: =J29/$L$11 -> 0.28392321 | N29: =(J29-J28) -> 31 | O29: =(K29-K28)/N29 -> 566.66645 | Q29: 688 | R29: 203003.25 | S29: =R29/Q29 -> 295.06286 | T29: =Q29/$S$11 -> 0.092847503 | U29: =Q29-Q28 -> 7 | V29: =(R29-R28)/U29 -> 114.28571
B30: =B29+1 -> 16 | C30: =3470+2367 -> 5837 | D30: =1288272.77+2593351.33 -> 3881624.1 | E30: =D30/C30 -> 665.00327 | F30: =C30/$E$11 -> 0.7877193 | G30: =(C30-C29) -> 19 | H30: =(D30-D29)/G30 -> 904.03526 | J30: 2193 | K30: 1035584.7 | L30: =K30/J30 -> 472.22282 | M30: =J30/$L$11 -> 0.2864046 | N30: =(J30-J29) -> 19 | O30: =(K30-K29)/N30 -> 173.81632 | Q30: 688 | R30: 202853.25 | S30: =R30/Q30 -> 294.84484 | T30: =Q30/$S$11 -> 0.092847503 | U30: =Q30-Q29 -> 0 | V30: 0
B31: =B30+1 -> 17 | C31: =3639+2291 -> 5930 | D31: =2707375.63+1270731.64 -> 3978107.3 | E31: =D31/C31 -> 670.8444 | F31: =C31/$E$11 -> 0.80026991 | G31: =(C31-C30) -> 93 | H31: =(D31-D30)/G31 -> 1037.4534 | J31: 2323 | K31: 1109498.8 | L31: =K31/J31 -> 477.61464 | M31: =J31/$L$11 -> 0.30338253 | N31: =(J31-J30) -> 130 | O31: =(K31-K30)/N31 -> 568.57046 | Q31: 749 | R31: 233653.25 | S31: =R31/Q31 -> 311.9536 | T31: =Q31/$S$11 -> 0.10107962 | U31: =Q31-Q30 -> 61 | V31: =(R31-R30)/U31 -> 504.91803
B32: =B31+1 -> 18 | C32: =2157+3854 -> 6011 | D32: =1201699.29+2854561.95 -> 4056261.2 | E32: =D32/C32 -> 674.80639 | F32: =C32/$E$11 -> 0.81120108 | G32: =(C32-C31) -> 81 | H32: =(D32-D31)/G32 -> 964.86383 | J32: 2357 | K32: 1131662.2 | L32: =K32/J32 -> 480.1282 | M32: =J32/$L$11 -> 0.30782291 | N32: =(J32-J31) -> 34 | O32: =(K32-K31)/N32 -> 651.86324 | Q32: 778 | R32: 251053.25 | S32: =R32/Q32 -> 322.69055 | T32: =Q32/$S$11 -> 0.10499325 | U32: =Q32-Q31 -> 29 | V32: =(R32-R31)/U32 -> 600
B33: =B32+1 -> 19 | C33: =1960+4092 -> 6052 | D33: =3010901.9+1108622.01 -> 4119523.9 | E33: =D33/C33 -> 680.68802 | F33: =C33/$E$11 -> 0.81673414 | G33: =(C33-C32) -> 41 | H33: =(D33-D32)/G33 -> 1542.992 | J33: 2394 | K33: 1150685.5 | L33: =K33/J33 -> 480.65393 | M33: =J33/$L$11 -> 0.31265509 | N33: =(J33-J32) -> 37 | O33: =(K33-K32)/N33 -> 514.14459 | Q33: 777 | R33: 250353.25 | S33: =R33/Q33 -> 322.20495 | T33: =Q33/$S$11 -> 0.1048583 | U33: =Q33-Q32 -> -1 | V33: =(R33-R32)/U33 -> 700
B34: =B33+1 -> 20 | C34: =4339+1718 -> 6057 | D34: =947338.38+3183051.8 -> 4130390.2 | E34: =D34/C34 -> 681.92012 | F34: =C34/$E$11 -> 0.81740891 | G34: =(C34-C33) -> 5 | H34: =(D34-D33)/G34 -> 2173.254 | J34: 2433 | K34: 1176430.9 | L34: =K34/J34 -> 483.53098 | M34: =J34/$L$11 -> 0.31774847 | N34: =(J34-J33) -> 39 | O34: =(K34-K33)/N34 -> 660.13744 | Q34: 784 | R34: 253358.25 | S34: =R34/Q34 -> 323.16103 | T34: =Q34/$S$11 -> 0.10580297 | U34: =Q34-Q33 -> 7 | V34: =(R34-R33)/U34 -> 429.28571
B35: =B34+1 -> 21 | C35: =4586+1457 -> 6043 | D35: =811378.36+3353002.55 -> 4164380.9 | E35: =D35/C35 -> 689.12476 | F35: =C35/$E$11 -> 0.81551957 | G35: =(C35-C34) -> -14 | H35: =(D35-D34)/G35 -> -2427.9093 | J35: 2463 | K35: 1199431.2 | L35: =K35/J35 -> 486.97979 | M35: =J35/$L$11 -> 0.32166645 | N35: =(J35-J34) -> 30 | O35: =(K35-K34)/N35 -> 766.67833 | Q35: 729 | R35: 236358.45 | S35: =R35/Q35 -> 324.22284 | T35: =Q35/$S$11 -> 0.098380567 | U35: =Q35-Q34 -> -55 | V35: =(R35-R34)/U35 -> 309.08727
B36: =B35+1 -> 22 | C36: =1254+4799 -> 6053 | D36: =694961.93+3496381.28 -> 4191343.2 | E36: =D36/C36 -> 692.44064 | F36: =C36/$E$11 -> 0.8168691 | G36: =(C36-C35) -> 10 | H36: =(D36-D35)/G36 -> 2696.23 | J36: 2500 | K36: 1219119 | L36: =K36/J36 -> 487.6476 | M36: =J36/$L$11 -> 0.32649863 | N36: =(J36-J35) -> 37 | O36: =(K36-K35)/N36 -> 532.10216 | Q36: 713 | R36: 229151.93 | S36: =R36/Q36 -> 321.39121 | T36: =Q36/$S$11 -> 0.096221323 | U36: =Q36-Q35 -> -16 | V36: =(R36-R35)/U36 -> 450.4075
B37: =B36+1 -> 23 | C37: =4977+1121 -> 6098 | D37: =3610424.07+620628.32 -> 4231052.4 | E37: =D37/C37 -> 693.84264 | F37: =C37/$E$11 -> 0.82294197 | G37: =(C37-C36) -> 45 | H37: =(D37-D36)/G37 -> 882.42622 | J37: 2509 | K37: 1224403 | L37: =K37/J37 -> 488.00438 | M37: =J37/$L$11 -> 0.32767402 | N37: =(J37-J36) -> 9 | O37: =(K37-K36)/N37 -> 587.11111 | Q37: 713 | R37: 229151.93 | S37: =R37/Q37 -> 321.39121 | T37: =Q37/$S$11 -> 0.096221323 | U37: =Q37-Q36 -> 0 | V37: 0
B38: =B37+1 -> 24 | C38: =5172+975 -> 6147 | D38: =3736313.74+539707.78 -> 4276021.5 | E38: =D38/C38 -> 695.62738 | F38: =C38/$E$11 -> 0.82955466 | G38: =(C38-C37) -> 49 | H38: =(D38-D37)/G38 -> 917.73735 | J38: 2720 | K38: 1305912.3 | L38: =K38/J38 -> 480.11482 | M38: =J38/$L$11 -> 0.35523051 | N38: =(J38-J37) -> 211 | O38: =(K38-K37)/N38 -> 386.30009 | Q38: 824 | R38: 268639.93 | S38: =R38/Q38 -> 326.01933 | T38: =Q38/$S$11 -> 0.11120108 | U38: =Q38-Q37 -> 111 | V38: =(R38-R37)/U38 -> 355.74775
B39: =B38+1 -> 25 | C39: =5347+853 -> 6200 | D39: =3851105.17+472942.12 -> 4324047.3 | E39: =D39/C39 -> 697.42698 | F39: =C39/$E$11 -> 0.83670715 | G39: =(C39-C38) -> 53 | H39: =(D39-D38)/G39 -> 906.1466 | J39: 2717 | K39: 1304682.3 | L39: =K39/J39 -> 480.19223 | M39: =J39/$L$11 -> 0.35483871 | N39: =(J39-J38) -> -3 | O39: =(K39-K38)/N39 -> 410.01333 | Q39: 724 | R39: 234099.43 | S39: =R39/Q39 -> 323.34175 | T39: =Q39/$S$11 -> 0.097705803 | U39: =Q39-Q38 -> -100 | V39: =(R39-R38)/U39 -> 345.405
B40: =B39+1 -> 26 | C40: =5506+688 -> 6194 | D40: =372191.19+3953206.26 -> 4325397.5 | E40: =D40/C40 -> 698.32054 | F40: =C40/$E$11 -> 0.83589744 | G40: =(C40-C39) -> -6 | H40: =(D40-D39)/G40 -> -225.02667 | J40: 2636 | K40: 1269566.3 | L40: =K40/J40 -> 481.62606 | M40: =J40/$L$11 -> 0.34426015 | N40: =(J40-J39) -> -81 | O40: =(K40-K39)/N40 -> 433.53062 | Q40: 732 | R40: 235939.43 | S40: =R40/Q40 -> 322.32163 | T40: =Q40/$S$11 -> 0.098785425 | U40: =Q40-Q39 -> 8 | V40: =(R40-R39)/U40 -> 230
B41: =B40+1 -> 27 | C41: =5748+474 -> 6222 | D41: =262829.12+4101750.57 -> 4364579.7 | E41: =D41/C41 -> 701.47536 | F41: =C41/$E$11 -> 0.83967611 | G41: =(C41-C40) -> 28 | H41: =(D41-D40)/G41 -> 1399.3657 | J41: 2750 | K41: 1314171.3 | L41: =K41/J41 -> 477.88048 | M41: =J41/$L$11 -> 0.35914849 | N41: =(J41-J40) -> 114 | O41: =(K41-K40)/N41 -> 391.27202 | Q41: 732 | R41: 235939.43 | S41: =R41/Q41 -> 322.32163 | T41: =Q41/$S$11 -> 0.098785425 | U41: 0 | V41: 0
B42: =B41+1 -> 28 | C42: =5995+283 -> 6278 | D42: =159740.29+4255755.24 -> 4415495.5 | E42: =D42/C42 -> 703.32837 | F42: =C42/$E$11 -> 0.84723347 | G42: =(C42-C41) -> 56 | H42: =(D42-D41)/G42 -> 909.21143 | J42: 2713 | K42: 1305515.9 | L42: =K42/J42 -> 481.20749 | M42: =J42/$L$11 -> 0.35431631 | N42: =(J42-J41) -> -37 | O42: =(K42-K41)/N42 -> 233.92973 | Q42: 739 | R42: 240139.43 | S42: =R42/Q42 -> 324.95187 | T42: =Q42/$S$11 -> 0.099730094 | U42: =Q42-Q41 -> 7 | V42: =(R42-R41)/-U42 -> -600
B43: =B42+1 -> 29 | C43: =6163+137 -> 6300 | D43: =4370562.04+76105.31 -> 4446667.3 | E43: =D43/C43 -> 705.82021 | F43: =C43/$E$11 -> 0.85020243 | G43: =(C43-C42) -> 22 | H43: =(D43-D42)/G43 -> 1416.9009 | I43: 0 | J43: 2758 | K43: 1335371.8 | L43: =K43/J43 -> 484.1812 | M43: =J43/$L$11 -> 0.36019329 | N43: =(J43-J42) -> 45 | O43: =(K43-K42)/N43 -> 663.46311 | Q43: 743 | R43: 242539.43 | S43: =R43/Q43 -> 326.43261 | T43: =Q43/$S$11 -> 0.10026991 | U43: =Q43-Q42 -> 4 | V43: =(R43-R42)/U43 -> 600
B44: 30 | C44: 6304 | D44: 4467300.6 | E44: =D44/C44 -> 708.64541 | F44: =C44/$E$11 -> 0.85074224 | G44: =(C44-C43) -> 4 | H44: =(D44-D43)/G44 -> 5158.3225 | J44: 2809 | K44: 1359803.1 | L44: =K44/J44 -> 484.08797 | M44: =J44/$L$11 -> 0.36685386 | N44: =(J44-J43) -> 51 | O44: =(K44-K43)/N44 -> 479.04627 | Q44: 747 | R44: 245139.43 | S44: =R44/Q44 -> 328.16523 | T44: =Q44/$S$11 -> 0.10080972 | U44: =Q44-Q43 -> 4 | V44: =(R44-R43)/U44 -> 650
B45: 31 | E45: =D45/C45 -> #DIV/0! | F45: =C45/$E$11 -> 0 | G45: 0 | H45: =(D45-D44)/G45 -> #DIV/0! | L45: =K45/J45 -> #DIV/0! | M45: =J45/$L$11 -> 0 | N45: 0 | O45: =(K45-K44)/N45 -> #DIV/0! | S45: =R45/Q45 -> #DIV/0! | T45: =Q45/$S$11 -> 0 | U45: 0 | V45: =(R45-R44)/U45 -> #DIV/0!

Sheet May, June , July
N3: Hotel Name :
N4: Date :
A6: June | B6: May | J6: June | Q6: July
C7: Budget Rm Nts | E7: 6050 | G7: Budget Avg | H7: 554.09 | J7: Budget Rm Nts | L7: 5820 | N7: Budget Avg | O7: 456.45 | Q7: Budget Rm Nts | S7: 5615 | U7: Budget Avg | V7: 451.96
C8: Budget Occ % | E8: 0.79 | F8: Budget Rm Rev | H8: 3352250 | J8: Budget Occ % | L8: 0.785 | M8: Budget Rm Rev | O8: 2656525 | Q8: Budget Occ % | S8: 0.733 | T8: Budget Rm Rev | V8: 2537750
C9: Available Rms | E9: =247*31 -> 7657 | J9: Available Rms | L9: 7410 | Q9: Available Rms | S9: 7657
B10: Month of May,Jun, July
B11: Day of the Month | C11: Total Rooms On the Books for whole month | D11: Total Revenue On the Books for whole month | E11: Average Rate per Month | F11: Occ % for end of the Month | G11: Pick-Up Room Nights per Day | H11: Avg Rate Pick Up | J11: Total Rooms On the Books for whole month | K11: Total Revenue On the Books for whole month | L11: Average Rate per Month | M11: Occ % for end of the Month | N11: Pick-Up Room Nights per Day | O11: Avg Rate Pick Up | Q11: Total Rooms On the Books for whole month | R11: Total Revenue On the Books for whole month | S11: Average Rate per Month | T11: Occ % for end of the Month | U11: Pick-Up Room Nights per Day | V11: Avg Rate Pick up
C12: 304 | D12: 304 | E12: 304 | F12: 304 | G12: 304 | H12: 304 | I12: 304 | J12: 304 | K12: 304 | L12: 304 | M12: 304 | N12: 304 | O12: 304 | P12: 304 | Q12: 304 | R12: 304 | S12: 304 | T12: 304 | U12: 304 | V12: 304
B13: 1 | C13: =135+2764 -> 2899 | D13: =90750.24+1347275.44 -> 1438025.7 | E13: =D13/C13 -> 496.04197 | F13: =C13/$E$9 -> 0.37860781 | G13: 90 | H13: 869.13 | J13: 783 | K13: 254652.93 | L13: =K13/J13 -> 325.22724 | M13: =J13/$L$9 -> 0.10566802 | N13: 36 | O13: 264.26 | Q13: 413 | R13: 138272.76 | S13: =R13/Q13 -> 334.80087 | T13: =Q13/$S$9 -> 0.053937573 | U13: 6 | V13: 226.66
B14: =B13+1 -> 2 | C14: =273+2620 -> 2893 | D14: =185789.49+1292495.9 -> 1478285.4 | E14: =D14/C14 -> 510.987 | F14: =C14/$E$9 -> 0.37782421 | G14: =(C14-C13) -> -6 | H14: =(D14-D13)/G14 -> -6709.9517 | J14: 803 | K14: 263612.93 | L14: =K14/J14 -> 328.28509 | M14: =J14/$L$9 -> 0.10836707 | N14: =(J14-J13) -> 20 | O14: =-(K14-K13)/-N14 -> 448 | Q14: 413 | R14: 138272.76 | S14: =R14/Q14 -> 334.80087 | T14: =Q14/$S$9 -> 0.053937573 | U14: =Q14-Q13 -> 0 | V14: 0
B15: =B14+1 -> 3 | C15: =417+2605 -> 3022 | D15: =285426.76+1285255.8 -> 1570682.6 | E15: =D15/C15 -> 519.74936 | F15: =C15/$E$9 -> 0.39467154 | G15: =(C15-C14) -> 129 | H15: =(D15-D14)/G15 -> 716.25713 | J15: 803 | K15: 263812.93 | L15: =K15/J15 -> 328.53416 | M15: =J15/$L$9 -> 0.10836707 | N15: =(J15-J14) -> 0 | O15: 0 | Q15: 425 | R15: 142872.76 | S15: =R15/Q15 -> 336.1712 | T15: =Q15/$S$9 -> 0.055504767 | U15: =Q15-Q14 -> 12 | V15: =(R15-R14)/U15 -> 383.33333
B16: 4 | C16: =2623+608 -> 3231 | D16: =1286472.23+433621.56 -> 1720093.8 | E16: =D16/C16 -> 532.37196 | F16: =C16/$E$9 -> 0.42196683 | G16: =(C16-C15) -> 209 | H16: =(D16-D15)/G16 -> 714.88627 | J16: 834 | K16: 279800.43 | L16: =K16/J16 -> 335.49212 | M16: =J16/$L$9 -> 0.11255061 | N16: =(J16-J15) -> 31 | O16: =-(K16-K15)/-N16 -> 515.72581 | Q16: 442 | R16: 145806.1 | S16: =R16/Q16 -> 329.87805 | T16: =Q16/$S$9 -> 0.057724958 | U16: =Q16-Q15 -> 17 | V16: =(R16-R15)/U16 -> 172.54941
B17: =B16+1 -> 5 | C17: =2583+814 -> 3397 | D17: =1260504.44+572304.3 -> 1832808.7 | E17: =D17/C17 -> 539.53746 | F17: =C17/$E$9 -> 0.44364634 | G17: =(C17-C16) -> 166 | H17: =(D17-D16)/G17 -> 679.00572 | J17: 859 | K17: 292528.77 | L17: =K17/J17 -> 340.54572 | M17: =J17/$L$9 -> 0.11592443 | N17: =(J17-J16) -> 25 | O17: =(K17-K16)/N17 -> 509.1336 | Q17: 438 | R17: 142131.1 | S17: =R17/Q17 -> 324.50023 | T17: =Q17/$S$9 -> 0.05720256 | U17: =Q17-Q16 -> -4 | V17: =(R17-R16)/U17 -> 918.75
B18: =B17+1 -> 6 | C18: =2509+968 -> 3477 | D18: =1216302.87+669608.83 -> 1885911.7 | E18: =D18/C18 -> 542.39623 | F18: =C18/$E$9 -> 0.45409429 | G18: =(C18-C17) -> 80 | H18: =(D18-D17)/G18 -> 663.787 | I18: 0 | J18: 879 | K18: 300018.8 | L18: =K18/J18 -> 341.31832 | M18: =J18/$L$9 -> 0.11862348 | N18: =(J18-J17) -> 20 | O18: =(K18-K17)/N18 -> 374.5015 | Q18: 447 | R18: 146644.44 | S18: =R18/Q18 -> 328.06362 | T18: =Q18/$S$9 -> 0.058377955 | U18: =Q18-Q17 -> 9 | V18: =(R18-R17)/U18 -> 501.48222
B19: =B18+1 -> 7 | C19: =1094+2437 -> 3531 | D19: =1180430.62+749873.14 -> 1930303.8 | E19: =D19/C19 -> 546.6734 | F19: =C19/$E$9 -> 0.46114666 | G19: =(C19-C18) -> 54 | H19: =(D19-D18)/G19 -> 822.07519 | J19: 889 | K19: 313923.8 | L19: =K19/J19 -> 353.12013 | M19: =J19/$L$9 -> 0.11997301 | N19: =(J19-J18) -> 10 | O19: =-(K19-K18)/-N19 -> 1390.5 | Q19: 447 | R19: 146644.44 | S19: =R19/Q19 -> 328.06362 | T19: =Q19/$S$9 -> 0.058377955 | U19: 0 | V19: 0
B20: =B19+1 -> 8 | C20: =2408+1234 -> 3642 | D20: =842049.64+1153343.36 -> 1995393 | E20: =D20/C20 -> 547.88386 | F20: =C20/$E$9 -> 0.4756432 | G20: =(C20-C19) -> 111 | H20: =(D20-D19)/G20 -> 586.38955 | J20: 934 | K20: 329842.16 | L20: =K20/J20 -> 353.15006 | M20: =J20/$L$9 -> 0.12604588 | N20: =(J20-J19) -> 45 | O20: =(K20-K19)/N20 -> 353.74133 | Q20: 453 | R20: 148294.44 | S20: =R20/Q20 -> 327.36079 | T20: =Q20/$S$9 -> 0.059161552 | U20: =Q20-Q19 -> 6 | V20: =(R20-R19)/U20 -> 275
B21: =B20+1 -> 9 | C21: =2373+1393 -> 3766 | D21: =943916.93+1134083.73 -> 2078000.7 | E21: =D21/C21 -> 551.77925 | F21: =C21/$E$9 -> 0.49183753 | G21: =(C21-C20) -> 124 | H21: =(D21-D20)/G21 -> 666.19081 | J21: 970 | K21: 340910.18 | L21: =K21/J21 -> 351.45379 | M21: =J21/$L$9 -> 0.13090418 | N21: =(J21-J20) -> 36 | O21: =(K21-K20)/N21 -> 307.445 | Q21: 455 | R21: 148469.44 | S21: =R21/Q21 -> 326.30646 | T21: =Q21/$S$9 -> 0.05942275 | U21: =Q21-Q20 -> 2 | V21: 0
B22: =B21+1 -> 10 | C22: =2322+1569 -> 3891 | D22: =1057133+1093993.48 -> 2151126.5 | E22: =D22/C22 -> 552.84669 | F22: =C22/$E$9 -> 0.50816247 | G22: =(C22-C21) -> 125 | H22: =(D22-D21)/G22 -> 585.00656 | J22: 1024 | K22: 366899.35 | L22: =K22/J22 -> 358.30015 | M22: =J22/$L$9 -> 0.13819163 | N22: =(J22-J21) -> 54 | O22: =(K22-K21)/N22 -> 481.28093 | Q22: 468 | R22: 155794.44 | S22: =R22/Q22 -> 332.8941 | T22: =Q22/$S$9 -> 0.061120543 | U22: =Q22-Q21 -> 13 | V22: =(R22-R21)/U22 -> 563.46154
B23: =B22+1 -> 11 | C23: =2304+1753 -> 4057 | D23: =1083578.76+1175441.78 -> 2259020.5 | E23: =D23/C23 -> 556.82044 | F23: =C23/$E$9 -> 0.52984197 | G23: =(C23-C22) -> 166 | H23: =(D23-D22)/G23 -> 649.96422 | J23: 1046 | K23: 373548.95 | L23: =K23/J23 -> 357.12137 | M23: =J23/$L$9 -> 0.14116059 | N23: =(J23-J22) -> 22 | O23: =(K23-K22)/N23 -> 302.25455 | Q23: 469 | R23: 156069.44 | S23: =R23/Q23 -> 332.77066 | T23: =Q23/$S$9 -> 0.061251143 | U23: =Q23-Q22 -> 1 | V23: =(R23-R22)/U23 -> 275
B24: =B23+1 -> 12 | C24: =2280+1929 -> 4209 | D24: =1046398.25+1288709.81 -> 2335108.1 | E24: =D24/C24 -> 554.78928 | F24: =C24/$E$9 -> 0.54969309 | G24: =(C24-C23) -> 152 | H24: =(D24-D23)/G24 -> 500.57579 | I24: 635.86 | J24: 1077 | K24: 385130.95 | L24: =K24/J24 -> 357.59605 | M24: =J24/$L$9 -> 0.14534413 | N24: =(J24-J23) -> 31 | O24: =(K24-K23)/N24 -> 373.6129 | Q24: 479 | R24: 159569.44 | S24: =R24/Q24 -> 333.13035 | T24: =Q24/$S$9 -> 0.062557137 | U24: =Q24-Q23 -> 10 | V24: =(R24-R23)/U24 -> 350
B25: =B24+1 -> 13 | C25: =2064+2231 -> 4295 | D25: =1361005.65+1026231.38 -> 2387237 | E25: =D25/C25 -> 555.8177 | F25: =C25/$E$9 -> 0.56092464 | G25: =(C25-C24) -> 86 | H25: =(D25-D24)/G25 -> 606.15081 | J25: 1119 | K25: 400719.23 | L25: =K25/J25 -> 358.10476 | M25: =J25/$L$9 -> 0.15101215 | N25: =(J25-J24) -> 42 | O25: =(K25-K24)/N25 -> 371.14952 | Q25: 488 | R25: 162934.44 | S25: =R25/Q25 -> 333.88205 | T25: =Q25/$S$9 -> 0.063732532 | U25: =Q25-Q24 -> 9 | V25: =(R25-R24)/U25 -> 373.88889
B26: =B25+1 -> 14 | C26: =2187+2143 -> 4330 | D26: =1430650.17+971430.84 -> 2402081 | E26: =D26/C26 -> 554.75312 | F26: =C26/$E$9 -> 0.56549562 | G26: =(C26-C25) -> 35 | H26: =(D26-D25)/G26 -> 424.11371 | J26: 1156 | K26: 413915.92 | L26: =K26/J26 -> 358.05875 | M26: =J26/$L$9 -> 0.1560054 | N26: =(J26-J25) -> 37 | O26: =(K26-K25)/N26 -> 356.6673 | Q26: 480 | R26: 159384.44 | S26: =R26/Q26 -> 332.05092 | T26: =Q26/$S$9 -> 0.062687737 | U26: =Q26-Q25 -> -8 | V26: =(R26-R25)/U26 -> 443.75
B27: =B26+1 -> 15 | C27: =2036+2346 -> 4382 | D27: =1522996.25+910136.38 -> 2433132.6 | E27: =D27/C27 -> 555.25619 | F27: =C27/$E$9 -> 0.5722868 | G27: =(C27-C26) -> 52 | H27: =(D27-D26)/G27 -> 597.14654 | J27: 1179 | K27: 419461.27 | L27: =K27/J27 -> 355.77716 | M27: =J27/$L$9 -> 0.15910931 | N27: =(J27-J26) -> 23 | O27: =(K27-K26)/N27 -> 241.10217 | Q27: 485 | R27: 158521.01 | S27: =R27/Q27 -> 326.84744 | T27: =Q27/$S$9 -> 0.063340734 | U27: =Q27-Q26 -> 5 | V27: =(R27-R26)/U27 -> -172.686
B28: =B27+1 -> 16 | C28: =2544+1978 -> 4522 | D28: =888288.64+1625359.02 -> 2513647.7 | E28: =D28/C28 -> 555.87078 | F28: =C28/$E$9 -> 0.59057072 | G28: =(C28-C27) -> 140 | H28: =(D28-D27)/G28 -> 575.10736 | J28: 1201 | K28: 435833.24 | L28: =K28/J28 -> 362.89196 | M28: =J28/$L$9 -> 0.16207827 | N28: =(J28-J27) -> 22 | O28: =(K28-K27)/N28 -> 744.18045 | Q28: 522 | R28: 177097.69 | S28: =R28/Q28 -> 339.26761 | T28: =Q28/$S$9 -> 0.068172914 | U28: =Q28-Q27 -> 37 | V28: =(R28-R27)/U28 -> 502.07243
B29: =B28+1 -> 17 | C29: =2758+1850 -> 4608 | D29: =1732919.83+836611.27 -> 2569531.1 | E29: =D29/C29 -> 557.62394 | F29: =C29/$E$9 -> 0.60180227 | G29: =(C29-C28) -> 86 | H29: =(D29-D28)/G29 -> 649.80744 | J29: 1407 | K29: 470304.68 | L29: =K29/J29 -> 334.26061 | M29: =J29/$L$9 -> 0.18987854 | N29: =(J29-J28) -> 206 | O29: =(K29-K28)/N29 -> 167.33709 | Q29: 534 | R29: 186697.69 | S29: =R29/Q29 -> 349.62114 | T29: =Q29/$S$9 -> 0.069740107 | U29: =Q29-Q28 -> 12 | V29: =(R29-R28)/U29 -> 800
B30: =B29+1 -> 18 | C30: =1623+2961 -> 4584 | D30: =1843210.96+743959.75 -> 2587170.7 | E30: =D30/C30 -> 564.39152 | F30: =C30/$E$9 -> 0.59866789 | G30: =(C30-C29) -> -24 | H30: =(D30-D29)/G30 -> -734.98375 | J30: 1480 | K30: 496370.42 | L30: =K30/J30 -> 335.38542 | M30: =J30/$L$9 -> 0.19973009 | N30: =(J30-J29) -> 73 | O30: =(K30-K29)/N30 -> 357.06493 | Q30: 533 | R30: 184897.69 | S30: =R30/Q30 -> 346.89998 | T30: =Q30/$S$9 -> 0.069609508 | U30: =Q30-Q29 -> -1 | V30: =(R30-R29)/U30 -> 1800
B31: =B30+1 -> 19 | C31: =3190+1361 -> 4551 | D31: =1971124.69+608872.98 -> 2579997.7 | E31: =D31/C31 -> 566.90786 | F31: =C31/$E$9 -> 0.5943581 | G31: =(C31-C30) -> -33 | H31: =(D31-D30)/G31 -> 217.36485 | J31: 1686 | K31: 580695.42 | L31: =K31/J31 -> 344.42196 | M31: =J31/$L$9 -> 0.22753036 | N31: =(J31-J30) -> 206 | O31: =(K31-K30)/N31 -> 409.34466 | Q31: 532 | R31: 181147.69 | S31: =R31/Q31 -> 340.50318 | T31: =Q31/$S$9 -> 0.069478908 | U31: =Q31-Q30 -> -1 | V31: =(R31-R30)/U31 -> 3750
B32: =B31+1 -> 20 | C32: =3391+1163 -> 4554 | D32: =510020.81+2096264.89 -> 2606285.7 | E32: =D32/C32 -> 572.30692 | F32: =C32/$E$9 -> 0.5947499 | G32: =(C32-C31) -> 3 | H32: =(D32-D31)/G32 -> 8762.6767 | J32: 1702 | K32: 588936.04 | L32: =K32/J32 -> 346.02588 | M32: =J32/$L$9 -> 0.22968961 | N32: =(J32-J31) -> 16 | O32: =(K32-K31)/N32 -> 515.03875 | Q32: 532 | R32: 181147.69 | S32: =R32/Q32 -> 340.50318 | T32: =Q32/$S$9 -> 0.069478908 | U32: 0 | V32: 0
B33: =B32+1 -> 21 | C33: =3524+1058 -> 4582 | D33: =2170355.06+465282.39 -> 2635637.5 | E33: =D33/C33 -> 575.21551 | F33: =C33/$E$9 -> 0.59840669 | G33: =(C33-C32) -> 28 | H33: =(D33-D32)/G33 -> 1048.2768 | J33: 1709 | K33: 590186.08 | L33: =K33/J33 -> 345.34001 | M33: =J33/$L$9 -> 0.23063428 | N33: =(J33-J32) -> 7 | O33: =(K33-K32)/N33 -> 178.57714 | Q33: 537 | R33: 183647.69 | S33: =R33/Q33 -> 341.98825 | T33: =Q33/$S$9 -> 0.070131905 | U33: =Q33-Q32 -> 5 | V33: =(R33-R32)/U33 -> 500
B34: =B33+1 -> 22 | C34: =3651+1022 -> 4673 | D34: =458415.47+2234123.53 -> 2692539 | E34: =D34/C34 -> 576.19067 | F34: =C34/$E$9 -> 0.61029124 | G34: =(C34-C33) -> 91 | H34: =(D34-D33)/G34 -> 625.29176 | J34: 1864 | K34: 644670.28 | L34: =K34/J34 -> 345.85315 | M34: =J34/$L$9 -> 0.25155196 | N34: =(J34-J33) -> 155 | O34: =(K34-K33)/N34 -> 351.51097 | Q34: 540 | R34: 184022.69 | S34: =R34/Q34 -> 340.78276 | T34: =Q34/$S$9 -> 0.070523704 | U34: =Q34-Q33 -> 3 | V34: =(R34-R33)/U34 -> 125
B35: =B34+1 -> 23 | C35: =949+3817 -> 4766 | D35: =2320750.28+417941.21 -> 2738691.5 | E35: =D35/C35 -> 574.63103 | F35: =C35/$E$9 -> 0.62243699 | G35: =(C35-C34) -> 93 | H35: =(D35-D34)/G35 -> 496.26333 | J35: 1899 | K35: 684043.64 | L35: =K35/J35 -> 360.21255 | M35: =J35/$L$9 -> 0.2562753 | N35: =(J35-J34) -> 35 | O35: =(K35-K34)/N35 -> 1124.9531 | Q35: 545 | R35: 184480.99 | S35: =R35/Q35 -> 338.49723 | T35: =Q35/$S$9 -> 0.071176701 | U35: =Q35-Q34 -> 5 | V35: =(R35-R34)/U35 -> 91.66
B36: =B35+1 -> 24 | C36: =3993+848 -> 4841 | D36: =2415206.85+377624.55 -> 2792831.4 | E36: =D36/C36 -> 576.91208 | F36: =C36/$E$9 -> 0.63223194 | G36: =(C36-C35) -> 75 | H36: =(D36-D35)/G36 -> 721.86547 | J36: 1991 | K36: 723758.2 | L36: =K36/J36 -> 363.51492 | M36: =J36/$L$9 -> 0.26869096 | N36: =(J36-J35) -> 92 | O36: =(K36-K35)/N36 -> 431.68 | Q36: 577 | R36: 195672.68 | S36: =R36/Q36 -> 339.12076 | T36: =Q36/$S$9 -> 0.075355884 | U36: =Q36-Q35 -> 32 | V36: =(R36-R35)/U36 -> 349.74031
B37: =B36+1 -> 25 | C37: =4167+739 -> 4906 | D37: =2509275.11+322616.67 -> 2831891.8 | E37: =D37/C37 -> 577.23029 | F37: =C37/$E$9 -> 0.64072091 | G37: =(C37-C36) -> 65 | H37: =(D37-D36)/G37 -> 600.92892 | J37: 2143 | K37: 794524.53 | L37: =K37/J37 -> 370.7534 | M37: =J37/$L$9 -> 0.28920378 | N37: =(J37-J36) -> 152 | O37: =(K37-K36)/N37 -> 465.56796 | Q37: 595 | R37: 209497.66 | S37: =R37/Q37 -> 352.09691 | T37: =Q37/$S$9 -> 0.077706674 | U37: =Q37-Q36 -> 18 | V37: =(R37-R36)/U37 -> 768.05444
B38: =B37+1 -> 26 | C38: =647+4326 -> 4973 | D38: =283860.55+2592455.99 -> 2876316.5 | E38: =D38/C38 -> 578.3866 | F38: =C38/$E$9 -> 0.64947107 | G38: =(C38-C37) -> 67 | H38: =(D38-D37)/G38 -> 663.05612 | J38: 2298 | K38: 864401.07 | L38: =K38/J38 -> 376.15364 | M38: =J38/$L$9 -> 0.31012146 | N38: =(J38-J37) -> 155 | O38: =(K38-K37)/N38 -> 450.81639 | Q38: 614 | R38: 215761.02 | S38: =R38/Q38 -> 351.40231 | T38: =Q38/$S$9 -> 0.080188063 | U38: =Q38-Q37 -> 19 | V38: =(R38-R37)/U38 -> 329.65053
B39: =B38+1 -> 27 | C39: =527+4468 -> 4995 | D39: =2668520.27+232542.33 -> 2901062.6 | E39: =D39/C39 -> 580.79331 | F39: =C39/$E$9 -> 0.65234426 | G39: =(C39-C38) -> 22 | H39: =(D39-D38)/G39 -> 1124.8209 | J39: 2284 | K39: 858569.35 | L39: =K39/J39 -> 375.90602 | M39: =J39/$L$9 -> 0.30823212 | N39: =(J39-J38) -> -14 | O39: =(K39-K38)/N39 -> 416.55143 | Q39: 637 | R39: 227831.02 | S39: =R39/Q39 -> 357.66251 | T39: =Q39/$S$9 -> 0.083191851 | U39: =Q39-Q38 -> 23 | V39: =(R39-R38)/U39 -> 524.78261
B40: =B39+1 -> 28 | C40: =4599+423 -> 5022 | D40: =2738636.23+183448.93 -> 2922085.2 | E40: =D40/C40 -> 581.85686 | F40: =C40/$E$9 -> 0.65587045 | G40: =(C40-C39) -> 27 | H40: =(D40-D39)/G40 -> 778.61333 | J40: 2319 | K40: 878782 | L40: =K40/J40 -> 378.94868 | M40: =J40/$L$9 -> 0.31295547 | N40: =(J40-J39) -> 35 | O40: =(K40-K39)/N40 -> 577.50429 | Q40: 655 | R40: 235212.69 | S40: =R40/Q40 -> 359.10334 | T40: =Q40/$S$9 -> 0.085542641 | U40: =Q40-Q39 -> 18 | V40: =(R40-R39)/U40 -> 410.09278
B41: =B40+1 -> 29 | C41: =4738+297 -> 5035 | D41: =2809104.38+132829.23 -> 2941933.6 | E41: =D41/C41 -> 584.29665 | F41: =C41/$E$9 -> 0.65756824 | G41: =(C41-C40) -> 13 | H41: =(D41-D40)/G41 -> 1526.8038 | I41: 0 | J41: 2447 | K41: 938885.39 | L41: =K41/J41 -> 383.68835 | M41: =J41/$L$9 -> 0.33022942 | N41: =(J41-J40) -> 128 | O41: =(K41-K40)/N41 -> 469.55773 | Q41: 677 | R41: 241262.69 | S41: =R41/Q41 -> 356.3703 | T41: =Q41/$S$9 -> 0.088415829 | U41: =Q41-Q40 -> 22 | V41: =(R41-R40)/U41 -> 275
B42: 30 | C42: =4891+160 -> 5051 | D42: =72457.62+2889510.3 -> 2961967.9 | E42: =D42/C42 -> 586.41218 | F42: =C42/$E$9 -> 0.65965783 | G42: =(C42-C41) -> 16 | H42: =(D42-D41)/G42 -> 1252.1444 | J42: 2565 | K42: 993444.08 | L42: =K42/J42 -> 387.30763 | M42: =J42/$L$9 -> 0.34615385 | N42: =(J42-J41) -> 118 | O42: =(K42-K41)/N42 -> 462.36178 | Q42: 684 | R42: 243187.69 | S42: =R42/Q42 -> 355.53756 | T42: =Q42/$S$9 -> 0.089330025 | U42: =Q42-Q41 -> 7 | V42: =(R42-R41)/U42 -> 275
B43: 31 | C43: 5063 | D43: 2978468.5 | E43: =D43/C43 -> 588.28136 | F43: =C43/$E$9 -> 0.66122502 | G43: =(C43-C42) -> 12 | H43: =(D43-D42)/G43 -> 1375.0492 | J43: 2767 | K43: 1072187.3 | L43: =K43/J43 -> 387.49088 | M43: =J43/$L$9 -> 0.3734143 | N43: =(J43-J42) -> 202 | O43: =(K43-K42)/N43 -> 389.81777 | Q43: 707 | R43: 243395.95 | S43: =R43/Q43 -> 344.26584 | T43: =Q43/$S$9 -> 0.092333812 | U43: =Q43-Q42 -> 23 | V43: =(R43-R42)/U43 -> 9.0547826

Sheet June,July,Aug 
N3: Hotel Name :
N4: Date :
A6: June | B6: June | J6: July | Q6: Aug
C7: Budget Rm Nts | E7: 5820 | G7: Budget Avg | H7: 456.45 | J7: Budget Rm Nts | L7: 5520 | N7: Budget Avg | O7: 485.86 | Q7: Budget Rm Nts | S7: 3610 | U7: Budget Avg | V7: 481.3
C8: Budget Occ % | E8: 0.785 | F8: Budget Rm Rev | H8: 2656525 | J8: Budget Occ % | L8: 0.745 | M8: Budget Rm Rev | O8: 2681925 | Q8: Budget Occ % | S8: 0.471 | T8: Budget Rm Rev | V8: 1737500
C9: Available Rms | E9: 7410 | J9: Available Rms | L9: 7657 | Q9: Available Rms | S9: 7657
B10: Month of Jun, July, Aug
B11: Day of the Month | C11: Total Rooms On the Books for whole month | D11: Total Revenue On the Books for whole month | E11: Average Rate per Month | F11: Occ % for end of the Month | G11: Pick-Up Room Nights per Day | H11: Avg Rate Pick Up | J11: Total Rooms On the Books for whole month | K11: Total Revenue On the Books for whole month | L11: Average Rate per Month | M11: Occ % for end of the Month | N11: Pick-Up Room Nights per Day | O11: Avg Rate Pick Up | Q11: Total Rooms On the Books for whole month | R11: Total Revenue On the Books for whole month | S11: Average Rate per Month | T11: Occ % for end of the Month | U11: Pick-Up Room Nights per Day | V11: Avg Rate Pick up
C12: 304 | D12: 304 | E12: 304 | F12: 304 | G12: 304 | H12: 304 | I12: 304 | J12: 304 | K12: 304 | L12: 304 | M12: 304 | N12: 304 | O12: 304 | P12: 304 | Q12: 304 | R12: 304 | S12: 304 | T12: 304 | U12: 304 | V12: 304
B13: 1 | C13: =2665+199 -> 2864 | D13: =1050368.51+106638.55 -> 1157007.1 | E13: =D13/C13 -> 403.98291 | F13: =C13/$E$9 -> 0.38650472 | G13: =C13-'May, June , July'!J43 -> 97 | H13: =(D13-'May, June , July'!K43)/'June,July,Aug '!G13 -> 874.43082 | J13: 754 | K13: 278038.71 | L13: =K13/J13 -> 368.7516 | M13: =J13/$L$9 -> 0.098471986 | N13: =J13-'May, June , July'!Q43 -> 47 | O13: 737.08 | Q13: 216 | R13: 54970.46 | S13: =R13/Q13 -> 254.49287 | T13: =Q13/$S$9 -> 0.028209482 | U13: 0 | V13: 0
B14: =B13+1 -> 2 | C14: =432+2549 -> 2981 | D14: =228123.26+1008477.02 -> 1236600.3 | E14: =D14/C14 -> 414.82733 | F14: =C14/$E$9 -> 0.4022942 | G14: =(C14-C13) -> 117 | H14: =(D14-D13)/G14 -> 680.28393 | J14: 780 | K14: 285713.71 | L14: =K14/J14 -> 366.29963 | M14: =J14/$L$9 -> 0.10186757 | N14: =(J14-J13) -> 26 | O14: =-(K14-K13)/-N14 -> 295.19231 | Q14: 224 | R14: 57645.46 | S14: =R14/Q14 -> 257.3458 | T14: =Q14/$S$9 -> 0.029254277 | U14: =Q14-Q13 -> 8 | V14: =(R14-R13)/U14 -> 334.375 | AA14: =278038.71+1 -> 278039.71
B15: =B14+1 -> 3 | C15: =2389+609 -> 2998 | D15: =318792.43+943465.08 -> 1262257.5 | E15: =D15/C15 -> 421.03319 | F15: =C15/$E$9 -> 0.40458839 | G15: =(C15-C14) -> 17 | H15: =(D15-D14)/G15 -> 1509.2488 | J15: 781 | K15: 286821.21 | L15: =K15/J15 -> 367.24867 | M15: =J15/$L$9 -> 0.10199817 | N15: =(J15-J14) -> 1 | O15: =-(K15-K14)/-N15 -> 1107.5 | Q15: 225 | R15: 57970.46 | S15: =R15/Q15 -> 257.64649 | T15: =Q15/$S$9 -> 0.029384877 | U15: =Q15-Q14 -> 1 | V15: =(R15-R14)/U15 -> 325
B16: 4 | C16: =2283+760 -> 3043 | D16: =387740.62+899926.53 -> 1287667.1 | E16: =D16/C16 -> 423.15713 | F16: =C16/$E$9 -> 0.41066127 | G16: =(C16-C15) -> 45 | H16: =(D16-D15)/G16 -> 564.65867 | J16: 796 | K16: 290186.25 | L16: =K16/J16 -> 364.55559 | M16: =J16/$L$9 -> 0.10395716 | N16: =(J16-J15) -> 15 | O16: =-(K16-K15)/-N16 -> 224.336 | Q16: 225 | R16: 57770.46 | S16: =R16/Q16 -> 256.7576 | T16: =Q16/$S$9 -> 0.029384877 | U16: =Q16-Q15 -> 0 | V16: 0
B17: =B16+1 -> 5 | C17: =958+2130 -> 3088 | D17: =846033.18+475581.2 -> 1321614.4 | E17: =D17/C17 -> 427.98393 | F17: =C17/$E$9 -> 0.41673414 | G17: =(C17-C16) -> 45 | H17: =(D17-D16)/G17 -> 754.38289 | J17: 808 | K17: 292261.19 | L17: =K17/J17 -> 361.70939 | M17: =J17/$L$9 -> 0.10552436 | N17: =(J17-J16) -> 12 | O17: =(K17-K16)/N17 -> 172.91167 | Q17: 225 | R17: 57770.46 | S17: =R17/Q17 -> 256.7576 | T17: =Q17/$S$9 -> 0.029384877 | U17: 0 | V17: 0
B18: =B17+1 -> 6 | C18: =1177+2147 -> 3324 | D18: =577618.44+874897.94 -> 1452516.4 | E18: =D18/C18 -> 436.97845 | F18: =C18/$E$9 -> 0.448583 | G18: =(C18-C17) -> 236 | H18: =(D18-D17)/G18 -> 554.66949 | I18: 0 | J18: 859 | K18: 348556.17 | L18: =K18/J18 -> 405.7697 | M18: =J18/$L$9 -> 0.11218493 | N18: =(J18-J17) -> 51 | O18: =(K18-K17)/N18 -> 1103.8231 | Q18: 225 | R18: 57770.46 | S18: =R18/Q18 -> 256.7576 | T18: =Q18/$S$9 -> 0.029384877 | U18: 0 | V18: 0
B19: =B18+1 -> 7 | C19: =1395+2007 -> 3402 | D19: =683083.64+827045.15 -> 1510128.8 | E19: =D19/C19 -> 443.89441 | F19: =C19/$E$9 -> 0.45910931 | G19: =(C19-C18) -> 78 | H19: =(D19-D18)/G19 -> 738.62064 | J19: 872 | K19: 353681.17 | L19: =K19/J19 -> 405.59767 | M19: =J19/$L$9 -> 0.11388272 | N19: =(J19-J18) -> 13 | O19: =-(K19-K18)/-N19 -> 394.23077 | Q19: 225 | R19: 57770.46 | S19: =R19/Q19 -> 256.7576 | T19: =Q19/$S$9 -> 0.029384877 | U19: 0 | V19: 0
B20: =B19+1 -> 8 | C20: =1960+1609 -> 3569 | D20: =815637.89+788087.38 -> 1603725.3 | E20: =D20/C20 -> 449.34863 | F20: =C20/$E$9 -> 0.48164642 | G20: =(C20-C19) -> 167 | H20: =(D20-D19)/G20 -> 560.45796 | J20: 883 | K20: 365954.52 | L20: =K20/J20 -> 414.44453 | M20: =J20/$L$9 -> 0.11531932 | N20: =(J20-J19) -> 11 | O20: =(K20-K19)/N20 -> 1115.7591 | Q20: 225 | R20: 57770.46 | S20: =R20/Q20 -> 256.7576 | T20: =Q20/$S$9 -> 0.029384877 | U20: 0 | V20: 0
B21: =B20+1 -> 9 | C21: =1828+1927 -> 3755 | D21: =901697.91+818046.8 -> 1719744.7 | E21: =D21/C21 -> 457.98794 | F21: =C21/$E$9 -> 0.50674764 | G21: =(C21-C20) -> 186 | H21: =(D21-D20)/G21 -> 623.76043 | J21: 930 | K21: 380312.84 | L21: =K21/J21 -> 408.93854 | M21: =J21/$L$9 -> 0.12145749 | N21: =(J21-J20) -> 47 | O21: =(K21-K20)/N21 -> 305.49617 | Q21: 229 | R21: 58870.46 | S21: =R21/Q21 -> 257.07624 | T21: =Q21/$S$9 -> 0.029907274 | U21: =Q21-Q20 -> 4 | V21: =(R21-R20)/U21 -> 275
B22: =B21+1 -> 10 | C22: =1828+1971 -> 3799 | D22: =777651.67+966740.04 -> 1744391.7 | E22: =D22/C22 -> 459.17128 | F22: =C22/$E$9 -> 0.51268556 | G22: =(C22-C21) -> 44 | H22: =(D22-D21)/G22 -> 560.15909 | J22: 958 | K22: 404252.84 | L22: =K22/J22 -> 421.97582 | M22: =J22/$L$9 -> 0.12511427 | N22: =(J22-J21) -> 28 | O22: =(K22-K21)/N22 -> 855 | Q22: 234 | R22: 59720.46 | S22: =R22/Q22 -> 255.21564 | T22: =Q22/$S$9 -> 0.030560272 | U22: =Q22-Q21 -> 5 | V22: =(R22-R21)/U22 -> 170
B23: =B22+1 -> 11 | C23: =1736+2085 -> 3821 | D23: =746822.4+1025539.99 -> 1772362.4 | E23: =D23/C23 -> 463.84779 | F23: =C23/$E$9 -> 0.51565452 | G23: =(C23-C22) -> 22 | H23: =(D23-D22)/G23 -> 1271.3945 | J23: 972 | K23: 408802.84 | L23: =K23/J23 -> 420.57905 | M23: =J23/$L$9 -> 0.12694267 | N23: =(J23-J22) -> 14 | O23: =(K23-K22)/N23 -> 325 | Q23: 234 | R23: 59720.46 | S23: =R23/Q23 -> 255.21564 | T23: =Q23/$S$9 -> 0.030560272 | U23: =Q23-Q22 -> 0 | V23: 0
B24: =B23+1 -> 12 | C24: =2230+1746 -> 3976 | D24: =749152.88+1097559.52 -> 1846712.4 | E24: =D24/C24 -> 464.46489 | F24: =C24/$E$9 -> 0.5365722 | G24: =(C24-C23) -> 155 | H24: =(D24-D23)/G24 -> 479.67748 | I24: 635.86 | J24: 1086 | K24: 460205.51 | L24: =K24/J24 -> 423.76198 | M24: =J24/$L$9 -> 0.141831 | N24: =(J24-J23) -> 114 | O24: =(K24-K23)/N24 -> 450.90061 | Q24: 234 | R24: 59720.46 | S24: =R24/Q24 -> 255.21564 | T24: =Q24/$S$9 -> 0.030560272 | U24: 0 | V24: 0
B25: =B24+1 -> 13 | C25: =1661+2412 -> 4073 | D25: =722105.72+1194483.46 -> 1916589.2 | E25: =D25/C25 -> 470.55958 | F25: =C25/$E$9 -> 0.54966262 | G25: =(C25-C24) -> 97 | H25: =(D25-D24)/G25 -> 720.37918 | J25: 1134 | K25: 478702.19 | L25: =K25/J25 -> 422.13597 | M25: =J25/$L$9 -> 0.14809978 | N25: =(J25-J24) -> 48 | O25: =(K25-K24)/N25 -> 385.3475 | Q25: 234 | R25: 59720.46 | S25: =R25/Q25 -> 255.21564 | T25: =Q25/$S$9 -> 0.030560272 | U25: 0 | V25: 0
B26: =B25+1 -> 14 | C26: =1548+2611 -> 4159 | D26: =1304106.4+669166.65 -> 1973273 | E26: =D26/C26 -> 474.45854 | F26: =C26/$E$9 -> 0.56126856 | G26: =(C26-C25) -> 86 | H26: =(D26-D25)/G26 -> 659.11477 | J26: 1153 | K26: 486775.49 | L26: =K26/J26 -> 422.18169 | M26: =J26/$L$9 -> 0.15058117 | N26: =(J26-J25) -> 19 | O26: =(K26-K25)/N26 -> 424.91053 | Q26: 236 | R26: 60033.8 | S26: =R26/Q26 -> 254.38051 | T26: =Q26/$S$9 -> 0.030821471 | U26: =Q26-Q25 -> 2 | V26: =(R26-R25)/U26 -> 156.67
B27: =B26+1 -> 15 | C27: =2795+1482 -> 4277 | D27: =1405413.64+609466.34 -> 2014880 | E27: =D27/C27 -> 471.09656 | F27: =C27/$E$9 -> 0.57719298 | G27: =(C27-C26) -> 118 | H27: =(D27-D26)/G27 -> 352.6011 | J27: 1279 | K27: 526942.83 | L27: =K27/J27 -> 411.99596 | M27: =J27/$L$9 -> 0.1670367 | N27: =(J27-J26) -> 126 | O27: =(K27-K26)/N27 -> 318.78841 | Q27: 246 | R27: 65033.8 | S27: =R27/Q27 -> 264.36504 | T27: =Q27/$S$9 -> 0.032127465 | U27: =Q27-Q26 -> 10 | V27: =(R27-R26)/U27 -> 500
B28: =B27+1 -> 16 | C28: =1591+2982 -> 4573 | D28: =641785.43+1511760.25 -> 2153545.7 | E28: =D28/C28 -> 470.92624 | F28: =C28/$E$9 -> 0.617139 | G28: =(C28-C27) -> 296 | H28: =(D28-D27)/G28 -> 468.4652 | J28: 1362 | K28: 566080.14 | L28: =K28/J28 -> 415.62419 | M28: =J28/$L$9 -> 0.17787645 | N28: =(J28-J27) -> 83 | O28: =(K28-K27)/N28 -> 471.53386 | Q28: 246 | R28: 65033.8 | S28: =R28/Q28 -> 264.36504 | T28: =Q28/$S$9 -> 0.032127465 | U28: 0 | V28: 0
B29: =B28+1 -> 17 | C29: =1499+3131 -> 4630 | D29: =616898.71+1582376.89 -> 2199275.6 | E29: =D29/C29 -> 475.00553 | F29: =C29/$E$9 -> 0.62483131 | G29: =(C29-C28) -> 57 | H29: =(D29-D28)/G29 -> 802.2793 | J29: 1349 | K29: 563220.14 | L29: =K29/J29 -> 417.50937 | M29: =J29/$L$9 -> 0.17617866 | N29: =(J29-J28) -> -13 | O29: =(K29-K28)/N29 -> 220 | Q29: 246 | R29: 65033.8 | S29: =R29/Q29 -> 264.36504 | T29: =Q29/$S$9 -> 0.032127465 | U29: 0 | V29: 0
B30: =B29+1 -> 18 | C30: =3249+1422 -> 4671 | D30: =1647127.11+574592.52 -> 2221719.6 | E30: =D30/C30 -> 475.64111 | F30: =C30/$E$9 -> 0.63036437 | G30: =(C30-C29) -> 41 | H30: =(D30-D29)/G30 -> 547.41537 | J30: 1375 | K30: 574595.14 | L30: =K30/J30 -> 417.88737 | M30: =J30/$L$9 -> 0.17957425 | N30: =(J30-J29) -> 26 | O30: =(K30-K29)/N30 -> 437.5 | Q30: 247 | R30: 65308.8 | S30: =R30/Q30 -> 264.4081 | T30: =Q30/$S$9 -> 0.032258065 | U30: =Q30-Q29 -> 1 | V30: =(R30-R29)/U30 -> 275
B31: =B30+1 -> 19 | C31: =1401+3381 -> 4782 | D31: =1711901.4+569565.87 -> 2281467.3 | E31: =D31/C31 -> 477.09479 | F31: =C31/$E$9 -> 0.64534413 | G31: =(C31-C30) -> 111 | H31: =(D31-D30)/G31 -> 538.26703 | J31: 1465 | K31: 613132.11 | L31: =K31/J31 -> 418.52021 | M31: =J31/$L$9 -> 0.1913282 | N31: =(J31-J30) -> 90 | O31: =(K31-K30)/N31 -> 428.18856 | Q31: 249 | R31: 65492.12 | S31: =R31/Q31 -> 263.02056 | T31: =Q31/$S$9 -> 0.032519263 | U31: =Q31-Q30 -> 2 | V31: =(R31-R30)/U31 -> 91.66
B32: =B31+1 -> 20 | C32: =1343+3537 -> 4880 | D32: =1786284.2+539317.34 -> 2325601.5 | E32: =D32/C32 -> 476.55769 | F32: =C32/$E$9 -> 0.6585695 | G32: =(C32-C31) -> 98 | H32: =(D32-D31)/G32 -> 450.34969 | J32: 1499 | K32: 614855.87 | L32: =K32/J32 -> 410.17736 | M32: =J32/$L$9 -> 0.19576858 | N32: =(J32-J31) -> 34 | O32: =(K32-K31)/N32 -> 50.698824 | Q32: 252 | R32: 64530.46 | S32: =R32/Q32 -> 256.07325 | T32: =Q32/$S$9 -> 0.032911062 | U32: =Q32-Q31 -> 3 | V32: =(R32-R31)/U32 -> -320.55333
B33: =B32+1 -> 21 | C33: =3696+1272 -> 4968 | D33: =1866476.24+502671.2 -> 2369147.4 | E33: =D33/C33 -> 476.88153 | F33: =C33/$E$9 -> 0.67044534 | G33: =(C33-C32) -> 88 | H33: =(D33-D32)/G33 -> 494.83977 | J33: 1570 | K33: 641795.48 | L33: =K33/J33 -> 408.78693 | M33: =J33/$L$9 -> 0.20504114 | N33: =(J33-J32) -> 71 | O33: =(K33-K32)/N33 -> 379.43113 | Q33: 254 | R33: 65080.46 | S33: =R33/Q33 -> 256.22228 | T33: =Q33/$S$9 -> 0.033172261 | U33: =Q33-Q32 -> 2 | V33: =(R33-R32)/U33 -> 275
B34: =B33+1 -> 22 | C34: =1241+3867 -> 5108 | D34: =485528.84+1953343.02 -> 2438871.9 | E34: =D34/C34 -> 477.46121 | F34: =C34/$E$9 -> 0.68933873 | G34: =(C34-C33) -> 140 | H34: =(D34-D33)/G34 -> 498.03157 | J34: 1972 | K34: 762128.81 | L34: =K34/J34 -> 386.47506 | M34: =J34/$L$9 -> 0.25754212 | N34: =(J34-J33) -> 402 | O34: =(K34-K33)/N34 -> 299.33664 | Q34: 257 | R34: 65530.46 | S34: =R34/Q34 -> 254.98233 | T34: =Q34/$S$9 -> 0.033564059 | U34: =Q34-Q33 -> 3 | V34: =(R34-R33)/U34 -> 150
B35: =B34+1 -> 23 | C35: =4067+1117 -> 5184 | D35: =2053636.74+446089.33 -> 2499726.1 | E35: =D35/C35 -> 482.20024 | F35: =C35/$E$9 -> 0.69959514 | G35: =(C35-C34) -> 76 | H35: =(D35-D34)/G35 -> 800.71329 | J35: 2142 | K35: 834666.31 | L35: =K35/J35 -> 389.66681 | M35: =J35/$L$9 -> 0.27974403 | N35: =(J35-J34) -> 170 | O35: =(K35-K34)/N35 -> 426.69118 | Q35: 260 | R35: 65805.44 | S35: =R35/Q35 -> 253.09785 | T35: =Q35/$S$9 -> 0.033955857 | U35: =Q35-Q34 -> 3 | V35: =(R35-R34)/U35 -> 91.66
B36: =B35+1 -> 24 | C36: =4247+981 -> 5228 | D36: =392786.45+2136574.46 -> 2529360.9 | E36: =D36/C36 -> 483.81043 | F36: =C36/$E$9 -> 0.70553306 | G36: =(C36-C35) -> 44 | H36: =(D36-D35)/G36 -> 673.51909 | J36: 2250 | K36: 888825.29 | L36: =K36/J36 -> 395.03346 | M36: =J36/$L$9 -> 0.29384877 | N36: =(J36-J35) -> 108 | O36: =(K36-K35)/N36 -> 501.47204 | Q36: 260 | R36: 65805.44 | S36: =R36/Q36 -> 253.09785 | T36: =Q36/$S$9 -> 0.033955857 | U36: =Q36-Q35 -> 0 | V36: 0
B37: =B36+1 -> 25 | C37: =4375+881 -> 5256 | D37: =2193874.42+369581.2 -> 2563455.6 | E37: =D37/C37 -> 487.71987 | F37: =C37/$E$9 -> 0.70931174 | G37: =(C37-C36) -> 28 | H37: =(D37-D36)/G37 -> 1217.6682 | J37: 2267 | K37: 889293.06 | L37: =K37/J37 -> 392.27749 | M37: =J37/$L$9 -> 0.29606896 | N37: =(J37-J36) -> 17 | O37: =(K37-K36)/N37 -> 27.515882 | Q37: 261 | R37: 66357.94 | S37: =R37/Q37 -> 254.24498 | T37: =Q37/$S$9 -> 0.034086457 | U37: =Q37-Q36 -> 1 | V37: =(R37-R36)/U37 -> 552.5
B38: =B37+1 -> 26 | C38: =733+4515 -> 5248 | D38: =2259435.39+320963.11 -> 2580398.5 | E38: =D38/C38 -> 491.69179 | F38: =C38/$E$9 -> 0.70823212 | G38: =(C38-C37) -> -8 | H38: =(D38-D37)/G38 -> -2117.86 | J38: 2350 | K38: 934985.08 | L38: =K38/J38 -> 397.86599 | M38: =J38/$L$9 -> 0.30690871 | N38: =(J38-J37) -> 83 | O38: =(K38-K37)/N38 -> 550.50627 | Q38: 267 | R38: 67357.94 | S38: =R38/Q38 -> 252.27693 | T38: =Q38/$S$9 -> 0.034870054 | U38: =Q38-Q37 -> 6 | V38: =(R38-R37)/U38 -> 166.66667
B39: =B38+1 -> 27 | C39: =564+4685 -> 5249 | D39: =262899.76+2341112.01 -> 2604011.8 | E39: =D39/C39 -> 496.09674 | F39: =C39/$E$9 -> 0.70836707 | G39: =(C39-C38) -> 1 | H39: =(D39-D38)/G39 -> 23613.27 | J39: 2510 | K39: 1004032.5 | L39: =K39/J39 -> 400.01296 | M39: =J39/$L$9 -> 0.32780462 | N39: =(J39-J38) -> 160 | O39: =(K39-K38)/N39 -> 431.54663 | Q39: 272 | R39: 69041.28 | S39: =R39/Q39 -> 253.82824 | T39: =Q39/$S$9 -> 0.035523051 | U39: =Q39-Q38 -> 5 | V39: =(R39-R38)/U39 -> 336.668
B40: =B39+1 -> 28 | C40: =411+4857 -> 5268 | D40: =2428962.04+197034.12 -> 2625996.2 | E40: =D40/C40 -> 498.48067 | F40: =C40/$E$9 -> 0.71093117 | G40: =(C40-C39) -> 19 | H40: =(D40-D39)/G40 -> 1157.0732 | J40: 2653 | K40: 1054533.3 | L40: =K40/J40 -> 397.48711 | M40: =J40/$L$9 -> 0.34648034 | N40: =(J40-J39) -> 143 | O40: =(K40-K39)/N40 -> 353.1521 | Q40: 282 | R40: 75266.28 | S40: =R40/Q40 -> 266.9017 | T40: =Q40/$S$9 -> 0.036829045 | U40: =Q40-Q39 -> 10 | V40: =(R40-R39)/U40 -> 622.5
B41: =B40+1 -> 29 | C41: =5065+230 -> 5295 | D41: =2545624.71+116284.31 -> 2661909 | E41: =D41/C41 -> 502.72125 | F41: =C41/$E$9 -> 0.7145749 | G41: =(C41-C40) -> 27 | H41: =(D41-D40)/G41 -> 1330.1059 | I41: 0 | J41: 2817 | K41: 1124161.5 | L41: =K41/J41 -> 399.06338 | M41: =J41/$L$9 -> 0.36789865 | N41: =(J41-J40) -> 164 | O41: =(K41-K40)/N41 -> 424.56244 | Q41: 285 | R41: 76091.28 | S41: =R41/Q41 -> 266.98695 | T41: =Q41/$S$9 -> 0.037220844 | U41: =Q41-Q40 -> 3 | V41: =(R41-R40)/U41 -> 275
B42: 30 | C42: 5299 | D42: 2696711.7 | E42: =D42/C42 -> 508.90955 | F42: =C42/$E$9 -> 0.71511471 | G42: =(C42-C41) -> 4 | H42: =(D42-D41)/G42 -> 8700.665 | J42: 2954 | K42: 1197770.2 | L42: =K42/J42 -> 405.47401 | M42: =J42/$L$9 -> 0.38579078 | N42: =(J42-J41) -> 137 | O42: =(K42-K41)/N42 -> 537.28971 | Q42: 292 | R42: 80342.28 | S42: =R42/Q42 -> 275.14479 | T42: =Q42/$S$9 -> 0.03813504 | U42: =Q42-Q41 -> 7 | V42: =(R42-R41)/U42 -> 607.28571
B43: 31 | E43: =D43/C43 -> #DIV/0! | F43: =C43/$E$9 -> 0 | G43: 0 | H43: =(D43-D42)/G43 -> #DIV/0! | L43: =K43/J43 -> #DIV/0! | M43: =J43/$L$9 -> 0 | N43: 0 | O43: =(K43-K42)/N43 -> #DIV/0! | S43: =R43/Q43 -> #DIV/0! | T43: =Q43/$S$9 -> 0 | U43: 0 | V43: =(R43-R42)/U43 -> #DIV/0!

Sheet July,Aug,Sept
N3: Hotel Name :
N4: Date :
A6: June | B6: July | J6: Aug | Q6: Sept
C7: Budget Rm Nts | E7: 5615 | G7: Budget Avg | H7: 452 | J7: Budget Rm Nts | L7: 3610 | N7: Budget Avg | O7: 481.3 | Q7: Budget Rm Nts | S7: 5585 | U7: Budget Avg | V7: 671.84
C8: Budget Occ % | E8: 0.733 | F8: Budget Rm Rev | H8: 2537631 | J8: Budget Occ % | L8: 0.471 | M8: Budget Rm Rev | O8: 1737500 | Q8: Budget Occ % | S8: 0.754 | T8: Budget Rm Rev | V8: 3752250
C9: Available Rms | E9: 7657 | J9: Available Rms | L9: 7657 | Q9: Available Rms | S9: 7657
B10: Month of July, Aug, Sept
B11: Day of the Month | C11: Total Rooms On the Books for whole month | D11: Total Revenue On the Books for whole month | E11: Average Rate per Month | F11: Occ % for end of the Month | G11: Pick-Up Room Nights per Day | H11: Avg Rate Pick Up | J11: Total Rooms On the Books for whole month | K11: Total Revenue On the Books for whole month | L11: Average Rate per Month | M11: Occ % for end of the Month | N11: Pick-Up Room Nights per Day | O11: Avg Rate Pick Up | Q11: Total Rooms On the Books for whole month | R11: Total Revenue On the Books for whole month | S11: Average Rate per Month | T11: Occ % for end of the Month | U11: Pick-Up Room Nights per Day | V11: Avg Rate Pick up
C12: 304 | D12: 304 | E12: 304 | F12: 304 | G12: 304 | H12: 304 | I12: 304 | J12: 304 | K12: 304 | L12: 304 | M12: 304 | N12: 304 | O12: 304 | P12: 304 | Q12: 304 | R12: 304 | S12: 304 | T12: 304 | U12: 304 | V12: 304
B13: 1 | C13: =2845+205 -> 3050 | D13: =1142134.88+115212.09 -> 1257347 | E13: =D13/C13 -> 412.24491 | F13: =C13/$E$9 -> 0.39832833 | G13: =C13-'June,July,Aug '!J42 -> 96 | H13: =(D13-'June,July,Aug '!K42)/'July,Aug,Sept'!G13 -> 620.59115 | J13: 292 | K13: 80342.28 | L13: =K13/J13 -> 275.14479 | M13: =J13/$L$9 -> 0.03813504 | N13: =J13-'June,July,Aug '!Q42 -> 0 | O13: 0 | Q13: 272 | R13: 125976.85 | S13: =R13/Q13 -> 463.15018 | T13: =Q13/$S$9 -> 0.035523051 | U13: 0 | V13: 0
B14: =B13+1 -> 2 | C14: =375+2823 -> 3198 | D14: =1137233.06+199906.33 -> 1337139.4 | E14: =D14/C14 -> 418.11738 | F14: =C14/$E$9 -> 0.41765705 | G14: =(C14-C13) -> 148 | H14: =(D14-D13)/G14 -> 539.13797 | J14: 299 | K14: 81654.78 | L14: =K14/J14 -> 273.09291 | M14: =J14/$L$9 -> 0.039049236 | N14: =(J14-J13) -> 7 | O14: =-(K14-K13)/-N14 -> 187.5 | Q14: 272 | R14: 125976.85 | S14: =R14/Q14 -> 463.15018 | T14: =Q14/$S$9 -> 0.035523051 | U14: 0 | V14: 0
B15: =B14+1 -> 3 | C15: =559+2824 -> 3383 | D15: =294500.35+1132434.65 -> 1426935 | E15: =D15/C15 -> 421.79574 | F15: =C15/$E$9 -> 0.44181794 | G15: =(C15-C14) -> 185 | H15: =(D15-D14)/G15 -> 485.38168 | J15: 299 | K15: 81654.78 | L15: =K15/J15 -> 273.09291 | M15: =J15/$L$9 -> 0.039049236 | N15: =(J15-J14) -> 0 | O15: 0 | Q15: 272 | R15: 125976.85 | S15: =R15/Q15 -> 463.15018 | T15: =Q15/$S$9 -> 0.035523051 | U15: 0 | V15: 0
B16: 4 | C16: =2925+724 -> 3649 | D16: =1175459.5+372068.26 -> 1547527.8 | E16: =D16/C16 -> 424.0964 | F16: =C16/$E$9 -> 0.4765574 | G16: =(C16-C15) -> 266 | H16: =(D16-D15)/G16 -> 453.35624 | J16: 301 | K16: 82204.78 | L16: =K16/J16 -> 273.10558 | M16: =J16/$L$9 -> 0.039310435 | N16: =(J16-J15) -> 2 | O16: =-(K16-K15)/-N16 -> 275 | Q16: 272 | R16: 125976.85 | S16: =R16/Q16 -> 463.15018 | T16: =Q16/$S$9 -> 0.035523051 | U16: 0 | V16: 0
B17: =B16+1 -> 5 | C17: =923+2893 -> 3816 | D17: =1149753.55+465747.18 -> 1615500.7 | E17: =D17/C17 -> 423.34925 | F17: =C17/$E$9 -> 0.49836751 | G17: =(C17-C16) -> 167 | H17: =(D17-D16)/G17 -> 407.02377 | J17: 301 | K17: 82204.78 | L17: =K17/J17 -> 273.10558 | M17: =J17/$L$9 -> 0.039310435 | N17: 0 | O17: =(K17-K16)/N17 -> #DIV/0! | Q17: 272 | R17: 122976.85 | S17: =R17/Q17 -> 452.12077 | T17: =Q17/$S$9 -> 0.035523051 | U17: 0 | V17: 0
B18: =B17+1 -> 6 | C18: =1132+3000 -> 4132 | D18: =571884.86+1200115.85 -> 1772000.7 | E18: =D18/C18 -> 428.84819 | F18: =C18/$E$9 -> 0.53963693 | G18: =(C18-C17) -> 316 | H18: =(D18-D17)/G18 -> 495.2531 | I18: 0 | J18: 308 | K18: 83316.47 | L18: =K18/J18 -> 270.50802 | M18: =J18/$L$9 -> 0.040224631 | N18: =(J18-J17) -> 7 | O18: =(K18-K17)/N18 -> 158.81286 | Q18: 277 | R18: 125185.2 | S18: =R18/Q18 -> 451.93213 | T18: =Q18/$S$9 -> 0.036176048 | U18: 0 | V18: 0
B19: =B18+1 -> 7 | C19: =3162+1357 -> 4519 | D19: =1289069.27+690580.5 -> 1979649.8 | E19: =D19/C19 -> 438.07253 | F19: =C19/$E$9 -> 0.59017892 | G19: =(C19-C18) -> 387 | H19: =(D19-D18)/G19 -> 536.56088 | J19: 318 | K19: 88041.47 | L19: =K19/J19 -> 276.85997 | M19: =J19/$L$9 -> 0.041530626 | N19: =(J19-J18) -> 10 | O19: =-(K19-K18)/-N19 -> 472.5 | Q19: 282 | R19: 125526.87 | S19: =R19/Q19 -> 445.13074 | T19: =Q19/$S$9 -> 0.036829045 | U19: =Q19-Q18 -> 5 | V19: =(R19-R18)/U19 -> 68.334
B20: =B19+1 -> 8 | C20: =3058+1571 -> 4629 | D20: =791601.63+1273185.05 -> 2064786.7 | E20: =D20/C20 -> 446.05459 | F20: =C20/$E$9 -> 0.60454486 | G20: =(C20-C19) -> 110 | H20: =(D20-D19)/G20 -> 773.97191 | J20: 328 | K20: 95074.81 | L20: =K20/J20 -> 289.86223 | M20: =J20/$L$9 -> 0.04283662 | N20: =(J20-J19) -> 10 | O20: =(K20-K19)/N20 -> 703.334 | Q20: 282 | R20: 125526.87 | S20: =R20/Q20 -> 445.13074 | T20: =Q20/$S$9 -> 0.036829045 | U20: 0 | V20: 0
B21: =B20+1 -> 9 | C21: =3068+1769 -> 4837 | D21: =881018.57+1301901.03 -> 2182919.6 | E21: =D21/C21 -> 451.29618 | F21: =C21/$E$9 -> 0.63170955 | G21: =(C21-C20) -> 208 | H21: =(D21-D20)/G21 -> 567.94673 | J21: 370 | K21: 110018.16 | L21: =K21/J21 -> 297.34638 | M21: =J21/$L$9 -> 0.048321797 | N21: =(J21-J20) -> 42 | O21: =(K21-K20)/N21 -> 355.79405 | Q21: 308 | R21: 144143.57 | S21: =R21/Q21 -> 467.9986 | T21: =Q21/$S$9 -> 0.040224631 | U21: =Q21-Q20 -> 26 | V21: =(R21-R20)/U21 -> 716.02692
B22: =B21+1 -> 10 | C22: =2992+1968 -> 4960 | D22: =975262.68+1286899.25 -> 2262161.9 | E22: =D22/C22 -> 456.08103 | F22: =C22/$E$9 -> 0.64777328 | G22: =(C22-C21) -> 123 | H22: =(D22-D21)/G22 -> 644.24659 | J22: 386 | K22: 117484.8 | L22: =K22/J22 -> 304.36477 | M22: =J22/$L$9 -> 0.050411388 | N22: =(J22-J21) -> 16 | O22: =(K22-K21)/N22 -> 466.665 | Q22: 308 | R22: 143843.57 | S22: =R22/Q22 -> 467.02458 | T22: =Q22/$S$9 -> 0.040224631 | U22: 0 | V22: 0
B23: =B22+1 -> 11 | C23: =2932+2168 -> 5100 | D23: =1071161.83+1249434.75 -> 2320596.6 | E23: =D23/C23 -> 455.01894 | F23: =C23/$E$9 -> 0.6660572 | G23: =(C23-C22) -> 140 | H23: =(D23-D22)/G23 -> 417.39036 | J23: 393 | K23: 123009.8 | L23: =K23/J23 -> 313.00204 | M23: =J23/$L$9 -> 0.051325584 | N23: =(J23-J22) -> 7 | O23: =(K23-K22)/N23 -> 789.28571 | Q23: 314 | R23: 147223.57 | S23: =R23/Q23 -> 468.86487 | T23: =Q23/$S$9 -> 0.041008228 | U23: =Q23-Q22 -> 6 | V23: =(R23-R22)/U23 -> 563.33333
B24: =B23+1 -> 12 | C24: =2917+2382 -> 5299 | D24: =1180116.48+1250888.18 -> 2431004.7 | E24: =D24/C24 -> 458.76668 | F24: =C24/$E$9 -> 0.69204649 | G24: =(C24-C23) -> 199 | H24: =(D24-D23)/G24 -> 554.81447 | I24: 635.86 | J24: 396 | K24: 125109.8 | L24: =K24/J24 -> 315.93384 | M24: =J24/$L$9 -> 0.051717383 | N24: =(J24-J23) -> 3 | O24: =(K24-K23)/N24 -> 700 | Q24: 322 | R24: 150756.93 | S24: =R24/Q24 -> 468.18922 | T24: =Q24/$S$9 -> 0.042053023 | U24: =Q24-Q23 -> 8 | V24: =(R24-R23)/U24 -> 441.67
B25: =B24+1 -> 13 | C25: =2957+2613 -> 5570 | D25: =1305856.13+1277550.23 -> 2583406.4 | E25: =D25/C25 -> 463.80725 | F25: =C25/$E$9 -> 0.72743894 | G25: =(C25-C24) -> 271 | H25: =(D25-D24)/G25 -> 562.3679 | J25: 422 | K25: 135923.12 | L25: =K25/J25 -> 322.0927 | M25: =J25/$L$9 -> 0.055112969 | N25: =(J25-J24) -> 26 | O25: =(K25-K24)/N25 -> 415.89692 | Q25: 324 | R25: 152756.93 | S25: =R25/Q25 -> 471.47201 | T25: =Q25/$S$9 -> 0.042314222 | U25: =Q25-Q24 -> 2 | V25: =(R25-R24)/U25 -> 1000
B26: =B25+1 -> 14 | C26: =2842+2840 -> 5682 | D26: =1443729.01+1196178.88 -> 2639907.9 | E26: =D26/C26 -> 464.60892 | F26: =C26/$E$9 -> 0.74206608 | G26: =(C26-C25) -> 112 | H26: =(D26-D25)/G26 -> 504.47795 | J26: 458 | K26: 148696.4 | L26: =K26/J26 -> 324.66463 | M26: =J26/$L$9 -> 0.059814549 | N26: =(J26-J25) -> 36 | O26: =(K26-K25)/N26 -> 354.81333 | Q26: 324 | R26: 152756.93 | S26: =R26/Q26 -> 471.47201 | T26: =Q26/$S$9 -> 0.042314222 | U26: 0 | V26: 0
B27: =B26+1 -> 15 | C27: =3059+2636 -> 5695 | D27: =1574884.32+1099383.31 -> 2674267.6 | E27: =D27/C27 -> 469.58167 | F27: =C27/$E$9 -> 0.74376388 | G27: =(C27-C26) -> 13 | H27: =(D27-D26)/G27 -> 2643.0569 | J27: 490 | K27: 160561.41 | L27: =K27/J27 -> 327.67635 | M27: =J27/$L$9 -> 0.063993731 | N27: =(J27-J26) -> 32 | O27: =(K27-K26)/N27 -> 370.78156 | Q27: 336 | R27: 160646.93 | S27: =R27/Q27 -> 478.11586 | T27: =Q27/$S$9 -> 0.043881416 | U27: =Q27-Q26 -> 12 | V27: =(R27-R26)/U27 -> 657.5
B28: =B27+1 -> 16 | C28: =3292+2463 -> 5755 | D28: =1021206.01+1694483.11 -> 2715689.1 | E28: =D28/C28 -> 471.88343 | F28: =C28/$E$9 -> 0.75159984 | G28: =(C28-C27) -> 60 | H28: =(D28-D27)/G28 -> 690.35817 | J28: 491 | K28: 161361.41 | L28: =K28/J28 -> 328.63831 | M28: =J28/$L$9 -> 0.064124331 | N28: =(J28-J27) -> 1 | O28: =(K28-K27)/N28 -> 800 | Q28: 341 | R28: 164846.93 | S28: =R28/Q28 -> 483.42208 | T28: =Q28/$S$9 -> 0.044534413 | U28: =Q28-Q27 -> 5 | V28: =(R28-R27)/U28 -> 840
B29: =B28+1 -> 17 | C29: =3527+2270 -> 5797 | D29: =947251.53+1804941.53 -> 2752193.1 | E29: =D29/C29 -> 474.76161 | F29: =C29/$E$9 -> 0.75708502 | G29: =(C29-C28) -> 42 | H29: =(D29-D28)/G29 -> 869.14143 | J29: 494 | K29: 162611.41 | L29: =K29/J29 -> 329.17289 | M29: =J29/$L$9 -> 0.064516129 | N29: =(J29-J28) -> 3 | O29: =(K29-K28)/N29 -> 416.66667 | Q29: 343 | R29: 166146.93 | S29: =R29/Q29 -> 484.39338 | T29: =Q29/$S$9 -> 0.044795612 | U29: =Q29-Q28 -> 2 | V29: =(R29-R28)/U29 -> 650
B30: =B29+1 -> 18 | C30: =3764+2096 -> 5860 | D30: =887278.52+1921261.71 -> 2808540.2 | E30: =D30/C30 -> 479.27308 | F30: =C30/$E$9 -> 0.76531279 | G30: =(C30-C29) -> 63 | H30: =(D30-D29)/G30 -> 894.39952 | J30: 516 | K30: 169701.43 | L30: =K30/J30 -> 328.87874 | M30: =J30/$L$9 -> 0.067389317 | N30: =(J30-J29) -> 22 | O30: =(K30-K29)/N30 -> 322.27364 | Q30: 449 | R30: 226446.93 | S30: =R30/Q30 -> 504.33615 | T30: =Q30/$S$9 -> 0.058639154 | U30: =Q30-Q29 -> 106 | V30: =(R30-R29)/U30 -> 568.86792
B31: =B30+1 -> 19 | C31: =4011+1966 -> 5977 | D31: =836207.3+2058255.27 -> 2894462.6 | E31: =D31/C31 -> 484.26678 | F31: =C31/$E$9 -> 0.78059292 | G31: =(C31-C30) -> 117 | H31: =(D31-D30)/G31 -> 734.37897 | J31: 543 | K31: 179266.27 | L31: =K31/J31 -> 330.14046 | M31: =J31/$L$9 -> 0.070915502 | N31: =(J31-J30) -> 27 | O31: =(K31-K30)/N31 -> 354.25333 | Q31: 539 | R31: 279080.27 | S31: =R31/Q31 -> 517.77416 | T31: =Q31/$S$9 -> 0.070393104 | U31: =Q31-Q30 -> 90 | V31: =(R31-R30)/U31 -> 584.81489
B32: =B31+1 -> 20 | C32: =4258+1718 -> 5976 | D32: =711407.83+2187444.18 -> 2898852 | E32: =D32/C32 -> 485.08233 | F32: =C32/$E$9 -> 0.78046232 | G32: =(C32-C31) -> -1 | H32: =(D32-D31)/G32 -> -4389.44 | J32: 560 | K32: 185826.27 | L32: =K32/J32 -> 331.83263 | M32: =J32/$L$9 -> 0.073135693 | N32: =(J32-J31) -> 17 | O32: =(K32-K31)/N32 -> 385.88235 | Q32: 592 | R32: 299705.26 | S32: =R32/Q32 -> 506.25889 | T32: =Q32/$S$9 -> 0.077314875 | U32: =Q32-Q31 -> 53 | V32: =(R32-R31)/U32 -> 389.15075
B33: =B32+1 -> 21 | C33: =4505+1556 -> 6061 | D33: =2324870.62+647983.8 -> 2972854.4 | E33: =D33/C33 -> 490.4891 | F33: =C33/$E$9 -> 0.79156328 | G33: =(C33-C32) -> 85 | H33: =(D33-D32)/G33 -> 870.61659 | J33: 614 | K33: 198736.17 | L33: =K33/J33 -> 323.67454 | M33: =J33/$L$9 -> 0.080188063 | N33: =(J33-J32) -> 54 | O33: =(K33-K32)/N33 -> 239.07222 | Q33: 670 | R33: 339316.9 | S33: =R33/Q33 -> 506.44313 | T33: =Q33/$S$9 -> 0.087501632 | U33: =Q33-Q32 -> 78 | V33: =(R33-R32)/U33 -> 507.84154
B34: =B33+1 -> 22 | C34: =1374+4739 -> 6113 | D34: =564453.69+2461659 -> 3026112.7 | E34: =D34/C34 -> 495.02907 | F34: =C34/$E$9 -> 0.79835445 | G34: =(C34-C33) -> 52 | H34: =(D34-D33)/G34 -> 1024.1975 | J34: 616 | K34: 200036.17 | L34: =K34/J34 -> 324.73404 | M34: =J34/$L$9 -> 0.080449262 | N34: =(J34-J33) -> 2 | O34: =(K34-K33)/N34 -> 650 | Q34: 682 | R34: 349841.89 | S34: =R34/Q34 -> 512.96465 | T34: =Q34/$S$9 -> 0.089068826 | U34: =Q34-Q33 -> 12 | V34: =(R34-R33)/U34 -> 877.0825
B35: =B34+1 -> 23 | C35: =1163+4956 -> 6119 | D35: =464185.29+2574947.93 -> 3039133.2 | E35: =D35/C35 -> 496.67155 | F35: =C35/$E$9 -> 0.79913804 | G35: =(C35-C34) -> 6 | H35: =(D35-D34)/G35 -> 2170.0883 | J35: 624 | K35: 201402.81 | L35: =K35/J35 -> 322.76091 | M35: =J35/$L$9 -> 0.081494058 | N35: =(J35-J34) -> 8 | O35: =(K35-K34)/N35 -> 170.83 | Q35: 676 | R35: 347125.23 | S35: =R35/Q35 -> 513.49886 | T35: =Q35/$S$9 -> 0.088285229 | U35: =Q35-Q34 -> -6 | V35: =(R35-R34)/U35 -> 452.77667
B36: =B35+1 -> 24 | C36: =5190+1005 -> 6195 | D36: =411912.28+2701525.03 -> 3113437.3 | E36: =D36/C36 -> 502.57261 | F36: =C36/$E$9 -> 0.8090636 | G36: =(C36-C35) -> 76 | H36: =(D36-D35)/G36 -> 977.68539 | J36: 658 | K36: 221343.1 | L36: =K36/J36 -> 336.38769 | M36: =J36/$L$9 -> 0.085934439 | N36: =(J36-J35) -> 34 | O36: =(K36-K35)/N36 -> 586.47912 | Q36: 702 | R36: 364100.28 | S36: =R36/Q36 -> 518.66137 | T36: =Q36/$S$9 -> 0.091680815 | U36: =Q36-Q35 -> 26 | V36: =(R36-R35)/U36 -> 652.88654
B37: =B36+1 -> 25 | C37: =5427+835 -> 6262 | D37: =343998.14+2833555.55 -> 3177553.7 | E37: =D37/C37 -> 507.43432 | F37: =C37/$E$9 -> 0.81781377 | G37: =(C37-C36) -> 67 | H37: =(D37-D36)/G37 -> 956.9609 | J37: 675 | K37: 230353.1 | L37: =K37/J37 -> 341.26385 | M37: =J37/$L$9 -> 0.08815463 | N37: =(J37-J36) -> 17 | O37: =(K37-K36)/N37 -> 530 | Q37: 703 | R37: 365200.28 | S37: =R37/Q37 -> 519.48831 | T37: =Q37/$S$9 -> 0.091811414 | U37: =Q37-Q36 -> 1 | V37: =(R37-R36)/U37 -> 1100
B38: =B37+1 -> 26 | C38: =5659+719 -> 6378 | D38: =2958394.5+299424.47 -> 3257819 | E38: =D38/C38 -> 510.79005 | F38: =C38/$E$9 -> 0.8329633 | G38: =(C38-C37) -> 116 | H38: =(D38-D37)/G38 -> 691.94207 | J38: 700 | K38: 238307.11 | L38: =K38/J38 -> 340.43873 | M38: =J38/$L$9 -> 0.091419616 | N38: =(J38-J37) -> 25 | O38: =(K38-K37)/N38 -> 318.1604 | Q38: 712 | R38: 369325.26 | S38: =R38/Q38 -> 518.71525 | T38: =Q38/$S$9 -> 0.092986809 | U38: =Q38-Q37 -> 9 | V38: =(R38-R37)/U38 -> 458.33111
B39: =B38+1 -> 27 | C39: =530+5874 -> 6404 | D39: =3086777.38+219348.12 -> 3306125.5 | E39: =D39/C39 -> 516.25945 | F39: =C39/$E$9 -> 0.83635889 | G39: =(C39-C38) -> 26 | H39: =(D39-D38)/G39 -> 1857.9435 | J39: 769 | K39: 303889.61 | L39: =K39/J39 -> 395.17505 | M39: =J39/$L$9 -> 0.10043098 | N39: =(J39-J38) -> 69 | O39: =(K39-K38)/N39 -> 950.47101 | Q39: 717 | R39: 371436.94 | S39: =R39/Q39 -> 518.04315 | T39: =Q39/$S$9 -> 0.093639807 | U39: =Q39-Q38 -> 5 | V39: =(R39-R38)/U39 -> 422.336
B40: =B39+1 -> 28 | C40: =358+6098 -> 6456 | D40: =143980.9+3216998.84 -> 3360979.7 | E40: =D40/C40 -> 520.59785 | F40: =C40/$E$9 -> 0.84315006 | G40: =(C40-C39) -> 52 | H40: =(D40-D39)/G40 -> 1054.8892 | J40: 823 | K40: 324156.61 | L40: =K40/J40 -> 393.87194 | M40: =J40/$L$9 -> 0.10748335 | N40: =(J40-J39) -> 54 | O40: =(K40-K39)/N40 -> 375.31481 | Q40: 750 | R40: 415302.56 | S40: =R40/Q40 -> 553.73675 | T40: =Q40/$S$9 -> 0.097949589 | U40: =Q40-Q39 -> 33 | V40: =(R40-R39)/U40 -> 1329.2612
B41: =B40+1 -> 29 | C41: =184+6293 -> 6477 | D41: =72569.12+3311815.03 -> 3384384.1 | E41: =D41/C41 -> 522.52341 | F41: =C41/$E$9 -> 0.84589265 | G41: =(C41-C40) -> 21 | H41: =(D41-D40)/G41 -> 1114.4957 | I41: 0 | J41: 829 | K41: 325856.61 | L41: =K41/J41 -> 393.07191 | M41: =J41/$L$9 -> 0.10826695 | N41: =(J41-J40) -> 6 | O41: =(K41-K40)/N41 -> 283.33333 | Q41: 757 | R41: 419885.9 | S41: =R41/Q41 -> 554.67094 | T41: =Q41/$S$9 -> 0.098863785 | U41: =Q41-Q40 -> 7 | V41: =(R41-R40)/U41 -> 654.76286
B42: 30 | C42: =6405+67 -> 6472 | D42: =3381031.81+26057.9 -> 3407089.7 | E42: =D42/C42 -> 526.43537 | F42: =C42/$E$9 -> 0.84523965 | G42: =(C42-C41) -> -5 | H42: =(D42-D41)/G42 -> -4541.112 | J42: 792 | K42: 314254.11 | L42: =K42/J42 -> 396.78549 | M42: =J42/$L$9 -> 0.10343477 | N42: =(J42-J41) -> -37 | O42: =(K42-K41)/N42 -> 313.58108 | Q42: 777 | R42: 441709.2 | S42: =R42/Q42 -> 568.48031 | T42: =Q42/$S$9 -> 0.10147577 | U42: =Q42-Q41 -> 20 | V42: =(R42-R41)/U42 -> 1091.165
B43: 31 | C43: 6483 | D43: 3418422.7 | E43: =D43/C43 -> 527.29025 | F43: =C43/$E$9 -> 0.84667624 | G43: =(C43-C42) -> 11 | H43: =(D43-D42)/G43 -> 1030.2718 | J43: 843 | K43: 329062.27 | L43: =K43/J43 -> 390.3467 | M43: =J43/$L$9 -> 0.11009534 | N43: =(J43-J42) -> 51 | O43: =(K43-K42)/N43 -> 290.35608 | Q43: 773 | R43: 436775.88 | S43: =R43/Q43 -> 565.03995 | T43: =Q43/$S$9 -> 0.10095338 | U43: =Q43-Q42 -> -4 | V43: =(R43-R42)/U43 -> 1233.33

Sheet August,September,October
N3: Hotel Name :
N4: Date :
A6: June | B6: August | J6: September | Q6: October
C7: Budget Rm Nts | E7: 3865 | G7: Budget Avg | H7: 458.31 | J7: Budget Rm Nts | L7: 5585 | N7: Budget Avg | O7: 671.84 | Q7: Budget Rm Nts | S7: 6895 | U7: Budget Avg | V7: 808.89
C8: Budget Occ % | E8: 0.505 | F8: Budget Rm Rev | H8: 1771375 | J8: Budget Occ % | L8: 0.754 | M8: Budget Rm Rev | O8: 3752250 | Q8: Budget Occ % | S8: 0.9 | T8: Budget Rm Rev | V8: 5577300
C9: Available Rms | E9: 7657 | J9: Available Rms | L9: 7410 | Q9: Available Rms | S9: 7657
B10: Month of Aug,Sept,Oct
B11: Day of the Month | C11: Total Rooms On the Books for whole month | D11: Total Revenue On the Books for whole month | E11: Average Rate per Month | F11: Occ % for end of the Month | G11: Pick-Up Room Nights per Day | H11: Avg Rate Pick Up | J11: Total Rooms On the Books for whole month | K11: Total Revenue On the Books for whole month | L11: Average Rate per Month | M11: Occ % for end of the Month | N11: Pick-Up Room Nights per Day | O11: Avg Rate Pick Up | Q11: Total Rooms On the Books for whole month | R11: Total Revenue On the Books for whole month | S11: Average Rate per Month | T11: Occ % for end of the Month | U11: Pick-Up Room Nights per Day | V11: Avg Rate Pick up
B13: 1 | C13: =994+69 -> 1063 | D13: =351813.3+33067.34 -> 384880.64 | E13: =D13/C13 -> 362.07022 | F13: =C13/$E$9 -> 0.13882722 | G13: 220 | H13: 253.71 | J13: 802 | K13: 453872.87 | L13: =K13/J13 -> 565.92627 | M13: =J13/$L$9 -> 0.10823212 | N13: 29 | O13: 589.55 | Q13: 1117 | R13: 608786.7 | S13: =R13/Q13 -> 545.01943 | T13: =Q13/$S$9 -> 0.14587959 | U13: 5 | V13: 391.67
B14: =B13+1 -> 2 | C14: =141+1004 -> 1145 | D14: =66369.51+348721.59 -> 415091.1 | E14: =D14/C14 -> 362.52498 | F14: =C14/$E$9 -> 0.14953637 | G14: =(C14-C13) -> 82 | H14: =(D14-D13)/G14 -> 368.42024 | J14: 869 | K14: 469138.21 | L14: =K14/J14 -> 539.85985 | M14: =J14/$L$9 -> 0.11727395 | N14: =(J14-J13) -> 67 | O14: =-(K14-K13)/-N14 -> 227.8409 | Q14: 1131 | R14: 615270.08 | S14: =R14/Q14 -> 544.00538 | T14: =Q14/$S$9 -> 0.14770798 | U14: =Q14-Q13 -> 14 | V14: =(R14-R13)/U14 -> 463.09857
B15: =B14+1 -> 3 | C15: =1004+207 -> 1211 | D15: =96505.91+354361.33 -> 450867.24 | E15: =D15/C15 -> 372.30986 | F15: =C15/$E$9 -> 0.15815594 | G15: =(C15-C14) -> 66 | H15: =(D15-D14)/G15 -> 542.06273 | J15: 876 | K15: 477488.21 | L15: =K15/J15 -> 545.07787 | M15: =J15/$L$9 -> 0.11821862 | N15: =(J15-J14) -> 7 | O15: =-(K15-K14)/-N15 -> 1192.8571 | Q15: 1125 | R15: 612152.11 | S15: =R15/Q15 -> 544.13521 | T15: =Q15/$S$9 -> 0.14692438 | U15: =Q15-Q14 -> -6 | V15: =(R15-R14)/U15 -> 519.66167
B16: 4 | C16: =1016+270 -> 1286 | D16: =360547.82+122896.3 -> 483444.12 | E16: =D16/C16 -> 375.92855 | F16: =C16/$E$9 -> 0.16795089 | G16: =(C16-C15) -> 75 | H16: =(D16-D15)/G16 -> 434.3584 | J16: 900 | K16: 490000.87 | L16: =K16/J16 -> 544.44541 | M16: =J16/$L$9 -> 0.12145749 | N16: =(J16-J15) -> 24 | O16: =-(K16-K15)/-N16 -> 521.36083 | Q16: 1221 | R16: 667561.78 | S16: =R16/Q16 -> 546.73364 | T16: =Q16/$S$9 -> 0.15946193 | U16: =Q16-Q15 -> 96 | V16: =(R16-R15)/U16 -> 577.18406
B17: =B16+1 -> 5 | C17: =336+975 -> 1311 | D17: =341843.13+151536.08 -> 493379.21 | E17: =D17/C17 -> 376.33807 | F17: =C17/$E$9 -> 0.17121588 | G17: =(C17-C16) -> 25 | H17: =(D17-D16)/G17 -> 397.4036 | J17: 904 | K17: 492999.73 | L17: =K17/J17 -> 545.35368 | M17: =J17/$L$9 -> 0.1219973 | N17: =(J17-J16) -> 4 | O17: =(K17-K16)/N17 -> 749.715 | Q17: 1221 | R17: 667561.78 | S17: =R17/Q17 -> 546.73364 | T17: =Q17/$S$9 -> 0.15946193 | U17: =Q17-Q16 -> 0 | V17: 0
B18: =B17+1 -> 6 | C18: =938+385 -> 1323 | D18: =328266.49+175442.85 -> 503709.34 | E18: =D18/C18 -> 380.73268 | F18: =C18/$E$9 -> 0.17278307 | G18: =(C18-C17) -> 12 | H18: =(D18-D17)/G18 -> 860.84417 | I18: 0 | J18: 909 | K18: 496273.73 | L18: =K18/J18 -> 545.9557 | M18: =J18/$L$9 -> 0.12267206 | N18: =(J18-J17) -> 5 | O18: =(K18-K17)/N18 -> 654.8 | Q18: 1238 | R18: 677093.47 | S18: =R18/Q18 -> 546.92526 | T18: =Q18/$S$9 -> 0.16168212 | U18: =Q18-Q17 -> 17 | V18: =(R18-R17)/U18 -> 560.68765
B19: =B18+1 -> 7 | C19: =961+431 -> 1392 | D19: =332074.88+199211.37 -> 531286.25 | E19: =D19/C19 -> 381.67116 | F19: =C19/$E$9 -> 0.18179444 | G19: =(C19-C18) -> 69 | H19: =(D19-D18)/G19 -> 399.66536 | J19: 940 | K19: 515465.42 | L19: =K19/J19 -> 548.36747 | M19: =J19/$L$9 -> 0.1268556 | N19: =(J19-J18) -> 31 | O19: =-(K19-K18)/-N19 -> 619.08677 | Q19: 1241 | R19: 678418.48 | S19: =R19/Q19 -> 546.67081 | T19: =Q19/$S$9 -> 0.16207392 | U19: =Q19-Q18 -> 3 | V19: =(R19-R18)/U19 -> 441.67
B20: =B19+1 -> 8 | C20: =955+487 -> 1442 | D20: =324266.95+226301.68 -> 550568.63 | E20: =D20/C20 -> 381.80904 | F20: =C20/$E$9 -> 0.18832441 | G20: =(C20-C19) -> 50 | H20: =(D20-D19)/G20 -> 385.6476 | J20: 897 | K20: 491523.05 | L20: =K20/J20 -> 547.96327 | M20: =J20/$L$9 -> 0.12105263 | N20: =(J20-J19) -> -43 | O20: =(K20-K19)/N20 -> 556.7993 | Q20: 1259 | R20: 687743.53 | S20: =R20/Q20 -> 546.26174 | T20: =Q20/$S$9 -> 0.16442471 | U20: =Q20-Q19 -> 18 | V20: =(R20-R19)/U20 -> 518.05833
B21: =B20+1 -> 9 | C21: =931+548 -> 1479 | D21: =305800.05+257145.93 -> 562945.98 | E21: =D21/C21 -> 380.62609 | F21: =C21/$E$9 -> 0.19315659 | G21: =(C21-C20) -> 37 | H21: =(D21-D20)/G21 -> 334.52297 | J21: 915 | K21: 503228.08 | L21: =K21/J21 -> 549.97604 | M21: =J21/$L$9 -> 0.12348178 | N21: =(J21-J20) -> 18 | O21: =(K21-K20)/N21 -> 650.27944 | Q21: 1265 | R21: 690393.55 | S21: =R21/Q21 -> 545.76565 | T21: =Q21/$S$9 -> 0.16520831 | U21: =Q21-Q20 -> 6 | V21: =(R21-R20)/U21 -> 441.67
B22: =B21+1 -> 10 | C22: =944+608 -> 1552 | D22: =287688.56+298211.18 -> 585899.74 | E22: =D22/C22 -> 377.51272 | F22: =C22/$E$9 -> 0.20269035 | G22: =(C22-C21) -> 73 | H22: =(D22-D21)/G22 -> 314.43507 | J22: 979 | K22: 538416.81 | L22: =K22/J22 -> 549.9661 | M22: =J22/$L$9 -> 0.13211876 | N22: =(J22-J21) -> 64 | O22: =(K22-K21)/N22 -> 549.82391 | Q22: 1278 | R22: 697160.18 | S22: =R22/Q22 -> 545.50875 | T22: =Q22/$S$9 -> 0.1669061 | U22: =Q22-Q21 -> 13 | V22: =(R22-R21)/U22 -> 520.51
B23: =B22+1 -> 11 | C23: =682+925 -> 1607 | D23: =304446.23+324106.01 -> 628552.24 | E23: =D23/C23 -> 391.13394 | F23: =C23/$E$9 -> 0.20987332 | G23: =(C23-C22) -> 55 | H23: =(D23-D22)/G23 -> 775.5 | J23: 1020 | K23: 576360.11 | L23: =K23/J23 -> 565.05893 | M23: =J23/$L$9 -> 0.13765182 | N23: =(J23-J22) -> 41 | O23: =(K23-K22)/N23 -> 925.44634 | Q23: 1305 | R23: 706510.2 | S23: =R23/Q23 -> 541.38713 | T23: =Q23/$S$9 -> 0.17043228 | U23: =Q23-Q22 -> 27 | V23: =(R23-R22)/U23 -> 346.29704
B24: =B23+1 -> 12 | C24: =766+864 -> 1630 | D24: =362116.29+288339.77 -> 650456.06 | E24: =D24/C24 -> 399.0528 | F24: =C24/$E$9 -> 0.21287711 | G24: =(C24-C23) -> 23 | H24: =(D24-D23)/G24 -> 952.34 | I24: 635.86 | J24: 1028 | K24: 581951.76 | L24: =K24/J24 -> 566.10093 | M24: =J24/$L$9 -> 0.13873144 | N24: =(J24-J23) -> 8 | O24: =(K24-K23)/N24 -> 698.95625 | Q24: 1307 | R24: 707393.54 | S24: =R24/Q24 -> 541.23454 | T24: =Q24/$S$9 -> 0.17069348 | U24: =Q24-Q23 -> 2 | V24: =(R24-R23)/U24 -> 441.67
B25: =B24+1 -> 13 | C25: =824+843 -> 1667 | D25: =391642.37+272577.48 -> 664219.85 | E25: =D25/C25 -> 398.45222 | F25: =C25/$E$9 -> 0.21770929 | G25: =(C25-C24) -> 37 | H25: =(D25-D24)/G25 -> 371.99432 | J25: 1012 | K25: 572527.94 | L25: =K25/J25 -> 565.73907 | M25: =J25/$L$9 -> 0.1365722 | N25: =(J25-J24) -> -16 | O25: =(K25-K24)/N25 -> 588.98875 | Q25: 1339 | R25: 724026.88 | S25: =R25/Q25 -> 540.72209 | T25: =Q25/$S$9 -> 0.17487267 | U25: =Q25-Q24 -> 32 | V25: =(R25-R24)/U25 -> 519.79187
B26: =B25+1 -> 14 | C26: =928+831 -> 1759 | D26: =301388.52+424090.77 -> 725479.29 | E26: =D26/C26 -> 412.43848 | F26: =C26/$E$9 -> 0.22972444 | G26: =(C26-C25) -> 92 | H26: =(D26-D25)/G26 -> 665.86348 | J26: 1049 | K26: 596661.28 | L26: =K26/J26 -> 568.79054 | M26: =J26/$L$9 -> 0.14156545 | N26: =(J26-J25) -> 37 | O26: =(K26-K25)/N26 -> 652.25243 | Q26: 1357 | R26: 737063.56 | S26: =R26/Q26 -> 543.15664 | T26: =Q26/$S$9 -> 0.17722346 | U26: =Q26-Q25 -> 18 | V26: =(R26-R25)/U26 -> 724.26
B27: =B26+1 -> 15 | C27: =786+1014 -> 1800 | D27: =290256.52+458682.71 -> 748939.23 | E27: =D27/C27 -> 416.07735 | F27: =C27/$E$9 -> 0.23507901 | G27: =(C27-C26) -> 41 | H27: =(D27-D26)/G27 -> 572.19366 | J27: 1339 | K27: 768251.28 | L27: =K27/J27 -> 573.75002 | M27: =J27/$L$9 -> 0.18070175 | N27: =(J27-J26) -> 290 | O27: =(K27-K26)/N27 -> 591.68966 | Q27: 1424 | R27: 794696.92 | S27: =R27/Q27 -> 558.07368 | T27: =Q27/$S$9 -> 0.18597362 | U27: =Q27-Q26 -> 67 | V27: =(R27-R26)/U27 -> 860.1994
B28: =B27+1 -> 16 | C28: =1105+759 -> 1864 | D28: =289669.04+492324.4 -> 781993.44 | E28: =D28/C28 -> 419.52438 | F28: =C28/$E$9 -> 0.24343738 | G28: =(C28-C27) -> 64 | H28: =(D28-D27)/G28 -> 516.47203 | J28: 1264 | K28: 701488.29 | L28: =K28/J28 -> 554.97491 | M28: =J28/$L$9 -> 0.1705803 | N28: =(J28-J27) -> -75 | O28: =(K28-K27)/N28 -> 890.1732 | Q28: 1539 | R28: 841857.97 | S28: =R28/Q28 -> 547.01622 | T28: =Q28/$S$9 -> 0.20099256 | U28: =Q28-Q27 -> 115 | V28: =(R28-R27)/U28 -> 410.09609
B29: =B28+1 -> 17 | C29: =1196+691 -> 1887 | D29: =524394.42+267509.12 -> 791903.54 | E29: =D29/C29 -> 419.66271 | F29: =C29/$E$9 -> 0.24644116 | G29: =(C29-C28) -> 23 | H29: =(D29-D28)/G29 -> 430.87391 | J29: 1316 | K29: 732650 | L29: =K29/J29 -> 556.72492 | M29: =J29/$L$9 -> 0.17759784 | N29: =(J29-J28) -> 52 | O29: =(K29-K28)/N29 -> 599.26365 | Q29: 1609 | R29: 877216.37 | S29: =R29/Q29 -> 545.19352 | T29: =Q29/$S$9 -> 0.21013452 | U29: =Q29-Q28 -> 70 | V29: =(R29-R28)/U29 -> 505.12
B30: =B29+1 -> 18 | C30: =662+1301 -> 1963 | D30: =562181.33+274032.36 -> 836213.69 | E30: =D30/C30 -> 425.98762 | F30: =C30/$E$9 -> 0.25636672 | G30: =(C30-C29) -> 76 | H30: =(D30-D29)/G30 -> 583.02829 | J30: 1370 | K30: 754263.53 | L30: =K30/J30 -> 550.55732 | M30: =J30/$L$9 -> 0.18488529 | N30: =(J30-J29) -> 54 | O30: =(K30-K29)/N30 -> 400.25056 | Q30: 1640 | R30: 896319.73 | S30: =R30/Q30 -> 546.53642 | T30: =Q30/$S$9 -> 0.2141831 | U30: =Q30-Q29 -> 31 | V30: =(R30-R29)/U30 -> 616.23742
B31: =B30+1 -> 19 | C31: =596+1396 -> 1992 | D31: =264792.66+598025.91 -> 862818.57 | E31: =D31/C31 -> 433.14185 | F31: =C31/$E$9 -> 0.26015411 | G31: =(C31-C30) -> 29 | H31: =(D31-D30)/G31 -> 917.40966 | J31: 1401 | K31: 779594.19 | L31: =K31/J31 -> 556.45552 | M31: =J31/$L$9 -> 0.18906883 | N31: =(J31-J30) -> 31 | O31: =(K31-K30)/N31 -> 817.11806 | Q31: 1648 | R31: 899853.09 | S31: =R31/Q31 -> 546.02736 | T31: =Q31/$S$9 -> 0.2152279 | U31: =Q31-Q30 -> 8 | V31: =(R31-R30)/U31 -> 441.67
B32: =B31+1 -> 20 | C32: =1468+544 -> 2012 | D32: =629605.52+256390.21 -> 885995.73 | E32: =D32/C32 -> 440.35573 | F32: =C32/$E$9 -> 0.2627661 | G32: =(C32-C31) -> 20 | H32: =(D32-D31)/G32 -> 1158.858 | J32: 1442 | K32: 813364.2 | L32: =K32/J32 -> 564.05284 | M32: =J32/$L$9 -> 0.19460189 | N32: =(J32-J31) -> 41 | O32: =(K32-K31)/N32 -> 823.65878 | Q32: 1673 | R32: 911584.75 | S32: =R32/Q32 -> 544.8803 | T32: =Q32/$S$9 -> 0.21849288 | U32: =Q32-Q31 -> 25 | V32: =(R32-R31)/U32 -> 469.2664
B33: =B32+1 -> 21 | C33: =1546+554 -> 2100 | D33: =664236.44+276586 -> 940822.44 | E33: =D33/C33 -> 448.01069 | F33: =C33/$E$9 -> 0.27425885 | G33: =(C33-C32) -> 88 | H33: =(D33-D32)/G33 -> 623.0308 | J33: 1517 | K33: 853731.93 | L33: =K33/J33 -> 562.77649 | M33: =J33/$L$9 -> 0.20472335 | N33: =(J33-J32) -> 75 | O33: =(K33-K32)/N33 -> 538.2364 | Q33: 1683 | R33: 917934.73 | S33: =R33/Q33 -> 545.41576 | T33: =Q33/$S$9 -> 0.21979888 | U33: =Q33-Q32 -> 10 | V33: =(R33-R32)/U33 -> 634.998
B34: =B33+1 -> 22 | C34: =1622+498 -> 2120 | D34: =698104.2+263302.55 -> 961406.75 | E34: =D34/C34 -> 453.49375 | F34: =C34/$E$9 -> 0.27687084 | G34: =(C34-C33) -> 20 | H34: =(D34-D33)/G34 -> 1029.2155 | J34: 1558 | K34: 885802.29 | L34: =K34/J34 -> 568.55089 | M34: =J34/$L$9 -> 0.21025641 | N34: =(J34-J33) -> 41 | O34: =(K34-K33)/N34 -> 782.2039 | Q34: 1707 | R34: 933899.74 | S34: =R34/Q34 -> 547.10002 | T34: =Q34/$S$9 -> 0.22293326 | U34: =Q34-Q33 -> 24 | V34: =(R34-R33)/U34 -> 665.20875
B35: =B34+1 -> 23 | C35: =476+1687 -> 2163 | D35: =265028.49+728355.58 -> 993384.07 | E35: =D35/C35 -> 459.26217 | F35: =C35/$E$9 -> 0.28248661 | G35: =(C35-C34) -> 43 | H35: =(D35-D34)/G35 -> 743.6586 | J35: 1640 | K35: 933879.86 | L35: =K35/J35 -> 569.43894 | M35: =J35/$L$9 -> 0.22132254 | N35: =(J35-J34) -> 82 | O35: =(K35-K34)/N35 -> 586.31183 | Q35: 1760 | R35: 950330.75 | S35: =R35/Q35 -> 539.96065 | T35: =Q35/$S$9 -> 0.22985503 | U35: =Q35-Q34 -> 53 | V35: =(R35-R34)/U35 -> 310.01906
B36: =B35+1 -> 24 | C36: =1747+461 -> 2208 | D36: =751856.37+252057.94 -> 1003914.3 | E36: =D36/C36 -> 454.67134 | F36: =C36/$E$9 -> 0.28836359 | G36: =(C36-C35) -> 45 | H36: =(D36-D35)/G36 -> 234.00533 | J36: 1751 | K36: 999580.54 | L36: =K36/J36 -> 570.86267 | M36: =J36/$L$9 -> 0.23630229 | N36: =(J36-J35) -> 111 | O36: =(K36-K35)/N36 -> 591.89802 | Q36: 1783 | R36: 954350.8 | S36: =R36/Q36 -> 535.25003 | T36: =Q36/$S$9 -> 0.23285882 | U36: =Q36-Q35 -> 23 | V36: =(R36-R35)/U36 -> 174.78478
B37: =B36+1 -> 25 | C37: =428+1817 -> 2245 | D37: =782202.42+251695.68 -> 1033898.1 | E37: =D37/C37 -> 460.53367 | F37: =C37/$E$9 -> 0.29319577 | G37: =(C37-C36) -> 37 | H37: =(D37-D36)/G37 -> 810.3727 | J37: 1910 | K37: 1113817.9 | L37: =K37/J37 -> 583.15075 | M37: =J37/$L$9 -> 0.25775978 | N37: =(J37-J36) -> 159 | O37: =(K37-K36)/N37 -> 718.47421 | Q37: 1811 | R37: 971557.8 | S37: =R37/Q37 -> 536.47587 | T37: =Q37/$S$9 -> 0.23651561 | U37: =Q37-Q36 -> 28 | V37: =(R37-R36)/U37 -> 614.53571
B38: =B37+1 -> 26 | C38: =370+1895 -> 2265 | D38: =810623.85+242934.72 -> 1053558.6 | E38: =D38/C38 -> 465.14727 | F38: =C38/$E$9 -> 0.29580776 | G38: =(C38-C37) -> 20 | H38: =(D38-D37)/G38 -> 983.0235 | J38: 1960 | K38: 1155081.7 | L38: =K38/J38 -> 589.32738 | M38: =J38/$L$9 -> 0.26450742 | N38: =(J38-J37) -> 50 | O38: =(K38-K37)/N38 -> 825.2744 | Q38: 1833 | R38: 980537.85 | S38: =R38/Q38 -> 534.93609 | T38: =Q38/$S$9 -> 0.23938879 | U38: =Q38-Q37 -> 22 | V38: =(R38-R37)/U38 -> 408.18409
B39: =B38+1 -> 27 | C39: =323+1955 -> 2278 | D39: =838967.46+225526.21 -> 1064493.7 | E39: =D39/C39 -> 467.29309 | F39: =C39/$E$9 -> 0.29750555 | G39: =(C39-C38) -> 13 | H39: =(D39-D38)/G39 -> 841.16154 | J39: 1978 | K39: 1165283.4 | L39: =K39/J39 -> 589.12202 | M39: =J39/$L$9 -> 0.26693657 | N39: =(J39-J38) -> 18 | O39: =(K39-K38)/N39 -> 566.76111 | Q39: 1866 | R39: 995171.27 | S39: =R39/Q39 -> 533.31794 | T39: =Q39/$S$9 -> 0.24369858 | U39: =Q39-Q38 -> 33 | V39: =(R39-R38)/U39 -> 443.43697
B40: =B39+1 -> 28 | C40: =2013+272 -> 2285 | D40: =866055.44+199103.92 -> 1065159.4 | E40: =D40/C40 -> 466.15289 | F40: =C40/$E$9 -> 0.29841975 | G40: =(C40-C39) -> 7 | H40: =(D40-D39)/G40 -> 95.098571 | J40: 1999 | K40: 1189774.5 | L40: =K40/J40 -> 595.18484 | M40: =J40/$L$9 -> 0.26977058 | N40: =(J40-J39) -> 21 | O40: =(K40-K39)/N40 -> 1166.2448 | Q40: 1871 | R40: 997762.98 | S40: =R40/Q40 -> 533.27792 | T40: =Q40/$S$9 -> 0.24435157 | U40: =Q40-Q39 -> 5 | V40: =(R40-R39)/U40 -> 518.342
B41: =B40+1 -> 29 | C41: =239+2072 -> 2311 | D41: =900084.9+191384.33 -> 1091469.2 | E41: =D41/C41 -> 472.29305 | F41: =C41/$E$9 -> 0.30181533 | G41: =(C41-C40) -> 26 | H41: =(D41-D40)/G41 -> 1011.9181 | I41: 0 | J41: 2164 | K41: 1316581.3 | L41: =K41/J41 -> 608.40171 | M41: =J41/$L$9 -> 0.29203779 | N41: =(J41-J40) -> 165 | O41: =(K41-K40)/N41 -> 768.52612 | Q41: 1879 | R41: 1001673 | S41: =R41/Q41 -> 533.08835 | T41: =Q41/$S$9 -> 0.24539637 | U41: =Q41-Q40 -> 8 | V41: =(R41-R40)/U41 -> 488.75375
B42: 30 | C42: =198+2171 -> 2369 | D42: =987246.17+160164.74 -> 1147410.9 | E42: =D42/C42 -> 484.34399 | F42: =C42/$E$9 -> 0.3093901 | G42: =(C42-C41) -> 58 | H42: =(D42-D41)/G42 -> 964.51172 | J42: 2289 | K42: 1389375.4 | L42: =K42/J42 -> 606.97923 | M42: =J42/$L$9 -> 0.30890688 | N42: =(J42-J41) -> 125 | O42: =(K42-K41)/N42 -> 582.35312 | Q42: 1892 | R42: 1011936.3 | S42: =R42/Q42 -> 534.85008 | T42: =Q42/$S$9 -> 0.24709416 | U42: =Q42-Q41 -> 13 | V42: =(R42-R41)/U42 -> 789.48769
B43: 31 | C43: 2404 | D43: 1217016.8 | E43: =D43/C43 -> 506.24661 | F43: =C43/$E$9 -> 0.31396108 | G43: =(C43-C42) -> 35 | H43: =(D43-D42)/G43 -> 1988.7409 | J43: 2426 | K43: 1479057.1 | L43: =K43/J43 -> 609.66905 | M43: =J43/$L$9 -> 0.32739541 | N43: =(J43-J42) -> 137 | O43: =(K43-K42)/N43 -> 654.61066 | Q43: 1940 | R43: 1039718.1 | S43: =R43/Q43 -> 535.93715 | T43: =Q43/$S$9 -> 0.25336294 | U43: =Q43-Q42 -> 48 | V43: =(R43-R42)/U43 -> 578.78604

Sheet September,October,November
N3: Hotel Name :
N4: Date :
A6: June | B6: September | J6: October | Q6: November
C7: Budget Rm Nts | E7: 5585 | G7: Budget Avg | H7: 671.84 | J7: Budget Rm Nts | L7: 6895 | N7: Budget Avg | O7: 808.89 | Q7: Budget Rm Nts | S7: 6900 | U7: Budget Avg | V7: 846.83
C8: Budget Occ % | E8: 0.754 | F8: Budget Rm Rev | H8: 3752250 | J8: Budget Occ % | L8: 0.9 | M8: Budget Rm Rev | O8: 5577300 | Q8: Budget Occ % | S8: 0.931 | T8: Budget Rm Rev | V8: 5843150
C9: Available Rms | E9: 7410 | J9: Available Rms | L9: 7657 | Q9: Available Rms | S9: 7410
B10: Month of Sept,Oct,Nov
B11: Day of the Month | C11: Total Rooms On the Books for whole month | D11: Total Revenue On the Books for whole month | E11: Average Rate per Month | F11: Occ % for end of the Month | G11: Pick-Up Room Nights per Day | H11: Avg Rate Pick Up | J11: Total Rooms On the Books for whole month | K11: Total Revenue On the Books for whole month | L11: Average Rate per Month | M11: Occ % for end of the Month | N11: Pick-Up Room Nights per Day | O11: Avg Rate Pick Up | Q11: Total Rooms On the Books for whole month | R11: Total Revenue On the Books for whole month | S11: Average Rate per Month | T11: Occ % for end of the Month | U11: Pick-Up Room Nights per Day | V11: Avg Rate Pick up
C12: 304 | D12: 304 | E12: 304 | F12: 304 | G12: 304 | H12: 304 | I12: 304 | J12: 304 | K12: 304 | L12: 304 | M12: 304 | N12: 304 | O12: 304 | P12: 304 | Q12: 304 | R12: 304 | S12: 304 | T12: 304 | U12: 304 | V12: 304
B13: 1 | C13: =245+2223 -> 2468 | D13: =1289626.05+246521.7 -> 1536147.8 | E13: =D13/C13 -> 622.42615 | F13: =C13/$E$9 -> 0.33306343 | G13: =C13-'August,September,October'!J43 -> 42 | H13: =(D13-'August,September,October'!K43)/'September,October,November'!G13 -> 1359.301 | J13: 1970 | K13: 1053009.8 | L13: =K13/J13 -> 534.52276 | M13: =J13/$L$9 -> 0.25728092 | N13: 30 | O13: 443.06 | Q13: 1301 | R13: 694500.08 | S13: =R13/Q13 -> 533.8202 | T13: =Q13/$S$9 -> 0.17557355 | U13: 0 | V13: 0
B14: =B13+1 -> 2 | C14: =465+2112 -> 2577 | D14: =447151.97+1184446.26 -> 1631598.2 | E14: =D14/C14 -> 633.13862 | F14: =C14/$E$9 -> 0.34777328 | G14: =(C14-C13) -> 109 | H14: =(D14-D13)/G14 -> 875.69248 | J14: 1995 | K14: 1063918.2 | L14: =K14/J14 -> 533.29234 | M14: =J14/$L$9 -> 0.26054591 | N14: =(J14-J13) -> 25 | O14: =-(K14-K13)/-N14 -> 436.3352 | Q14: 1305 | R14: 696370.91 | S14: =R14/Q14 -> 533.61756 | T14: =Q14/$S$9 -> 0.17611336 | U14: =Q14-Q13 -> 4 | V14: =(R14-R13)/U14 -> 467.7075
B15: =B14+1 -> 3 | C15: =2033+611 -> 2644 | D15: =575206.12+1116534.31 -> 1691740.4 | E15: =D15/C15 -> 639.84131 | F15: =C15/$E$9 -> 0.35681511 | G15: =(C15-C14) -> 67 | H15: =(D15-D14)/G15 -> 897.64478 | J15: 2030 | K15: 1085829.8 | L15: =K15/J15 -> 534.89154 | M15: =J15/$L$9 -> 0.26511689 | N15: =(J15-J14) -> 35 | O15: =-(K15-K14)/-N15 -> 626.046 | Q15: 1318 | R15: 702929.24 | S15: =R15/Q15 -> 533.33023 | T15: =Q15/$S$9 -> 0.17786775 | U15: =Q15-Q14 -> 13 | V15: =(R15-R14)/U15 -> 504.48692
B16: 4 | C16: =2032+751 -> 2783 | D16: =1099984.15+685620.04 -> 1785604.2 | E16: =D16/C16 -> 641.61128 | F16: =C16/$E$9 -> 0.37557355 | G16: =(C16-C15) -> 139 | H16: =(D16-D15)/G16 -> 675.27885 | J16: 2135 | K16: 1141384.8 | L16: =K16/J16 -> 534.60645 | M16: =J16/$L$9 -> 0.27882983 | N16: =(J16-J15) -> 105 | O16: =-(K16-K15)/-N16 -> 529.09476 | Q16: 1368 | R16: 733228.27 | S16: =R16/Q16 -> 535.98558 | T16: =Q16/$S$9 -> 0.18461538 | U16: =Q16-Q15 -> 50 | V16: =(R16-R15)/U16 -> 605.9806
B17: =B16+1 -> 5 | C17: =913+2029 -> 2942 | D17: =806832.88+1076627.36 -> 1883460.2 | E17: =D17/C17 -> 640.19723 | F17: =C17/$E$9 -> 0.39703104 | G17: =(C17-C16) -> 159 | H17: =(D17-D16)/G17 -> 615.44686 | J17: 2646 | K17: 1387273.9 | L17: =K17/J17 -> 524.29098 | M17: =J17/$L$9 -> 0.34556615 | N17: =(J17-J16) -> 511 | O17: =(K17-K16)/N17 -> 481.19211 | Q17: 1394 | R17: 746244.97 | S17: =R17/Q17 -> 535.32638 | T17: =Q17/$S$9 -> 0.18812416 | U17: =Q17-Q16 -> 26 | V17: =(R17-R16)/U17 -> 500.64231
B18: =B17+1 -> 6 | C18: =1059+2038 -> 3097 | D18: =912881.26+1092205.81 -> 2005087.1 | E18: =D18/C18 -> 647.42882 | F18: =C18/$E$9 -> 0.41794872 | G18: =(C18-C17) -> 155 | H18: =(D18-D17)/G18 -> 784.68923 | I18: 0 | J18: 2726 | K18: 1430190.7 | L18: =K18/J18 -> 524.64809 | M18: =J18/$L$9 -> 0.3560141 | N18: =(J18-J17) -> 80 | O18: =(K18-K17)/N18 -> 536.4595 | Q18: 1436 | R18: 754400.11 | S18: =R18/Q18 -> 525.34827 | T18: =Q18/$S$9 -> 0.19379217 | U18: =Q18-Q17 -> 42 | V18: =(R18-R17)/U18 -> 194.17
B19: =B18+1 -> 7 | C19: =2098+1184 -> 3282 | D19: =1003057.41+1130539.01 -> 2133596.4 | E19: =D19/C19 -> 650.09032 | F19: =C19/$E$9 -> 0.44291498 | G19: =(C19-C18) -> 185 | H19: =(D19-D18)/G19 -> 694.64514 | J19: 2815 | K19: 1508325.7 | L19: =K19/J19 -> 535.81731 | M19: =J19/$L$9 -> 0.36763746 | N19: =(J19-J18) -> 89 | O19: =-(K19-K18)/-N19 -> 877.92157 | Q19: 1430 | R19: 843884.11 | S19: =R19/Q19 -> 590.12875 | T19: =Q19/$S$9 -> 0.19298246 | U19: =Q19-Q18 -> -6 | V19: =(R19-R18)/U19 -> -14914
B20: =B19+1 -> 8 | C20: =1332+2096 -> 3428 | D20: =1107070.54+1155928.08 -> 2262998.6 | E20: =D20/C20 -> 660.15129 | F20: =C20/$E$9 -> 0.46261808 | G20: =(C20-C19) -> 146 | H20: =(D20-D19)/G20 -> 886.31644 | J20: 2854 | K20: 1533011.4 | L20: =K20/J20 -> 537.14483 | M20: =J20/$L$9 -> 0.37273083 | N20: =(J20-J19) -> 39 | O20: =(K20-K19)/N20 -> 632.96487 | Q20: 1457 | R20: 860605.73 | S20: =R20/Q20 -> 590.66968 | T20: =Q20/$S$9 -> 0.19662618 | U20: =Q20-Q19 -> 27 | V20: =(R20-R19)/U20 -> 619.31926
B21: =B20+1 -> 9 | C21: =2022+1452 -> 3474 | D21: =1188898.4+1115820.08 -> 2304718.5 | E21: =D21/C21 -> 663.41925 | F21: =C21/$E$9 -> 0.46882591 | G21: =(C21-C20) -> 46 | H21: =(D21-D20)/G21 -> 906.95348 | J21: 2910 | K21: 1558928.1 | L21: =K21/J21 -> 535.71413 | M21: =J21/$L$9 -> 0.3800444 | N21: =(J21-J20) -> 56 | O21: =(K21-K20)/N21 -> 462.79964 | Q21: 1468 | R21: 868293.92 | S21: =R21/Q21 -> 591.48087 | T21: =Q21/$S$9 -> 0.19811066 | U21: =Q21-Q20 -> 11 | V21: =(R21-R20)/U21 -> 698.92636
B22: =B21+1 -> 10 | C22: =1940+1578 -> 3518 | D22: =1275921.03+1074028.88 -> 2349949.9 | E22: =D22/C22 -> 667.97894 | F22: =C22/$E$9 -> 0.47476383 | G22: =(C22-C21) -> 44 | H22: =(D22-D21)/G22 -> 1027.987 | J22: 2938 | K22: 1574474.9 | L22: =K22/J22 -> 535.90022 | M22: =J22/$L$9 -> 0.38370119 | N22: =(J22-J21) -> 28 | O22: =(K22-K21)/N22 -> 555.24 | Q22: 1497 | R22: 890759.93 | S22: =R22/Q22 -> 595.03001 | T22: =Q22/$S$9 -> 0.20202429 | U22: =Q22-Q21 -> 29 | V22: =(R22-R21)/U22 -> 774.69
B23: =B22+1 -> 11 | C23: =1758+1875 -> 3633 | D23: =1035793.65+1399083.36 -> 2434877 | E23: =D23/C23 -> 670.21112 | F23: =C23/$E$9 -> 0.4902834 | G23: =(C23-C22) -> 115 | H23: =(D23-D22)/G23 -> 738.49652 | J23: 2952 | K23: 1588910.9 | L23: =K23/J23 -> 538.24893 | M23: =J23/$L$9 -> 0.38552958 | N23: =(J23-J22) -> 14 | O23: =(K23-K22)/N23 -> 1031.1429 | Q23: 1495 | R23: 889094.93 | S23: =R23/Q23 -> 594.71233 | T23: =Q23/$S$9 -> 0.20175439 | U23: =Q23-Q22 -> -2 | V23: =(R23-R22)/U23 -> 832.5
B24: =B23+1 -> 12 | C24: =1946+1745 -> 3691 | D24: =1525419.99+960228.87 -> 2485648.9 | E24: =D24/C24 -> 673.43507 | F24: =C24/$E$9 -> 0.49811066 | G24: =(C24-C23) -> 58 | H24: =(D24-D23)/G24 -> 875.37672 | I24: 635.86 | J24: 3009 | K24: 1616536.3 | L24: =K24/J24 -> 537.23373 | M24: =J24/$L$9 -> 0.39297375 | N24: =(J24-J23) -> 57 | O24: =(K24-K23)/N24 -> 484.65702 | Q24: 1570 | R24: 942109.01 | S24: =R24/Q24 -> 600.06943 | T24: =Q24/$S$9 -> 0.21187584 | U24: =Q24-Q23 -> 75 | V24: =(R24-R23)/U24 -> 706.8544
B25: =B24+1 -> 13 | C25: =2107+1787 -> 3894 | D25: =975574.74+1635246.53 -> 2610821.3 | E25: =D25/C25 -> 670.47285 | F25: =C25/$E$9 -> 0.52550607 | G25: =(C25-C24) -> 203 | H25: =(D25-D24)/G25 -> 616.61286 | J25: 3131 | K25: 1683568.8 | L25: =K25/J25 -> 537.70961 | M25: =J25/$L$9 -> 0.40890688 | N25: =(J25-J24) -> 122 | O25: =(K25-K24)/N25 -> 549.44672 | Q25: 1620 | R25: 997384.63 | S25: =R25/Q25 -> 615.66952 | T25: =Q25/$S$9 -> 0.21862348 | U25: =Q25-Q24 -> 50 | V25: =(R25-R24)/U25 -> 1105.5124
B26: =B25+1 -> 14 | C26: =2262+1777 -> 4039 | D26: =1743051.58+969874.9 -> 2712926.5 | E26: =D26/C26 -> 671.68271 | F26: =C26/$E$9 -> 0.54507422 | G26: =(C26-C25) -> 145 | H26: =(D26-D25)/G26 -> 704.17386 | J26: 3152 | K26: 1695792.2 | L26: =K26/J26 -> 538.00513 | M26: =J26/$L$9 -> 0.41164947 | N26: =(J26-J25) -> 21 | O26: =(K26-K25)/N26 -> 582.06524 | Q26: 1709 | R26: 1062985.6 | S26: =R26/Q26 -> 621.99272 | T26: =Q26/$S$9 -> 0.23063428 | U26: =Q26-Q25 -> 89 | V26: =(R26-R25)/U26 -> 737.0891
B27: =B26+1 -> 15 | C27: =1663+2429 -> 4092 | D27: =893266.02+1852241.01 -> 2745507 | E27: =D27/C27 -> 670.94502 | F27: =C27/$E$9 -> 0.55222672 | G27: =(C27-C26) -> 53 | H27: =(D27-D26)/G27 -> 614.72736 | J27: 3149 | K27: 1693343.9 | L27: =K27/J27 -> 537.74019 | M27: =J27/$L$9 -> 0.41125767 | N27: =(J27-J26) -> -3 | O27: =(K27-K26)/N27 -> 816.10667 | Q27: 1743 | R27: 1098803.9 | S27: =R27/Q27 -> 630.40958 | T27: =Q27/$S$9 -> 0.23522267 | U27: =Q27-Q26 -> 34 | V27: =(R27-R26)/U27 -> 1053.4806
B28: =B27+1 -> 16 | C28: =2565+1555 -> 4120 | D28: =1941189.69+838063.42 -> 2779253.1 | E28: =D28/C28 -> 674.576 | F28: =C28/$E$9 -> 0.5560054 | G28: =(C28-C27) -> 28 | H28: =(D28-D27)/G28 -> 1205.2171 | J28: 3140 | K28: 1684318.9 | L28: =K28/J28 -> 536.40728 | M28: =J28/$L$9 -> 0.41008228 | N28: =(J28-J27) -> -9 | O28: =(K28-K27)/N28 -> 1002.7756 | Q28: 1793 | R28: 1130682.7 | S28: =R28/Q28 -> 630.60943 | T28: =Q28/$S$9 -> 0.24197031 | U28: =Q28-Q27 -> 50 | V28: =(R28-R27)/U28 -> 637.5762
B29: =B28+1 -> 17 | C29: =1469+2686 -> 4155 | D29: =790436.51+2027279.85 -> 2817716.4 | E29: =D29/C29 -> 678.15075 | F29: =C29/$E$9 -> 0.56072874 | G29: =(C29-C28) -> 35 | H29: =(D29-D28)/G29 -> 1098.95 | J29: 3169 | K29: 1702304.7 | L29: =K29/J29 -> 537.17409 | M29: =J29/$L$9 -> 0.41386966 | N29: =(J29-J28) -> 29 | O29: =(K29-K28)/N29 -> 620.20034 | Q29: 1784 | R29: 1124943.7 | S29: =R29/Q29 -> 630.57383 | T29: =Q29/$S$9 -> 0.24075574 | U29: =Q29-Q28 -> -9 | V29: =(R29-R28)/U29 -> 637.66667
B30: =B29+1 -> 18 | C30: =2813+1411 -> 4224 | D30: =740552.74+2117290.41 -> 2857843.2 | E30: =D30/C30 -> 676.57272 | F30: =C30/$E$9 -> 0.57004049 | G30: =(C30-C29) -> 69 | H30: =(D30-D29)/G30 -> 581.54768 | J30: 3238 | K30: 1740378 | L30: =K30/J30 -> 537.48549 | M30: =J30/$L$9 -> 0.42288102 | N30: =(J30-J29) -> 69 | O30: =(K30-K29)/N30 -> 551.78754 | Q30: 1800 | R30: 1133391.7 | S30: =R30/Q30 -> 629.66206 | T30: =Q30/$S$9 -> 0.24291498 | U30: =Q30-Q29 -> 16 | V30: =(R30-R29)/U30 -> 527.99937
B31: =B30+1 -> 19 | C31: =2992+1370 -> 4362 | D31: =714887.28+2222868.09 -> 2937755.4 | E31: =D31/C31 -> 673.48816 | F31: =C31/$E$9 -> 0.58866397 | G31: =(C31-C30) -> 138 | H31: =(D31-D30)/G31 -> 579.07406 | J31: 3308 | K31: 1785231.4 | L31: =K31/J31 -> 539.67092 | M31: =J31/$L$9 -> 0.43202299 | N31: =(J31-J30) -> 70 | O31: =(K31-K30)/N31 -> 640.76271 | Q31: 1764 | R31: 1088991 | S31: =R31/Q31 -> 617.34185 | T31: =Q31/$S$9 -> 0.23805668 | U31: =Q31-Q30 -> -36 | V31: =(R31-R30)/U31 -> 1233.3522
B32: =B31+1 -> 20 | C32: =3142+1260 -> 4402 | D32: =677229.93+2318355.29 -> 2995585.2 | E32: =D32/C32 -> 680.5055 | F32: =C32/$E$9 -> 0.59406208 | G32: =(C32-C31) -> 40 | H32: =(D32-D31)/G32 -> 1445.7463 | J32: 3504 | K32: 1922219.2 | L32: =K32/J32 -> 548.57853 | M32: =J32/$L$9 -> 0.45762048 | N32: =(J32-J31) -> 196 | O32: =(K32-K31)/N32 -> 698.91714 | Q32: 1773 | R32: 1095171 | S32: =R32/Q32 -> 617.69376 | T32: =Q32/$S$9 -> 0.23927126 | U32: =Q32-Q31 -> 9 | V32: =(R32-R31)/U32 -> 686.66889
B33: =B32+1 -> 21 | C33: =1240+3296 -> 4536 | D33: =671702.07+2422413.1 -> 3094115.2 | E33: =D33/C33 -> 682.12416 | F33: =C33/$E$9 -> 0.61214575 | G33: =(C33-C32) -> 134 | H33: =(D33-D32)/G33 -> 735.29813 | J33: 3621 | K33: 1979854.2 | L33: =K33/J33 -> 546.77001 | M33: =J33/$L$9 -> 0.47290061 | N33: =(J33-J32) -> 117 | O33: =(K33-K32)/N33 -> 492.60701 | Q33: 1816 | R33: 1123772.7 | S33: =R33/Q33 -> 618.81758 | T33: =Q33/$S$9 -> 0.24507422 | U33: =Q33-Q32 -> 43 | V33: =(R33-R32)/U33 -> 665.15535
B34: =B33+1 -> 22 | C34: =1133+3464 -> 4597 | D34: =613431.93+2534580.3 -> 3148012.2 | E34: =D34/C34 -> 684.79709 | F34: =C34/$E$9 -> 0.62037787 | G34: =(C34-C33) -> 61 | H34: =(D34-D33)/G34 -> 883.55836 | J34: 3892 | K34: 2097889.6 | L34: =K34/J34 -> 539.0261 | M34: =J34/$L$9 -> 0.50829307 | N34: =(J34-J33) -> 271 | O34: =(K34-K33)/N34 -> 435.55502 | Q34: 1936 | R34: 1214292.7 | S34: =R34/Q34 -> 627.21729 | T34: =Q34/$S$9 -> 0.26126856 | U34: =Q34-Q33 -> 120 | V34: =(R34-R33)/U34 -> 754.333
B35: =B34+1 -> 23 | C35: =3651+978 -> 4629 | D35: =528674.09+2655441.85 -> 3184115.9 | E35: =D35/C35 -> 687.86259 | F35: =C35/$E$9 -> 0.62469636 | G35: =(C35-C34) -> 32 | H35: =(D35-D34)/G35 -> 1128.2409 | J35: 3938 | K35: 2125110.6 | L35: =K35/J35 -> 539.64209 | M35: =J35/$L$9 -> 0.51430064 | N35: =(J35-J34) -> 46 | O35: =(K35-K34)/N35 -> 591.76022 | Q35: 1948 | R35: 1224012.7 | S35: =R35/Q35 -> 628.34326 | T35: =Q35/$S$9 -> 0.26288799 | U35: =Q35-Q34 -> 12 | V35: =(R35-R34)/U35 -> 810
B36: =B35+1 -> 24 | C36: =3774+860 -> 4634 | D36: =2747999.19+469235.23 -> 3217234.4 | E36: =D36/C36 -> 694.26725 | F36: =C36/$E$9 -> 0.62537112 | G36: =(C36-C35) -> 5 | H36: =(D36-D35)/G36 -> 6623.696 | J36: 3957 | K36: 2131651.8 | L36: =K36/J36 -> 538.70401 | M36: =J36/$L$9 -> 0.51678203 | N36: =(J36-J35) -> 19 | O36: =(K36-K35)/N36 -> 344.27316 | Q36: 1961 | R36: 1233016 | S36: =R36/Q36 -> 628.76901 | T36: =Q36/$S$9 -> 0.26464238 | U36: =Q36-Q35 -> 13 | V36: =(R36-R35)/U36 -> 692.56538
B37: =B36+1 -> 25 | C37: =789+3925 -> 4714 | D37: =2845923.81+414684.08 -> 3260607.9 | E37: =D37/C37 -> 691.68602 | F37: =C37/$E$9 -> 0.63616734 | G37: =(C37-C36) -> 80 | H37: =(D37-D36)/G37 -> 542.16838 | J37: 4147 | K37: 2187666.6 | L37: =K37/J37 -> 527.52993 | M37: =J37/$L$9 -> 0.54159593 | N37: =(J37-J36) -> 190 | O37: =(K37-K36)/N37 -> 294.81511 | Q37: 1962 | R37: 1239203 | S37: =R37/Q37 -> 631.60195 | T37: =Q37/$S$9 -> 0.26477733 | U37: =Q37-Q36 -> 1 | V37: =(R37-R36)/U37 -> 6187
B38: =B37+1 -> 26 | C38: =681+4075 -> 4756 | D38: =350431.69+2943832.48 -> 3294264.2 | E38: =D38/C38 -> 692.65437 | F38: =C38/$E$9 -> 0.64183536 | G38: =(C38-C37) -> 42 | H38: =(D38-D37)/G38 -> 801.34 | J38: 4231 | K38: 2230398.2 | L38: =K38/J38 -> 527.15629 | M38: =J38/$L$9 -> 0.55256628 | N38: =(J38-J37) -> 84 | O38: =(K38-K37)/N38 -> 508.70976 | Q38: 2011 | R38: 1283539.4 | S38: =R38/Q38 -> 638.25929 | T38: =Q38/$S$9 -> 0.27139001 | U38: =Q38-Q37 -> 49 | V38: =(R38-R37)/U38 -> 904.82449
B39: =B38+1 -> 27 | C39: =532+4249 -> 4781 | D39: =265359.75+3062490.54 -> 3327850.3 | E39: =D39/C39 -> 696.05737 | F39: =C39/$E$9 -> 0.64520918 | G39: =(C39-C38) -> 25 | H39: =(D39-D38)/G39 -> 1343.4448 | J39: 4450 | K39: 2374503.7 | L39: =K39/J39 -> 533.59633 | M39: =J39/$L$9 -> 0.58116756 | N39: =(J39-J38) -> 219 | O39: =(K39-K38)/N39 -> 658.01566 | Q39: 2121 | R39: 1380242.9 | S39: =R39/Q39 -> 650.75102 | T39: =Q39/$S$9 -> 0.28623482 | U39: =Q39-Q38 -> 110 | V39: =(R39-R38)/U39 -> 879.12264
B40: =B39+1 -> 28 | C40: =376+4449 -> 4825 | D40: =189953.45+3207670.58 -> 3397624 | E40: =D40/C40 -> 704.17078 | F40: =C40/$E$9 -> 0.6511471 | G40: =(C40-C39) -> 44 | H40: =(D40-D39)/G40 -> 1585.7668 | J40: 4517 | K40: 2418212.2 | L40: =K40/J40 -> 535.35802 | M40: =J40/$L$9 -> 0.58991772 | N40: =(J40-J39) -> 67 | O40: =(K40-K39)/N40 -> 652.36552 | Q40: 2143 | R40: 1399013.6 | S40: =R40/Q40 -> 652.82951 | T40: =Q40/$S$9 -> 0.28920378 | U40: =Q40-Q39 -> 22 | V40: =(R40-R39)/U40 -> 853.21455
B41: =B40+1 -> 29 | C41: =4659+176 -> 4835 | D41: =86096.22+3335488.21 -> 3421584.4 | E41: =D41/C41 -> 707.67 | F41: =C41/$E$9 -> 0.65249663 | G41: =(C41-C40) -> 10 | H41: =(D41-D40)/G41 -> 2396.04 | I41: 0 | J41: 4652 | K41: 2501687.2 | L41: =K41/J41 -> 537.76596 | M41: =J41/$L$9 -> 0.60754865 | N41: =(J41-J40) -> 135 | O41: =(K41-K40)/N41 -> 618.33378 | Q41: 2219 | R41: 1457710.7 | S41: =R41/Q41 -> 656.92233 | T41: =Q41/$S$9 -> 0.29946019 | U41: =Q41-Q40 -> 76 | V41: =(R41-R40)/U41 -> 772.32921
B42: 30 | C42: 4830 | D42: 3440045.9 | E42: =D42/C42 -> 712.22483 | F42: =C42/$E$9 -> 0.65182186 | G42: =(C42-C41) -> -5 | H42: =(D42-D41)/G42 -> -3692.302 | J42: 4669 | K42: 2509120.6 | L42: =K42/J42 -> 537.4 | M42: =J42/$L$9 -> 0.60976884 | N42: =(J42-J41) -> 17 | O42: =(K42-K41)/N42 -> 437.25647 | Q42: 2248 | R42: 1481854 | S42: =R42/Q42 -> 659.18771 | T42: =Q42/$S$9 -> 0.30337382 | U42: =Q42-Q41 -> 29 | V42: =(R42-R41)/U42 -> 832.52793
B43: 31 | E43: =D43/C43 -> #DIV/0! | F43: =C43/$E$9 -> 0 | G43: 0 | H43: =(D43-D42)/G43 -> #DIV/0! | L43: =K43/J43 -> #DIV/0! | M43: =J43/$L$9 -> 0 | N43: 0 | O43: =(K43-K42)/N43 -> #DIV/0! | S43: =R43/Q43 -> #DIV/0! | T43: =Q43/$S$9 -> 0 | U43: 0 | V43: =(R43-R42)/U43 -> #DIV/0!

Sheet October,November,December
N3: Hotel Name :
N4: Date :
A6: June | B6: October | J6: November | Q6: December
C7: Budget Rm Nts | E7: 6895 | G7: Budget Avg | H7: 808.89 | J7: Budget Rm Nts | L7: 6900 | N7: Budget Avg | O7: 846.83 | Q7: Budget Rm Nts | S7: 6100 | U7: Budget Avg | V7: 622.52
C8: Budget Occ % | E8: 0.9 | F8: Budget Rm Rev | H8: 5577300 | J8: Budget Occ % | L8: 0.931 | M8: Budget Rm Rev | O8: 5843150 | Q8: Budget Occ % | S8: 0.797 | T8: Budget Rm Rev | V8: 3797375
C9: Available Rms | E9: 7657 | J9: Available Rms | L9: 7410 | Q9: Available Rms | S9: 7657
B10: Month of Oct,Nov,Dec
B11: Day of the Month | C11: Total Rooms On the Books for whole month | D11: Total Revenue On the Books for whole month | E11: Average Rate per Month | F11: Occ % for end of the Month | G11: Pick-Up Room Nights per Day | H11: Avg Rate Pick Up | J11: Total Rooms On the Books for whole month | K11: Total Revenue On the Books for whole month | L11: Average Rate per Month | M11: Occ % for end of the Month | N11: Pick-Up Room Nights per Day | O11: Avg Rate Pick Up | Q11: Total Rooms On the Books for whole month | R11: Total Revenue On the Books for whole month | S11: Average Rate per Month | T11: Occ % for end of the Month | U11: Pick-Up Room Nights per Day | V11: Avg Rate Pick up
C12: 304 | D12: 304 | E12: 304 | F12: 304 | G12: 304 | H12: 304 | I12: 304 | J12: 304 | K12: 304 | L12: 304 | M12: 304 | N12: 304 | O12: 304 | P12: 304 | Q12: 304 | R12: 304 | S12: 304 | T12: 304 | U12: 304 | V12: 304
B13: 1 | C13: =4513+172 -> 4685 | D13: =2499282.35+100243.68 -> 2599526 | E13: =D13/C13 -> 554.86148 | F13: =C13/$E$9 -> 0.61185843 | G13: 16 | H13: 5650.34 | J13: 2294 | K13: 1510639 | L13: =K13/J13 -> 658.51742 | M13: =J13/$L$9 -> 0.30958165 | N13: 46 | O13: 625.75 | Q13: 1502 | R13: 1133811.1 | S13: =R13/Q13 -> 754.86756 | T13: =Q13/$S$9 -> 0.19616038 | U13: -9 | V13: 903.71
B14: =B13+1 -> 2 | C14: =358+4421 -> 4779 | D14: =206193.36+2458477.08 -> 2664670.4 | E14: =D14/C14 -> 557.57908 | F14: =C14/$E$9 -> 0.62413478 | G14: =(C14-C13) -> 94 | H14: =(D14-D13)/G14 -> 693.02564 | J14: 2329 | K14: 1556852.5 | L14: =K14/J14 -> 668.46394 | M14: =J14/$L$9 -> 0.31430499 | N14: =(J14-J13) -> 35 | O14: =-(K14-K13)/-N14 -> 1320.3871 | Q14: 1510 | R14: 1138184.4 | S14: =R14/Q14 -> 753.76452 | T14: =Q14/$S$9 -> 0.19720517 | U14: =Q14-Q13 -> 8 | V14: =(R14-R13)/U14 -> 546.6675
B15: =B14+1 -> 3 | C15: =567+4320 -> 4887 | D15: =2433698.63+330321.22 -> 2764019.8 | E15: =D15/C15 -> 565.58622 | F15: =C15/$E$9 -> 0.63823952 | G15: =(C15-C14) -> 108 | H15: =(D15-D14)/G15 -> 919.90194 | J15: 2456 | K15: 1613235.4 | L15: =K15/J15 -> 656.85479 | M15: =J15/$L$9 -> 0.33144399 | N15: =(J15-J14) -> 127 | O15: =-(K15-K14)/-N15 -> 443.95945 | Q15: 1529 | R15: 1150379.4 | S15: =R15/Q15 -> 752.37369 | T15: =Q15/$S$9 -> 0.19968656 | U15: =Q15-Q14 -> 19 | V15: =(R15-R14)/U15 -> 641.83947
B16: 4 | C16: =778+4309 -> 5087 | D16: =2455650.31+459216.83 -> 2914867.1 | E16: =D16/C16 -> 573.00317 | F16: =C16/$E$9 -> 0.66435941 | G16: =(C16-C15) -> 200 | H16: =(D16-D15)/G16 -> 754.23645 | J16: =2569 -> 2569 | K16: 1708655 | L16: =K16/J16 -> 665.10511 | M16: =J16/$L$9 -> 0.34669366 | N16: =(J16-J15) -> 113 | O16: =-(K16-K15)/-N16 -> 844.42177 | Q16: 1560 | R16: 1164735.8 | S16: =R16/Q16 -> 746.62549 | T16: =Q16/$S$9 -> 0.20373514 | U16: =Q16-Q15 -> 31 | V16: =(R16-R15)/U16 -> 463.10935
B17: =B16+1 -> 5 | C17: =4378+995 -> 5373 | D17: =2525041.08+598164.32 -> 3123205.4 | E17: =D17/C17 -> 581.27776 | F17: =C17/$E$9 -> 0.70171085 | G17: =(C17-C16) -> 286 | H17: =(D17-D16)/G17 -> 728.45545 | J17: 2638 | K17: 1755275.9 | L17: =K17/J17 -> 665.38133 | M17: =J17/$L$9 -> 0.3560054 | N17: =(J17-J16) -> 69 | O17: =(K17-K16)/N17 -> 675.66536 | Q17: 1582 | R17: 1176884.8 | S17: =R17/Q17 -> 743.92209 | T17: =Q17/$S$9 -> 0.20660833 | U17: =Q17-Q16 -> 22 | V17: =(R17-R16)/U17 -> 552.22682
B18: =B17+1 -> 6 | C18: =4155+1228 -> 5383 | D18: =2419286.03+739577.77 -> 3158863.8 | E18: =D18/C18 -> 586.82218 | F18: =C18/$E$9 -> 0.70301685 | G18: =(C18-C17) -> 10 | H18: =(D18-D17)/G18 -> 3565.84 | I18: 0 | J18: 2767 | K18: 1847530.1 | L18: =K18/J18 -> 667.70154 | M18: =J18/$L$9 -> 0.3734143 | N18: =(J18-J17) -> 129 | O18: =(K18-K17)/N18 -> 715.14891 | Q18: 1602 | R18: 1189992.1 | S18: =R18/Q18 -> 742.81655 | T18: =Q18/$S$9 -> 0.20922032 | U18: =Q18-Q17 -> 20 | V18: =(R18-R17)/U18 -> 655.368
B19: =B18+1 -> 7 | C19: =1402+3997 -> 5399 | D19: =2337409.68+849995.67 -> 3187405.4 | E19: =D19/C19 -> 590.36958 | F19: =C19/$E$9 -> 0.70510644 | G19: =(C19-C18) -> 16 | H19: =(D19-D18)/G19 -> 1783.8469 | J19: 2759 | K19: 1855869 | L19: =K19/J19 -> 672.66003 | M19: =J19/$L$9 -> 0.37233468 | N19: =(J19-J18) -> -8 | O19: =-(K19-K18)/-N19 -> -1042.3588 | Q19: 1608 | R19: 1195504.6 | S19: =R19/Q19 -> 743.47302 | T19: =Q19/$S$9 -> 0.21000392 | U19: =Q19-Q18 -> 6 | V19: =(R19-R18)/U19 -> 918.75
B20: =B19+1 -> 8 | C20: =1584+3999 -> 5583 | D20: =2320321.68+982054.49 -> 3302376.2 | E20: =D20/C20 -> 591.50567 | F20: =C20/$E$9 -> 0.72913674 | G20: =(C20-C19) -> 184 | H20: =(D20-D19)/G20 -> 624.84141 | J20: 2852 | K20: 1914975.3 | L20: =K20/J20 -> 671.44998 | M20: =J20/$L$9 -> 0.38488529 | N20: =(J20-J19) -> 93 | O20: =(K20-K19)/N20 -> 635.55183 | Q20: 1649 | R20: 1244029.6 | S20: =R20/Q20 -> 754.41456 | T20: =Q20/$S$9 -> 0.2153585 | U20: =Q20-Q19 -> 41 | V20: =(R20-R19)/U20 -> 1183.5366
B21: =B20+1 -> 9 | C21: =1830+3743 -> 5573 | D21: =1159248.92+2154683.16 -> 3313932.1 | E21: =D21/C21 -> 594.6406 | F21: =C21/$E$9 -> 0.72783074 | G21: =(C21-C20) -> -10 | H21: =(D21-D20)/G21 -> -1155.591 | J21: 2932 | K21: 1972330.4 | L21: =K21/J21 -> 672.69114 | M21: =J21/$L$9 -> 0.39568151 | N21: =(J21-J20) -> 80 | O21: =(K21-K20)/N21 -> 716.93837 | Q21: 1667 | R21: 1250755.1 | S21: =R21/Q21 -> 750.30301 | T21: =Q21/$S$9 -> 0.21770929 | U21: =Q21-Q20 -> 18 | V21: =(R21-R20)/U21 -> 373.63889
B22: =B21+1 -> 10 | C22: =3621+2077 -> 5698 | D22: =2067617.6+1340054.76 -> 3407672.4 | E22: =D22/C22 -> 598.0471 | F22: =C22/$E$9 -> 0.74415567 | G22: =(C22-C21) -> 125 | H22: =(D22-D21)/G22 -> 749.92224 | J22: 2978 | K22: 2007974.2 | L22: =K22/J22 -> 674.26938 | M22: =J22/$L$9 -> 0.40188934 | N22: =(J22-J21) -> 46 | O22: =(K22-K21)/N22 -> 774.86543 | Q22: 1673 | R22: 1254738.6 | S22: =R22/Q22 -> 749.99319 | T22: =Q22/$S$9 -> 0.21849288 | U22: =Q22-Q21 -> 6 | V22: =(R22-R21)/U22 -> 663.91667
B23: =B22+1 -> 11 | C23: =3533+2321 -> 5854 | D23: =1523864.59+2014566.98 -> 3538431.6 | E23: =D23/C23 -> 604.4468 | F23: =C23/$E$9 -> 0.76452919 | G23: =(C23-C22) -> 156 | H23: =(D23-D22)/G23 -> 838.20006 | J23: 3155 | K23: 2121265.2 | L23: =K23/J23 -> 672.35029 | M23: =J23/$L$9 -> 0.42577598 | N23: =(J23-J22) -> 177 | O23: =(K23-K22)/N23 -> 640.06192 | Q23: 1692 | R23: 1274064 | S23: =R23/Q23 -> 752.99291 | T23: =Q23/$S$9 -> 0.22097427 | U23: =Q23-Q22 -> 19 | V23: =(R23-R22)/U23 -> 1017.1263
B24: =B23+1 -> 12 | C24: =2540+3348 -> 5888 | D24: =1691578.32+1903514.9 -> 3595093.2 | E24: =D24/C24 -> 610.57969 | F24: =C24/$E$9 -> 0.76896957 | G24: =(C24-C23) -> 34 | H24: =(D24-D23)/G24 -> 1666.5191 | I24: 635.86 | J24: 3286 | K24: 2233594.1 | L24: =K24/J24 -> 679.7304 | M24: =J24/$L$9 -> 0.44345479 | N24: =(J24-J23) -> 131 | O24: =(K24-K23)/N24 -> 857.4726 | Q24: 1717 | R24: 1295383 | S24: =R24/Q24 -> 754.44556 | T24: =Q24/$S$9 -> 0.22423926 | U24: =Q24-Q23 -> 25 | V24: =(R24-R23)/U24 -> 852.7604
B25: =B24+1 -> 13 | C25: =3231+2738 -> 5969 | D25: =1830515.11+1850600.1 -> 3681115.2 | E25: =D25/C25 -> 616.70551 | F25: =C25/$E$9 -> 0.77954813 | G25: =(C25-C24) -> 81 | H25: =(D25-D24)/G25 -> 1061.9999 | J25: 3482 | K25: 2354837.1 | L25: =K25/J25 -> 676.28865 | M25: =J25/$L$9 -> 0.46990553 | N25: =(J25-J24) -> 196 | O25: =(K25-K24)/N25 -> 618.58663 | Q25: 1776 | R25: 1339052 | S25: =R25/Q25 -> 753.9707 | T25: =Q25/$S$9 -> 0.23194463 | U25: =Q25-Q24 -> 59 | V25: =(R25-R24)/U25 -> 740.15169
B26: =B25+1 -> 14 | C26: =2939+2975 -> 5914 | D26: =1701102.25+1977787.43 -> 3678889.7 | E26: =D26/C26 -> 622.06454 | F26: =C26/$E$9 -> 0.77236516 | G26: =(C26-C25) -> -55 | H26: =(D26-D25)/G26 -> 40.464182 | J26: 3735 | K26: 2537741.1 | L26: =K26/J26 -> 679.44877 | M26: =J26/$L$9 -> 0.50404858 | N26: =(J26-J25) -> 253 | O26: =(K26-K25)/N26 -> 722.94099 | Q26: 1841 | R26: 1364838.3 | S26: =R26/Q26 -> 741.35706 | T26: =Q26/$S$9 -> 0.24043359 | U26: =Q26-Q25 -> 65 | V26: =(R26-R25)/U26 -> 396.71338
B27: =B26+1 -> 15 | C27: =3207+2708 -> 5915 | D27: =1580794.89+2120098.78 -> 3700893.7 | E27: =D27/C27 -> 625.6794 | F27: =C27/$E$9 -> 0.77249576 | G27: =(C27-C26) -> 1 | H27: =(D27-D26)/G27 -> 22003.99 | J27: 3835 | K27: 2625923.1 | L27: =K27/J27 -> 684.72571 | M27: =J27/$L$9 -> 0.51754386 | N27: =(J27-J26) -> 100 | O27: =(K27-K26)/N27 -> 881.8195 | Q27: 1847 | R27: 1369325 | S27: =R27/Q27 -> 741.37791 | T27: =Q27/$S$9 -> 0.24121719 | U27: =Q27-Q26 -> 6 | V27: =(R27-R26)/U27 -> 747.77667
B28: =B27+1 -> 16 | C28: =2621+3384 -> 6005 | D28: =2248512.75+1527753.64 -> 3776266.4 | E28: =D28/C28 -> 628.85369 | F28: =C28/$E$9 -> 0.78424971 | G28: =(C28-C27) -> 90 | H28: =(D28-D27)/G28 -> 837.47467 | J28: 4004 | K28: 2747493.9 | L28: =K28/J28 -> 686.18728 | M28: =J28/$L$9 -> 0.54035088 | N28: =(J28-J27) -> 169 | O28: =(K28-K27)/N28 -> 719.35367 | Q28: 1848 | R28: 1374078 | S28: =R28/Q28 -> 743.5487 | T28: =Q28/$S$9 -> 0.24134779 | U28: =Q28-Q27 -> 1 | V28: =(R28-R27)/U28 -> 4753
B29: =B28+1 -> 17 | C29: =2559+3575 -> 6134 | D29: =1514596.42+2385391.39 -> 3899987.8 | E29: =D29/C29 -> 635.79847 | F29: =C29/$E$9 -> 0.80109704 | G29: =(C29-C28) -> 129 | H29: =(D29-D28)/G29 -> 959.08078 | J29: 4215 | K29: 2923440.5 | L29: =K29/J29 -> 693.5802 | M29: =J29/$L$9 -> 0.56882591 | N29: =(J29-J28) -> 211 | O29: =(K29-K28)/N29 -> 833.87047 | Q29: 1869 | R29: 1386604.1 | S29: =R29/Q29 -> 741.89623 | T29: =Q29/$S$9 -> 0.24409037 | U29: =Q29-Q28 -> 21 | V29: =(R29-R28)/U29 -> 596.47857
B30: =B29+1 -> 18 | C30: =3768+2466 -> 6234 | D30: =1475556.78+2520237.24 -> 3995794 | E30: =D30/C30 -> 640.96792 | F30: =C30/$E$9 -> 0.81415698 | G30: =(C30-C29) -> 100 | H30: =(D30-D29)/G30 -> 958.0621 | J30: 4233 | K30: 2939681.5 | L30: =K30/J30 -> 694.46763 | M30: =J30/$L$9 -> 0.57125506 | N30: =(J30-J29) -> 18 | O30: =(K30-K29)/N30 -> 902.27556 | Q30: 1894 | R30: 1401243.8 | S30: =R30/Q30 -> 739.83307 | T30: =Q30/$S$9 -> 0.24735536 | U30: =Q30-Q29 -> 25 | V30: =(R30-R29)/U30 -> 585.5916
B31: =B30+1 -> 19 | C31: =3961+2424 -> 6385 | D31: =1450482.2+2658974 -> 4109456.2 | E31: =D31/C31 -> 643.61099 | F31: =C31/$E$9 -> 0.8338775 | G31: =(C31-C30) -> 151 | H31: =(D31-D30)/G31 -> 752.72967 | J31: 4174 | K31: 2942936 | L31: =K31/J31 -> 705.06373 | M31: =J31/$L$9 -> 0.56329285 | N31: =(J31-J30) -> -59 | O31: =(K31-K30)/N31 -> -55.161356 | Q31: 1880 | R31: 1395143.5 | S31: =R31/Q31 -> 742.09761 | T31: =Q31/$S$9 -> 0.24552697 | U31: =Q31-Q30 -> -14 | V31: =(R31-R30)/U31 -> 435.73857
B32: =B31+1 -> 20 | C32: =2241+4173 -> 6414 | D32: =2802707.48+1355268.96 -> 4157976.4 | E32: =D32/C32 -> 648.26574 | F32: =C32/$E$9 -> 0.83766488 | G32: =(C32-C31) -> 29 | H32: =(D32-D31)/G32 -> 1673.1117 | J32: 4264 | K32: 3012572.7 | L32: =K32/J32 -> 706.51331 | M32: =J32/$L$9 -> 0.5754386 | N32: =(J32-J31) -> 90 | O32: =(K32-K31)/N32 -> 773.74144 | Q32: 1937 | R32: 1423777.2 | S32: =R32/Q32 -> 735.04243 | T32: =Q32/$S$9 -> 0.25297114 | U32: =Q32-Q31 -> 57 | V32: =(R32-R31)/U32 -> 502.34526
B33: =B32+1 -> 21 | C33: =4367+2100 -> 6467 | D33: =2945565.24+1285025.5 -> 4230590.7 | E33: =D33/C33 -> 654.18134 | F33: =C33/$E$9 -> 0.84458665 | G33: =(C33-C32) -> 53 | H33: =(D33-D32)/G33 -> 1370.0811 | J33: 4309 | K33: 3045095.4 | L33: =K33/J33 -> 706.68261 | M33: =J33/$L$9 -> 0.58151147 | N33: =(J33-J32) -> 45 | O33: =(K33-K32)/N33 -> 722.72533 | Q33: 1972 | R33: 1445021.1 | S33: =R33/Q33 -> 732.76932 | T33: =Q33/$S$9 -> 0.25754212 | U33: =Q33-Q32 -> 35 | V33: =(R33-R32)/U33 -> 606.96914
B34: =B33+1 -> 22 | C34: =4547+1941 -> 6488 | D34: =3076548.95+1191476.16 -> 4268025.1 | E34: =D34/C34 -> 657.83371 | F34: =C34/$E$9 -> 0.84732924 | G34: =(C34-C33) -> 21 | H34: =(D34-D33)/G34 -> 1782.589 | J34: 4327 | K34: 3058393.7 | L34: =K34/J34 -> 706.8162 | M34: =J34/$L$9 -> 0.58394062 | N34: =(J34-J33) -> 18 | O34: =(K34-K33)/N34 -> 738.79444 | Q34: 1985 | R34: 1454524.1 | S34: =R34/Q34 -> 732.75773 | T34: =Q34/$S$9 -> 0.25923991 | U34: =Q34-Q33 -> 13 | V34: =(R34-R33)/U34 -> 731
B35: =B34+1 -> 23 | C35: =4763+1785 -> 6548 | D35: =3227962.21+1098301.61 -> 4326263.8 | E35: =D35/C35 -> 660.70003 | F35: =C35/$E$9 -> 0.85516521 | G35: =(C35-C34) -> 60 | H35: =(D35-D34)/G35 -> 970.64517 | J35: 4456 | K35: 3162951 | L35: =K35/J35 -> 709.81846 | M35: =J35/$L$9 -> 0.60134953 | N35: =(J35-J34) -> 129 | O35: =(K35-K34)/N35 -> 810.52225 | Q35: 1989 | R35: 1456559.1 | S35: =R35/Q35 -> 732.30724 | T35: =Q35/$S$9 -> 0.25976231 | U35: =Q35-Q34 -> 4 | V35: =(R35-R34)/U35 -> 508.75
B36: =B35+1 -> 24 | C36: =4973+1603 -> 6576 | D36: =999010.62+3383170.13 -> 4382180.8 | E36: =D36/C36 -> 666.39002 | F36: =C36/$E$9 -> 0.85882199 | G36: =(C36-C35) -> 28 | H36: =(D36-D35)/G36 -> 1997.0332 | J36: 4538 | K36: 3230237.1 | L36: =K36/J36 -> 711.81954 | M36: =J36/$L$9 -> 0.61241565 | N36: =(J36-J35) -> 82 | O36: =(K36-K35)/N36 -> 820.56134 | Q36: 2028 | R36: 1480985.2 | S36: =R36/Q36 -> 730.26885 | T36: =Q36/$S$9 -> 0.26485569 | U36: =Q36-Q35 -> 39 | V36: =(R36-R35)/U36 -> 626.31103
B37: =B36+1 -> 25 | C37: =5188+1418 -> 6606 | D37: =892015.1+3543676.05 -> 4435691.1 | E37: =D37/C37 -> 671.46399 | F37: =C37/$E$9 -> 0.86273998 | G37: =(C37-C36) -> 30 | H37: =(D37-D36)/G37 -> 1783.68 | J37: 4658 | K37: 3335000.4 | L37: =K37/J37 -> 715.97261 | M37: =J37/$L$9 -> 0.62860999 | N37: =(J37-J36) -> 120 | O37: =(K37-K36)/N37 -> 873.02767 | Q37: 2050 | R37: 1494453.5 | S37: =R37/Q37 -> 729.00172 | T37: =Q37/$S$9 -> 0.26772888 | U37: =Q37-Q36 -> 22 | V37: =(R37-R36)/U37 -> 612.19545
B38: =B37+1 -> 26 | C38: =1230+5408 -> 6638 | D38: =3703068.62+785170.39 -> 4488239 | E38: =D38/C38 -> 676.14327 | F38: =C38/$E$9 -> 0.86691916 | G38: =(C38-C37) -> 32 | H38: =(D38-D37)/G38 -> 1642.1206 | J38: 4741 | K38: 3403805 | L38: =K38/J38 -> 717.95086 | M38: =J38/$L$9 -> 0.63981107 | N38: =(J38-J37) -> 83 | O38: =(K38-K37)/N38 -> 828.9712 | Q38: 2081 | R38: 1508917.5 | S38: =R38/Q38 -> 725.09251 | T38: =Q38/$S$9 -> 0.27177746 | U38: =Q38-Q37 -> 31 | V38: =(R38-R37)/U38 -> 466.58032
B39: =B38+1 -> 27 | C39: =983+5641 -> 6624 | D39: =3873896.39+650888.87 -> 4524785.3 | E39: =D39/C39 -> 683.08956 | F39: =C39/$E$9 -> 0.86509077 | G39: =(C39-C38) -> -14 | H39: =(D39-D38)/G39 -> -2610.4464 | J39: 4872 | K39: 3515341.3 | L39: =K39/J39 -> 721.53968 | M39: =J39/$L$9 -> 0.65748988 | N39: =(J39-J38) -> 131 | O39: =(K39-K38)/N39 -> 851.42206 | Q39: 2144 | R39: 1553069.4 | S39: =R39/Q39 -> 724.37937 | T39: =Q39/$S$9 -> 0.28000522 | U39: =Q39-Q38 -> 63 | V39: =(R39-R38)/U39 -> 700.82286
B40: =B39+1 -> 28 | C40: =5879+727 -> 6606 | D40: =4043870.92+494706.97 -> 4538577.9 | E40: =D40/C40 -> 687.03874 | F40: =C40/$E$9 -> 0.86273998 | G40: =(C40-C39) -> -18 | H40: =(D40-D39)/G40 -> -766.25722 | J40: 4825 | K40: 3490613.2 | L40: =K40/J40 -> 723.44315 | M40: =J40/$L$9 -> 0.6511471 | N40: =(J40-J39) -> -47 | O40: =(K40-K39)/N40 -> 526.12936 | Q40: 2149 | R40: 1555930.4 | S40: =R40/Q40 -> 724.0253 | T40: =Q40/$S$9 -> 0.28065822 | U40: =Q40-Q39 -> 5 | V40: =(R40-R39)/U40 -> 572.2
B41: =B40+1 -> 29 | C41: =514+6081 -> 6595 | D41: =4193980.07+358513.1 -> 4552493.2 | E41: =D41/C41 -> 690.29464 | F41: =C41/$E$9 -> 0.86130338 | G41: =(C41-C40) -> -11 | H41: =(D41-D40)/G41 -> -1265.0255 | I41: 0 | J41: 4850 | K41: 3527764.9 | L41: =K41/J41 -> 727.3742 | M41: =J41/$L$9 -> 0.65452092 | N41: =(J41-J40) -> 25 | O41: =(K41-K40)/N41 -> 1486.0664 | Q41: 2173 | R41: 1578383.4 | S41: =R41/Q41 -> 726.36142 | T41: =Q41/$S$9 -> 0.28379261 | U41: =Q41-Q40 -> 24 | V41: =(R41-R40)/U41 -> 935.54167
B42: 30 | C42: =250+6328 -> 6578 | D42: =4391317.99+176135 -> 4567453 | E42: =D42/C42 -> 694.35284 | F42: =C42/$E$9 -> 0.85908319 | G42: =(C42-C41) -> -17 | H42: =(D42-D41)/G42 -> -879.98941 | J42: 5027 | K42: 3677939 | L42: =K42/J42 -> 731.63695 | M42: =J42/$L$9 -> 0.67840756 | N42: =(J42-J41) -> 177 | O42: =(K42-K41)/N42 -> 848.44113 | Q42: 2301 | R42: 1645936.9 | S42: =R42/Q42 -> 715.31372 | T42: =Q42/$S$9 -> 0.30050934 | U42: =Q42-Q41 -> 128 | V42: =(R42-R41)/U42 -> 527.7618
B43: 31 | C43: 6566 | D43: 4590087.6 | E43: =D43/C43 -> 699.06908 | F43: =C43/$E$9 -> 0.857516 | G43: =(C43-C42) -> -12 | H43: =(D43-D42)/G43 -> -1886.215 | J43: 5172 | K43: 3837468.9 | L43: =K43/J43 -> 741.97001 | M43: =J43/$L$9 -> 0.69797571 | N43: =(J43-J42) -> 145 | O43: =(K43-K42)/N43 -> 1100.2063 | Q43: 2373 | R43: 1686239.6 | S43: =R43/Q43 -> 710.59402 | T43: =Q43/$S$9 -> 0.3099125 | U43: =Q43-Q42 -> 72 | V43: =(R43-R42)/U43 -> 559.76028
