Workbook

Sheet January,February,March
N2: Hotel Name :
N3: Date :
A6: June | B6: January | J6: February | Q6: March
C7: Budget Rm Nts | E7: 6525 | G7: Budget Avg | H7: 725.13 | J7: Budget Rm Nts | L7: 6375 | N7: Budget Avg | O7: 746.18 | Q7: Budget Rm Nts | S7: 6765 | U7: Budget Avg | V7: 675.91
C8: Budget Occ % | E8: 0.852 | F8: Budget Rm Rev | H8: 4731500 | J8: Budget Occ % | L8: 0.922 | M8: Budget Rm Rev | O8: 4756900 | P8: 0 | Q8: Budget Occ % | S8: 0.884 | T8: Budget Rm Rev | V8: 4572525
C9: Available Rms | E9: 7657 | J9: Available Rms | L9: 6916 | Q9: Available Rms | S9: 7657
B10: Month of Jan,Feb,Mar
B11: Day of the Month | C11: Total Rooms On the Books for whole month | D11: Total Revenue On the Books for whole month | E11: Average Rate per Month | F11: Occ % for end of the Month | G11: Pick-Up Room Nights per Day | H11: Avg Rate Pick Up | J11: Total Rooms On the Books for whole month | K11: Total Revenue On the Books for whole month | L11: Average Rate per Month | M11: Occ % for end of the Month | N11: Pick-Up Room Nights per Day | O11: Avg Rate Pick Up | Q11: Total Rooms On the Books for whole month | R11: Total Revenue On the Books for whole month | S11: Average Rate per Month | T11: Occ % for end of the Month | U11: Pick-Up Room Nights per Day | V11: Avg Rate Pick up
C12: 304 | D12: 304 | E12: 304 | F12: 304 | G12: 304 | H12: 304 | J12: 304 | K12: 304 | L12: 304 | M12: 304 | N12: 304 | O12: 304 | Q12: 304 | R12: 304 | S12: 304 | T12: 304 | U12: 304 | V12: 304
B13: 1 | C13: =4761+227 -> 4988 | D13: =2684304.07+133686.11 -> 2817990.2 | E13: =D13/C13 -> 564.95393 | F13: =C13/$E$9 -> 0.65143006 | G13: =(C13-4938) -> 50 | H13: =-(D13-2241965.51)/-G13 -> 11520.493 | J13: 1525 | K13: 828216.54 | L13: =K13/J13 -> 543.09281 | M13: =J13/$L$9 -> 0.22050318 | N13: =J13-1506 -> 19 | O13: =(K13-1905664.12)/N13 -> -56707.767 | Q13: 1131 | R13: 560429.71 | S13: =R13/Q13 -> 495.51698 | T13: =Q13/$S$9 -> 0.14770798 | U13: =Q13-2479 -> -1348 | V13: =(R13-R12)/U13 -> -415.52352
B14: =B13+1 -> 2 | C14: =418+4758 -> 5176 | D14: =249651.3+2680895.65 -> 2930546.9 | E14: =D14/C14 -> 566.17986 | F14: =C14/$E$9 -> 0.67598276 | G14: =(C14-C13) -> 188 | H14: =(D14-D13)/G14 -> 598.70622 | J14: 1619 | K14: 880292.98 | L14: =K14/J14 -> 543.72636 | M14: =J14/$L$9 -> 0.23409485 | N14: =(J14-J13) -> 94 | O14: =-(K14-K13)/-N14 -> 554.00468 | Q14: 1133 | R14: 561179.71 | S14: =R14/Q14 -> 495.30425 | T14: =Q14/$S$9 -> 0.14796918 | U14: =Q14-Q13 -> 2 | V14: =(R14-R13)/U14 -> 375
B15: =B14+1 -> 3 | C15: =4693+636 -> 5329 | D15: =2656939.23+373857.87 -> 3030797.1 | E15: =D15/C15 -> 568.73655 | F15: =C15/$E$9 -> 0.69596448 | G15: =(C15-C14) -> 153 | H15: =(D15-D14)/G15 -> 655.22974 | J15: 1675 | K15: 911825.47 | L15: =K15/J15 -> 544.37341 | M15: =J15/$L$9 -> 0.24219202 | N15: =(J15-J14) -> 56 | O15: =-(K15-K14)/-N15 -> 563.08018 | Q15: 1136 | R15: 563179.71 | S15: =R15/Q15 -> 495.75679 | T15: =Q15/$S$9 -> 0.14836098 | U15: =Q15-Q14 -> 3 | V15: =(R15-R14)/U15 -> 666.66667
B16: 4 | C16: =4600+883 -> 5483 | D16: =2630851.99+510945.5 -> 3141797.5 | E16: =D16/C16 -> 573.00702 | F16: =C16/$E$9 -> 0.71607679 | G16: =(C16-C15) -> 154 | H16: =(D16-D15)/G16 -> 720.78175 | J16: 1724 | K16: 936123.9 | L16: =K16/J16 -> 542.9953 | M16: =J16/$L$9 -> 0.24927704 | N16: =(J16-J15) -> 49 | O16: =-(K16-K15)/-N16 -> 495.88633 | Q16: 1146 | R16: 568688.03 | S16: =R16/Q16 -> 496.23737 | T16: =Q16/$S$9 -> 0.14966697 | U16: =Q16-Q15 -> 10 | V16: =(R16-R15)/U16 -> 550.832
B17: =B16+1 -> 5 | C17: =1124+4379 -> 5503 | D17: =650026.42+2546906.94 -> 3196933.4 | E17: =D17/C17 -> 580.94373 | F17: =C17/$E$9 -> 0.71868878 | G17: =(C17-C16) -> 20 | H17: =(D17-D16)/G17 -> 2756.7935 | J17: 1812 | K17: 993190.66 | L17: =K17/J17 -> 548.11847 | M17: =J17/$L$9 -> 0.26200116 | N17: =(J17-J16) -> 88 | O17: =(K17-K16)/N17 -> 648.48591 | Q17: 1173 | R17: 584263.03 | S17: =R17/Q17 -> 498.09295 | T17: =Q17/$S$9 -> 0.15319316 | U17: =Q17-Q16 -> 27 | V17: =(R17-R16)/-U17 -> -576.85185
B18: =B17+1 -> 6 | C18: =4198+1368 -> 5566 | D18: =2465879.23+790953.94 -> 3256833.2 | E18: =D18/C18 -> 585.12993 | F18: =C18/$E$9 -> 0.72691655 | G18: =(C18-C17) -> 63 | H18: =(D18-D17)/G18 -> 950.79063 | I18: 0 | J18: 1973 | K18: 1085621.4 | L18: =K18/J18 -> 550.23892 | M18: =J18/$L$9 -> 0.28528051 | N18: =(J18-J17) -> 161 | O18: =(K18-K17)/N18 -> 574.10385 | Q18: 1176 | R18: 585863.03 | S18: =R18/Q18 -> 498.18285 | T18: =Q18/$S$9 -> 0.15358495 | U18: =Q18-Q17 -> 3 | V18: =(R18-R17)/U18 -> 533.33333
B19: =B18+1 -> 7 | C19: =4003+1604 -> 5607 | D19: =2375897.59+917491.83 -> 3293389.4 | E19: =D19/C19 -> 587.37104 | F19: =C19/$E$9 -> 0.73227112 | G19: =(C19-C18) -> 41 | H19: =(D19-D18)/G19 -> 891.61585 | J19: 2009 | K19: 1107225.6 | L19: =K19/J19 -> 551.13268 | M19: =J19/$L$9 -> 0.29048583 | N19: =(J19-J18) -> 36 | O19: =-(K19-K18)/-N19 -> 600.11583 | Q19: 1185 | R19: 590104.72 | S19: =R19/Q19 -> 497.97867 | T19: =Q19/$S$9 -> 0.15476035 | U19: =Q19-Q18 -> 9 | V19: =(R19-R18)/U19 -> 471.29889
B20: =B19+1 -> 8 | C20: =3755+1827 -> 5582 | D20: =2247319.92+1049773.66 -> 3297093.6 | E20: =D20/C20 -> 590.66528 | F20: =C20/$E$9 -> 0.72900614 | G20: =(C20-C19) -> -25 | H20: =(D20-D19)/G20 -> -148.1664 | J20: 2025 | K20: 1116817.3 | L20: =K20/J20 -> 551.5147 | M20: =J20/$L$9 -> 0.29279931 | N20: =(J20-J19) -> 16 | O20: =(K20-K19)/N20 -> 599.4825 | Q20: 1187 | R20: 591788.06 | S20: =R20/Q20 -> 498.55776 | T20: =Q20/$S$9 -> 0.15502155 | U20: =Q20-Q19 -> 2 | V20: =(R20-R19)/U20 -> 841.67
B21: =B20+1 -> 9 | C21: =3631+2067 -> 5698 | D21: =2196079.63+1202010.19 -> 3398089.8 | E21: =D21/C21 -> 596.36536 | F21: =C21/$E$9 -> 0.74415567 | G21: =(C21-C20) -> 116 | H21: =(D21-D20)/G21 -> 870.65724 | J21: 2065 | K21: 1139533.9 | L21: =K21/J21 -> 551.83237 | M21: =J21/$L$9 -> 0.298583 | N21: =(J21-J20) -> 40 | O21: =(K21-K20)/N21 -> 567.9145 | Q21: 1197 | R21: 596421.4 | S21: =R21/Q21 -> 498.26349 | T21: =Q21/$S$9 -> 0.15632754 | U21: =Q21-Q20 -> 10 | V21: =(R21-R20)/U21 -> 463.334
B22: =B21+1 -> 10 | C22: =3472+2308 -> 5780 | D22: =2106574.73+1354119.29 -> 3460694 | E22: =D22/C22 -> 598.73599 | F22: =C22/$E$9 -> 0.75486483 | G22: =(C22-C21) -> 82 | H22: =(D22-D21)/G22 -> 763.46585 | J22: 2149 | K22: 1184083.6 | L22: =K22/J22 -> 550.99281 | M22: =J22/$L$9 -> 0.31072874 | N22: =(J22-J21) -> 84 | O22: =(K22-K21)/N22 -> 530.35357 | Q22: 1230 | R22: 614663.05 | S22: =R22/Q22 -> 499.72606 | T22: =Q22/$S$9 -> 0.16063733 | U22: =Q22-Q21 -> 33 | V22: =(R22-R21)/U22 -> 552.77727
B23: =B22+1 -> 11 | C23: =3388+2503 -> 5891 | D23: =2073692.84+1483501.56 -> 3557194.4 | E23: =D23/C23 -> 603.83541 | F23: =C23/$E$9 -> 0.76936137 | G23: =(C23-C22) -> 111 | H23: =(D23-D22)/G23 -> 869.37279 | J23: 2383 | K23: 1319051.1 | L23: =K23/J23 -> 553.52542 | M23: =J23/$L$9 -> 0.34456333 | N23: =(J23-J22) -> 234 | O23: =(K23-K22)/N23 -> 576.78427 | Q23: 1386 | R23: 691533.22 | S23: =R23/Q23 -> 498.94172 | T23: =Q23/$S$9 -> 0.18101084 | U23: =Q23-Q22 -> 156 | V23: 0
B24: =B23+1 -> 12 | C24: =3311+2675 -> 5986 | D24: =2040967.57+1597160.92 -> 3638128.5 | E24: =D24/C24 -> 607.77289 | F24: =C24/$E$9 -> 0.78176832 | G24: =(C24-C23) -> 95 | H24: =(D24-D23)/G24 -> 851.93779 | I24: 635.86 | J24: 2628 | K24: 1463267 | L24: =K24/J24 -> 556.79872 | M24: =J24/$L$9 -> 0.37998843 | N24: =(J24-J23) -> 245 | O24: =(K24-K23)/N24 -> 588.63657 | Q24: 1420 | R24: 718179.07 | S24: =R24/Q24 -> 505.75991 | T24: =Q24/$S$9 -> 0.18545122 | U24: =Q24-Q23 -> 34 | V24: =(R24-R23)/U24 -> 783.70147
B25: =B24+1 -> 13 | C25: =3194+2890 -> 6084 | D25: =2008521.3+1735514.43 -> 3744035.7 | E25: =D25/C25 -> 615.39049 | F25: =C25/$E$9 -> 0.79456706 | G25: =(C25-C24) -> 98 | H25: =(D25-D24)/G25 -> 1080.6861 | J25: 2761 | K25: 1556223.6 | L25: =K25/J25 -> 563.64492 | M25: =J25/$L$9 -> 0.3992192 | N25: =(J25-J24) -> 133 | O25: =(K25-K24)/N25 -> 698.9218 | Q25: 1456 | R25: 736253.85 | S25: =R25/Q25 -> 505.66885 | T25: =Q25/$S$9 -> 0.1901528 | U25: =Q25-Q24 -> 36 | V25: =(R25-R24)/U25 -> 502.07722
B26: =B25+1 -> 14 | C26: =3082+3088 -> 6170 | D26: =1965445+1864312.73 -> 3829757.7 | E26: =D26/C26 -> 620.70628 | F26: =C26/$E$9 -> 0.80579862 | G26: =(C26-C25) -> 86 | H26: =(D26-D25)/G26 -> 996.76744 | J26: 2816 | K26: 1589943.6 | L26: =K26/J26 -> 564.61066 | M26: =J26/$L$9 -> 0.40717178 | N26: =(J26-J25) -> 55 | O26: =(K26-K25)/N26 -> 613.09073 | Q26: 1488 | R26: 751053.85 | S26: =R26/Q26 -> 504.74049 | T26: =Q26/$S$9 -> 0.19433198 | U26: =Q26-Q25 -> 32 | V26: =(R26-R25)/U26 -> 462.5
B27: =B26+1 -> 15 | C27: =3302+2935 -> 6237 | D27: =1911231.37+1996518.98 -> 3907750.4 | E27: =D27/C27 -> 626.54327 | F27: =C27/$E$9 -> 0.81454878 | G27: =(C27-C26) -> 67 | H27: =(D27-D26)/G27 -> 1164.069 | J27: 2979 | K27: 1659579.9 | L27: =K27/J27 -> 557.09294 | M27: =J27/$L$9 -> 0.43074031 | N27: =(J27-J26) -> 163 | O27: =(K27-K26)/N27 -> 427.21626 | Q27: 1494 | R27: 753703.87 | S27: =R27/Q27 -> 504.4872 | T27: =Q27/$S$9 -> 0.19511558 | U27: =Q27-Q26 -> 6 | V27: =(R27-R26)/U27 -> 441.67
B28: =B27+1 -> 16 | C28: =2783+3527 -> 6310 | D28: =1811926.42+2150758.46 -> 3962684.9 | E28: =D28/C28 -> 628.00077 | F28: =C28/$E$9 -> 0.82408254 | G28: =(C28-C27) -> 73 | H28: =(D28-D27)/G28 -> 752.52781 | J28: 3087 | K28: 1738463.2 | L28: =K28/J28 -> 563.15621 | M28: =J28/$L$9 -> 0.44635628 | N28: =(J28-J27) -> 108 | O28: =(K28-K27)/N28 -> 730.4013 | Q28: 1517 | R28: 765470.59 | S28: =R28/Q28 -> 504.59498 | T28: =Q28/$S$9 -> 0.19811937 | U28: =Q28-Q27 -> 23 | V28: =(R28-R27)/U28 -> 511.59652
B29: =B28+1 -> 17 | C29: =2526+3765 -> 6291 | D29: =1676067.47+2314066.33 -> 3990133.8 | E29: =D29/C29 -> 634.26066 | F29: =C29/$E$9 -> 0.82160115 | G29: =(C29-C28) -> -19 | H29: =(D29-D28)/G29 -> -1444.68 | J29: 3284 | K29: 1844972.9 | L29: =K29/J29 -> 561.80661 | M29: =J29/$L$9 -> 0.47484095 | N29: =(J29-J28) -> 197 | O29: =(K29-K28)/N29 -> 540.65843 | Q29: 1568 | R29: 785615.6 | S29: =R29/Q29 -> 501.03036 | T29: =Q29/$S$9 -> 0.20477994 | U29: =Q29-Q28 -> 51 | V29: =(R29-R28)/U29 -> 395.0002
B30: =B29+1 -> 18 | C30: =2405+3956 -> 6361 | D30: =1646857.01+2454828.21 -> 4101685.2 | E30: =D30/C30 -> 644.81767 | F30: =C30/$E$9 -> 0.83074311 | G30: =(C30-C29) -> 70 | H30: =(D30-D29)/G30 -> 1593.5917 | J30: 3352 | K30: 1900737.3 | L30: =K30/J30 -> 567.04572 | M30: =J30/$L$9 -> 0.48467322 | N30: =(J30-J29) -> 68 | O30: =(K30-K29)/N30 -> 820.06382 | Q30: 1601 | R30: 809480.63 | S30: =R30/Q30 -> 505.60939 | T30: =Q30/$S$9 -> 0.20908972 | U30: =Q30-Q29 -> 33 | V30: =(R30-R29)/U30 -> 723.18273
B31: =B30+1 -> 19 | C31: =2301+4138 -> 6439 | D31: =1579682.37+2581867.31 -> 4161549.7 | E31: =D31/C31 -> 646.30372 | F31: =C31/$E$9 -> 0.84092987 | G31: =(C31-C30) -> 78 | H31: =(D31-D30)/G31 -> 767.49308 | J31: 3374 | K31: 1919785.9 | L31: =K31/J31 -> 568.99406 | M31: =J31/$L$9 -> 0.48785425 | N31: =(J31-J30) -> 22 | O31: =(K31-K30)/N31 -> 865.84955 | Q31: 1654 | R31: 812816.78 | S31: =R31/Q31 -> 491.4249 | T31: =Q31/$S$9 -> 0.21601149 | U31: =Q31-Q30 -> 53 | V31: =(R31-R30)/U31 -> 62.946226
B32: =B31+1 -> 20 | C32: 6431 | D32: 4176248.7 | E32: =D32/C32 -> 649.39336 | F32: =C32/$E$9 -> 0.83988507 | G32: =(C32-C31) -> -8 | H32: =(D32-D31)/G32 -> -1837.3775 | J32: 3475 | K32: 1990882.6 | L32: =K32/J32 -> 572.91586 | M32: =J32/$L$9 -> 0.50245807 | N32: =(J32-J31) -> 101 | O32: =(K32-K31)/N32 -> 703.92752 | Q32: 1707 | R32: 839555.59 | S32: =R32/Q32 -> 491.83104 | T32: =Q32/$S$9 -> 0.22293326 | U32: =Q32-Q31 -> 53 | V32: =(R32-R31)/U32 -> 504.50585
B33: =B32+1 -> 21 | C33: =1905+4505 -> 6410 | D33: =1347627.03+2846392.07 -> 4194019.1 | E33: =D33/C33 -> 654.29315 | F33: =C33/$E$9 -> 0.83714248 | G33: =(C33-C32) -> -21 | H33: =(D33-D32)/G33 -> -846.20952 | J33: 3486 | K33: 2000489.4 | L33: =K33/J33 -> 573.86384 | M33: =J33/$L$9 -> 0.50404858 | N33: =(J33-J32) -> 11 | O33: =(K33-K32)/N33 -> 873.33909 | Q33: 1707 | R33: 839555.59 | S33: =R33/Q33 -> 491.83104 | T33: =Q33/$S$9 -> 0.22293326 | U33: =Q33-Q32 -> 0 | V33: =(R33-R32)/U33 -> #DIV/0!
B34: =B33+1 -> 22 | C34: =1647+4726 -> 6373 | D34: =3018444.46+1170031.99 -> 4188476.5 | E34: =D34/C34 -> 657.2221 | F34: =C34/$E$9 -> 0.8323103 | G34: =(C34-C33) -> -37 | H34: =(D34-D33)/G34 -> 149.80135 | J34: 3511 | K34: 2020031.1 | L34: =K34/J34 -> 575.34351 | M34: =J34/$L$9 -> 0.50766339 | N34: =(J34-J33) -> 25 | O34: =(K34-K33)/N34 -> 781.6688 | Q34: 1723 | R34: 847597.27 | S34: =R34/Q34 -> 491.93109 | T34: =Q34/$S$9 -> 0.22502285 | U34: =Q34-Q33 -> 16 | V34: =(R34-R33)/U34 -> 502.605
B35: =B34+1 -> 23 | C35: =1480+4959 -> 6439 | D35: =1044830.95+3225187.75 -> 4270018.7 | E35: =D35/C35 -> 663.14936 | F35: =C35/$E$9 -> 0.84092987 | G35: =(C35-C34) -> 66 | H35: =(D35-D34)/G35 -> 1235.4886 | J35: 3795 | K35: 2203041.2 | L35: =K35/J35 -> 580.51151 | M35: =J35/$L$9 -> 0.54872759 | N35: =(J35-J34) -> 284 | O35: =(K35-K34)/N35 -> 644.40173 | Q35: 1761 | R35: 873397.29 | S35: =R35/Q35 -> 495.96666 | T35: =Q35/$S$9 -> 0.22998563 | U35: =Q35-Q34 -> 38 | V35: =(R35-R34)/U35 -> 678.94789
B36: =B35+1 -> 24 | C36: =1330+5201 -> 6531 | D36: =929397.91+3439162.43 -> 4368560.3 | E36: =D36/C36 -> 668.89609 | F36: =C36/$E$9 -> 0.85294502 | G36: =(C36-C35) -> 92 | H36: =(D36-D35)/G36 -> 1071.1048 | J36: 3894 | K36: 2271024.5 | L36: =K36/J36 -> 583.21122 | M36: =J36/$L$9 -> 0.56304222 | N36: =(J36-J35) -> 99 | O36: =(K36-K35)/N36 -> 686.7001 | Q36: 1808 | R36: 897837.4 | S36: =R36/Q36 -> 496.59148 | T36: =Q36/$S$9 -> 0.23612381 | U36: =Q36-Q35 -> 47 | V36: =(R36-R35)/U36 -> 520.00234
B37: =B36+1 -> 25 | C37: =1120+5446 -> 6566 | D37: =770559.42+3661595.81 -> 4432155.2 | E37: =D37/C37 -> 675.01603 | F37: =C37/$E$9 -> 0.857516 | G37: =(C37-C36) -> 35 | H37: =(D37-D36)/G37 -> 1816.9969 | J37: 4005 | K37: 2341015.9 | L37: =K37/J37 -> 584.52331 | M37: =J37/$L$9 -> 0.57909196 | N37: =(J37-J36) -> 111 | O37: =(K37-K36)/N37 -> 630.55306 | Q37: 1865 | R37: 927162.47 | S37: =R37/Q37 -> 497.13805 | T37: =Q37/$S$9 -> 0.24356798 | U37: =Q37-Q36 -> 57 | V37: =(R37-R36)/U37 -> 514.47491
B38: =B37+1 -> 26 | C38: =962+5693 -> 6655 | D38: =621076.62+3887435.63 -> 4508512.2 | E38: =D38/C38 -> 677.4624 | F38: =C38/$E$9 -> 0.86913935 | G38: =(C38-C37) -> 89 | H38: =(D38-D37)/G38 -> 857.94404 | J38: 4118 | K38: 2409937.9 | L38: =K38/J38 -> 585.22047 | M38: =J38/$L$9 -> 0.59543088 | N38: =(J38-J37) -> 113 | O38: =(K38-K37)/N38 -> 609.92929 | Q38: 1863 | R38: 927800.78 | S38: =R38/Q38 -> 498.01437 | T38: =Q38/$S$9 -> 0.24330678 | U38: =Q38-Q37 -> -2 | V38: =(R38-R37)/U38 -> -319.155
B39: =B38+1 -> 27 | C39: =753+5904 -> 6657 | D39: =465524.32+4095616.27 -> 4561140.6 | E39: =D39/C39 -> 685.16458 | F39: =C39/$E$9 -> 0.86940055 | G39: =(C39-C38) -> 2 | H39: =(D39-D38)/G39 -> 26314.17 | J39: 4132 | K39: 2405888.7 | L39: =K39/J39 -> 582.25768 | M39: =J39/$L$9 -> 0.59745518 | N39: =(J39-J38) -> 14 | O39: =(K39-K38)/N39 -> -289.22429 | Q39: 1883 | R39: 940859.13 | S39: =R39/Q39 -> 499.65965 | T39: =Q39/$S$9 -> 0.24591877 | U39: =Q39-Q38 -> 20 | V39: =(R39-R38)/-U39 -> -652.9175
B40: =B39+1 -> 28 | C40: =569+6089 -> 6658 | D40: =352159.43+4230705.05 -> 4582864.5 | E40: =D40/C40 -> 688.32449 | F40: =C40/$E$9 -> 0.86953115 | G40: =(C40-C39) -> 1 | H40: =(D40-D39)/G40 -> 21723.89 | J40: 4177 | K40: 2441550.1 | L40: =K40/J40 -> 584.5224 | M40: =J40/$L$9 -> 0.60396183 | N40: =(J40-J39) -> 45 | O40: =(K40-K39)/N40 -> 792.47422 | Q40: 1887 | R40: 943809.1 | S40: =R40/Q40 -> 500.1638 | T40: =Q40/$S$9 -> 0.24644116 | U40: =Q40-Q39 -> 4 | V40: =(R40-R39)/-U40 -> -737.4925
B41: =B40+1 -> 29 | C41: =6268+395 -> 6663 | D41: =4352903.14+244308.85 -> 4597212 | E41: =D41/C41 -> 689.96128 | F41: =C41/$E$9 -> 0.87018415 | G41: =(C41-C40) -> 5 | H41: =(D41-D40)/G41 -> 2869.502 | I41: 0 | J41: 4214 | K41: 2471883.1 | L41: =K41/J41 -> 586.58829 | M41: =J41/$L$9 -> 0.60931174 | N41: =(J41-J40) -> 37 | O41: =(K41-K40)/N41 -> 819.81054 | Q41: 1925 | R41: 964239.1 | S41: =R41/Q41 -> 500.90343 | T41: =Q41/$S$9 -> 0.25140394 | U41: =Q41-Q40 -> 38 | V41: =(R41-R40)/U41 -> 537.63158
B42: 30 | C42: =6452+216 -> 6668 | D42: =136204.15+4480391.43 -> 4616595.6 | E42: =D42/C42 -> 692.35087 | F42: =C42/$E$9 -> 0.87083714 | G42: =(C42-C41) -> 5 | H42: =(D42-D41)/G42 -> 3876.718 | Q42: 2078 | R42: 1049836.6 | S42: =R42/Q42 -> 505.21494 | T42: =Q42/$S$9 -> 0.27138566 | U42: =Q42-Q41 -> 153 | V42: =(R42-R41)/U42 -> 559.46105
B43: 31 | C43: 6676 | D43: 4638873.4 | E43: =D43/C43 -> 694.85821 | F43: =C43/$E$9 -> 0.87188194 | G43: =(C43-C42) -> 8 | H43: =(D43-D42)/G43 -> 2784.7275 | Q43: 2003 | R43: 1015732.5 | S43: =R43/Q43 -> 507.1056 | T43: =Q43/$S$9 -> 0.2615907 | U43: =Q43-Q42 -> -75 | V43: =(R43-R42)/U43 -> 454.7216

Sheet March,April,May
N3: Hotel Name :
N4: Date :
A6: June | B6: March | J6: April | Q6: May
C7: Budget Rm Nts | E7: 6765 | G7: Budget Avg | H7: 675.91 | J7: Budget Rm Nts | L7: 5805 | N7: Budget Avg | O7: 657.06 | Q7: Budget Rm Nts | S7: 6050 | U7: Budget Avg | V7: 554.09
C8: Budget Occ % | E8: 0.884 | F8: Budget Rm Rev | H8: 4572525 | J8: Budget Occ % | L8: 0.783 | M8: Budget Rm Rev | O8: 3814250 | P8: 0 | Q8: Budget Occ % | S8: 0.79 | T8: Budget Rm Rev | V8: 3352250
C9: Available Rms | E9: 7657 | J9: Available Rms | L9: 7410 | Q9: Available Rms | S9: =247*31 -> 7657
B10: Month of Mar,Apr, May
B11: Day of the Month | C11: Total Rooms On the Books for whole month | D11: Total Revenue On the Books for whole month | E11: Average Rate per Month | F11: Occ % for end of the Month | G11: Pick-Up Room Nights per Day | H11: Avg Rate Pick Up | J11: Total Rooms On the Books for whole month | K11: Total Revenue On the Books for whole month | L11: Average Rate per Month | M11: Occ % for end of the Month | N11: Pick-Up Room Nights per Day | O11: Avg Rate Pick Up | Q11: Total Rooms On the Books for whole month | R11: Total Revenue On the Books for whole month | S11: Average Rate per Month | T11: Occ % for end of the Month | U11: Pick-Up Room Nights per Day | V11: Avg Rate Pick up
C12: 304 | D12: 304 | E12: 304 | F12: 304 | G12: 304 | H12: 304 | I12: 304 | J12: 304 | K12: 304 | L12: 304 | M12: 304 | N12: 304 | O12: 304 | P12: 304 | Q12: 304 | R12: 304 | S12: 304 | T12: 304 | U12: 304 | V12: 304
B13: 1 | C13: =4451+238 -> 4689 | D13: =2454859.44+204780.86 -> 2659640.3 | E13: =D13/C13 -> 567.20842 | F13: =C13/$E$9 -> 0.61238083 | G13: 171 | H13: =-(D13-2610554.45)/-G13 -> 287.05175 | J13: 1868 | K13: 973623.69 | L13: =K13/J13 -> 521.21183 | M13: =J13/$L$9 -> 0.25209177 | N13: 10 | O13: =(K13-1015732.52)/N13 -> -4210.883 | Q13: 496 | R13: 253862.73 | S13: =R13/Q13 -> 511.82002 | T13: =Q13/$S$9 -> 0.064777328 | U13: 496 | V13: =(R13-R12)/U13 -> 511.20712
B14: =B13+1 -> 2 | C14: =442+4263 -> 4705 | D14: =2413377.24+370475.46 -> 2783852.7 | E14: =D14/C14 -> 591.67964 | F14: =C14/$E$9 -> 0.61447042 | G14: =(C14-C13) -> 16 | H14: =(D14-D13)/G14 -> 7763.275 | J14: 1885 | K14: 982440.37 | L14: =K14/J14 -> 521.18853 | M14: =J14/$L$9 -> 0.25438596 | N14: =(J14-J13) -> 17 | O14: =-(K14-K13)/-N14 -> 518.62824 | Q14: 498 | R14: 254854.39 | S14: =R14/Q14 -> 511.7558 | T14: =Q14/$S$9 -> 0.065038527 | U14: =Q14-Q13 -> 2 | V14: =(R14-R13)/U14 -> 495.83
B15: =B14+1 -> 3 | C15: =4140+678 -> 4818 | D15: =2353951.67+523004.41 -> 2876956.1 | E15: =D15/C15 -> 597.12663 | F15: =C15/$E$9 -> 0.62922816 | G15: =(C15-C14) -> 113 | H15: =(D15-D14)/G15 -> 823.92372 | J15: 2081 | K15: 1102245.4 | L15: =K15/J15 -> 529.67101 | M15: =J15/$L$9 -> 0.28083671 | N15: =(J15-J14) -> 196 | O15: =-(K15-K14)/-N15 -> 611.25 | Q15: 498 | R15: 254854.39 | S15: =R15/Q15 -> 511.7558 | T15: =Q15/$S$9 -> 0.065038527 | U15: =Q15-Q14 -> 0 | V15: =(R15-R14)/U15 -> #DIV/0!
B16: 4 | C16: =915+3905 -> 4820 | D16: =2229789.54+665911.77 -> 2895701.3 | E16: =D16/C16 -> 600.76791 | F16: =C16/$E$9 -> 0.62948936 | G16: =(C16-C15) -> 2 | H16: =(D16-D15)/G16 -> 9372.615 | J16: 2102 | K16: 1116398.8 | L16: =K16/J16 -> 531.11263 | M16: =J16/$L$9 -> 0.28367072 | N16: =(J16-J15) -> 21 | O16: =-(K16-K15)/-N16 -> 673.97048 | Q16: 498 | R16: 254854.39 | S16: =R16/Q16 -> 511.7558 | T16: =Q16/$S$9 -> 0.065038527 | U16: =Q16-Q15 -> 0 | V16: =(R16-R15)/U16 -> #DIV/0!
B17: =B16+1 -> 5 | C17: =1150+3669 -> 4819 | D17: =2118121.52+804936.34 -> 2923057.9 | E17: =D17/C17 -> 606.56938 | F17: =C17/$E$9 -> 0.62935876 | G17: =(C17-C16) -> -1 | H17: =(D17-D16)/G17 -> -27356.55 | J17: 2105 | K17: 1118348.8 | L17: =K17/J17 -> 531.28207 | M17: =J17/$L$9 -> 0.28407557 | N17: =(J17-J16) -> 3 | O17: =(K17-K16)/N17 -> 650 | Q17: 498 | R17: 254854.39 | S17: =R17/Q17 -> 511.7558 | T17: =Q17/$S$9 -> 0.065038527 | U17: =Q17-Q16 -> 0 | V17: =(R17-R16)/-U17 -> #DIV/0!
B18: =B17+1 -> 6 | C18: =3727+1355 -> 5082 | D18: =2100086.8+938788.88 -> 3038875.7 | E18: =D18/C18 -> 597.96845 | F18: =C18/$E$9 -> 0.66370641 | G18: =(C18-C17) -> 263 | H18: =(D18-D17)/G18 -> 440.37194 | I18: 0 | J18: 2149 | K18: 1147615.4 | L18: =K18/J18 -> 534.02297 | M18: =J18/$L$9 -> 0.2900135 | N18: =(J18-J17) -> 44 | O18: =(K18-K17)/N18 -> 665.15045 | Q18: 502 | R18: 258014.39 | S18: =R18/Q18 -> 513.97289 | T18: =Q18/$S$9 -> 0.065560925 | U18: =Q18-Q17 -> 4 | V18: =(R18-R17)/U18 -> 790
B19: =B18+1 -> 7 | C19: =3788+1592 -> 5380 | D19: =1096862.22+2146654.61 -> 3243516.8 | E19: =D19/C19 -> 602.88417 | F19: =C19/$E$9 -> 0.70262505 | G19: =(C19-C18) -> 298 | H19: =(D19-D18)/G19 -> 686.71527 | J19: 2350 | K19: 1213178.2 | L19: =K19/J19 -> 516.24604 | M19: =J19/$L$9 -> 0.317139 | N19: =(J19-J18) -> 201 | O19: =-(K19-K18)/-N19 -> 326.18318 | Q19: 806 | R19: 367564.39 | S19: =R19/Q19 -> 456.03522 | T19: =Q19/$S$9 -> 0.10526316 | U19: =Q19-Q18 -> 304 | V19: =(R19-R18)/U19 -> 360.36184
B20: =B19+1 -> 8 | C20: =1820+3757 -> 5577 | D20: =2131042.74+1254828.32 -> 3385871.1 | E20: =D20/C20 -> 607.11333 | F20: =C20/$E$9 -> 0.72835314 | G20: =(C20-C19) -> 197 | H20: =(D20-D19)/G20 -> 722.6103 | J20: 2416 | K20: 1296007.7 | L20: =K20/J20 -> 536.42701 | M20: =J20/$L$9 -> 0.32604588 | N20: =(J20-J19) -> 66 | O20: =(K20-K19)/N20 -> 1254.992 | Q20: 811 | R20: 370453.39 | S20: =R20/Q20 -> 456.78593 | T20: =Q20/$S$9 -> 0.10591616 | U20: =Q20-Q19 -> 5 | V20: =(R20-R19)/U20 -> 577.8
B21: =B20+1 -> 9 | C21: =2024+3497 -> 5521 | D21: =1402084.87+1960594.4 -> 3362679.3 | E21: =D21/C21 -> 609.07069 | F21: =C21/$E$9 -> 0.72103957 | G21: =(C21-C20) -> -56 | H21: =(D21-D20)/G21 -> 414.13911 | J21: 2437 | K21: 1304732.7 | L21: =K21/J21 -> 535.38478 | M21: =J21/$L$9 -> 0.32887989 | N21: =(J21-J20) -> 21 | O21: =(K21-K20)/N21 -> 415.47857 | Q21: 846 | R21: 385878.39 | S21: =R21/Q21 -> 456.12103 | T21: =Q21/$S$9 -> 0.11048714 | U21: =Q21-Q20 -> 35 | V21: =(R21-R20)/U21 -> 440.71429
B22: =B21+1 -> 10 | C22: =2209+3467 -> 5676 | D22: =1547623.52+1926432.2 -> 3474055.7 | E22: =D22/C22 -> 612.06056 | F22: =C22/$E$9 -> 0.74128249 | G22: =(C22-C21) -> 155 | H22: =(D22-D21)/G22 -> 718.55774 | J22: 2600 | K22: 1375815.5 | L22: =K22/J22 -> 529.15982 | M22: =J22/$L$9 -> 0.35087719 | N22: =(J22-J21) -> 163 | O22: =(K22-K21)/N22 -> 436.09098 | Q22: 962 | R22: 431168.7 | S22: =R22/Q22 -> 448.20031 | T22: =Q22/$S$9 -> 0.12563667 | U22: =Q22-Q21 -> 116 | V22: =(R22-R21)/U22 -> 390.43371
B23: =B22+1 -> 11 | C23: =2378+3323 -> 5701 | D23: =1838519.59+1661230.4 -> 3499750 | E23: =D23/C23 -> 613.88353 | F23: =C23/$E$9 -> 0.74454747 | G23: =(C23-C22) -> 25 | H23: =(D23-D22)/G23 -> 1027.7708 | J23: 2650 | K23: 1397402.3 | L23: =K23/J23 -> 527.32163 | M23: =J23/$L$9 -> 0.35762483 | N23: =(J23-J22) -> 50 | O23: =(K23-K22)/N23 -> 431.7358 | Q23: 962 | R23: 430538.7 | S23: =R23/Q23 -> 447.54543 | T23: =Q23/$S$9 -> 0.12563667 | U23: =Q23-Q22 -> 0 | V23: 0
B24: =B23+1 -> 12 | C24: =3259+2514 -> 5773 | D24: =1759053.23+1816600.68 -> 3575653.9 | E24: =D24/C24 -> 619.37535 | F24: =C24/$E$9 -> 0.75395063 | G24: =(C24-C23) -> 72 | H24: =(D24-D23)/G24 -> 1054.2211 | I24: 635.86 | J24: 2734 | K24: 1455427.4 | L24: =K24/J24 -> 532.34358 | M24: =J24/$L$9 -> 0.36896086 | N24: =(J24-J23) -> 84 | O24: =(K24-K23)/N24 -> 690.77417 | Q24: 962 | R24: 430538.7 | S24: =R24/Q24 -> 447.54543 | T24: =Q24/$S$9 -> 0.12563667 | U24: 0 | V24: =(R24-R23)/U24 -> #DIV/0!
B25: =B24+1 -> 13 | C25: =2731+3026 -> 5757 | D25: =1899924.09+1679901.23 -> 3579825.3 | E25: =D25/C25 -> 621.82132 | F25: =C25/$E$9 -> 0.75186104 | G25: =(C25-C24) -> -16 | H25: =(D25-D24)/G25 -> -260.71313 | J25: 2853 | K25: 1520319 | L25: =K25/J25 -> 532.88432 | M25: =J25/$L$9 -> 0.38502024 | N25: =(J25-J24) -> 119 | O25: =(K25-K24)/N25 -> 545.30765 | Q25: 977 | R25: 439130.32 | S25: =R25/Q25 -> 449.46809 | T25: =Q25/$S$9 -> 0.12759566 | U25: =Q25-Q24 -> 15 | V25: =(R25-R24)/U25 -> 572.77467
B26: =B25+1 -> 14 | C26: =2971+2819 -> 5790 | D26: =1580689+2067680.47 -> 3648369.5 | E26: =D26/C26 -> 630.11563 | F26: =C26/$E$9 -> 0.75617082 | G26: =(C26-C25) -> 33 | H26: =(D26-D25)/G26 -> 2077.0955 | J26: 2911 | K26: 1553571.6 | L26: =K26/J26 -> 533.69001 | M26: =J26/$L$9 -> 0.3928475 | N26: =(J26-J25) -> 58 | O26: =(K26-K25)/N26 -> 573.32172 | Q26: 977 | R26: 439130.32 | S26: =R26/Q26 -> 449.46809 | T26: =Q26/$S$9 -> 0.12759566 | U26: =Q26-Q25 -> 0 | V26: =(R26-R25)/U26 -> #DIV/0!
B27: =B26+1 -> 15 | C27: =3209+2549 -> 5758 | D27: =154719.7+3445553.61 -> 3600273.3 | E27: =D27/C27 -> 625.26456 | F27: =C27/$E$9 -> 0.75199164 | G27: =(C27-C26) -> -32 | H27: =(D27-D26)/G27 -> 1503.005 | J27: 2563 | K27: 1376385.2 | L27: =K27/J27 -> 537.02114 | M27: =J27/$L$9 -> 0.34588394 | N27: =(J27-J26) -> -348 | O27: =(K27-K26)/N27 -> 509.15644 | Q27: 1460 | R27: 692488.65 | S27: =R27/Q27 -> 474.30729 | T27: =Q27/$S$9 -> 0.1906752 | U27: =Q27-Q26 -> 483 | V27: =(R27-R26)/U27 -> 524.55141
B28: =B27+1 -> 16 | C28: =2467+3456 -> 5923 | D28: =1391726.33+2381745.73 -> 3773472.1 | E28: =D28/C28 -> 637.08797 | F28: =C28/$E$9 -> 0.77354055 | G28: =(C28-C27) -> 165 | H28: =(D28-D27)/G28 -> 1049.6894 | J28: 2713 | K28: 1449813.8 | L28: =K28/J28 -> 534.39505 | M28: =J28/$L$9 -> 0.36612686 | N28: =(J28-J27) -> 150 | O28: =(K28-K27)/N28 -> 489.52387 | Q28: 1474 | R28: 680448.63 | S28: =R28/Q28 -> 461.63408 | T28: =Q28/$S$9 -> 0.19250359 | U28: =Q28-Q27 -> 14 | V28: =(R28-R27)/U28 -> -860.00143
B29: =B28+1 -> 17 | C29: =3696+2168 -> 5864 | D29: =2549393.82+1228398.54 -> 3777792.4 | E29: =D29/C29 -> 644.23471 | F29: =C29/$E$9 -> 0.76583518 | G29: =(C29-C28) -> -59 | H29: =(D29-D28)/G29 -> -73.225424 | J29: 2678 | K29: 1433314.1 | L29: =K29/J29 -> 535.21809 | M29: =J29/$L$9 -> 0.36140351 | N29: =(J29-J28) -> -35 | O29: =(K29-K28)/N29 -> 471.42057 | Q29: 1427 | R29: 662640.12 | S29: =R29/Q29 -> 464.35888 | T29: =Q29/$S$9 -> 0.18636542 | U29: =Q29-Q28 -> -47 | V29: =(R29-R28)/U29 -> 378.90447
B30: =B29+1 -> 18 | C30: =2039+3868 -> 5907 | D30: =2660119.53+1161783.8 -> 3821903.3 | E30: =D30/C30 -> 647.01258 | F30: =C30/$E$9 -> 0.77145096 | G30: =(C30-C29) -> 43 | H30: =(D30-D29)/G30 -> 1025.8365 | J30: 2733 | K30: 1467095.7 | L30: =K30/J30 -> 536.8078 | M30: =J30/$L$9 -> 0.36882591 | N30: =(J30-J29) -> 55 | O30: =(K30-K29)/N30 -> 614.212 | Q30: 1428 | R30: 663128.12 | S30: =R30/Q30 -> 464.37543 | T30: =Q30/$S$9 -> 0.18649602 | U30: =Q30-Q29 -> 1 | V30: =(R30-R29)/U30 -> 488
B31: =B30+1 -> 19 | C31: =4048+1875 -> 5923 | D31: =1079397.35+2776241.26 -> 3855638.6 | E31: =D31/C31 -> 650.96043 | F31: =C31/$E$9 -> 0.77354055 | G31: =(C31-C30) -> 16 | H31: =(D31-D30)/G31 -> 2108.455 | J31: 2779 | K31: 1504179 | L31: =K31/J31 -> 541.26628 | M31: =J31/$L$9 -> 0.37503374 | N31: =(J31-J30) -> 46 | O31: =(K31-K30)/N31 -> 806.15826 | Q31: 1429 | R31: 664078.12 | S31: =R31/Q31 -> 464.71527 | T31: =Q31/$S$9 -> 0.18662662 | U31: =Q31-Q30 -> 1 | V31: =(R31-R30)/U31 -> 950
B32: =B31+1 -> 20 | C32: =1871+4207 -> 6078 | D32: =1092579.71+2891075.8 -> 3983655.5 | E32: =D32/C32 -> 655.4221 | F32: =C32/$E$9 -> 0.79378347 | G32: =(C32-C31) -> 155 | H32: =(D32-D31)/G32 -> 825.91548 | J32: 2878 | K32: 1557516.5 | L32: =K32/J32 -> 541.18016 | M32: =J32/$L$9 -> 0.38839406 | N32: =(J32-J31) -> 99 | O32: =(K32-K31)/N32 -> 538.76283 | Q32: 1489 | R32: 682944.92 | S32: =R32/Q32 -> 458.66012 | T32: =Q32/$S$9 -> 0.19446258 | U32: =Q32-Q31 -> 60 | V32: =(R32-R31)/U32 -> 314.44667
B33: =B32+1 -> 21 | C33: =1682+4416 -> 6098 | D33: =3046443.8+984585.79 -> 4031029.6 | E33: =D33/C33 -> 661.04126 | F33: =C33/$E$9 -> 0.79639546 | G33: =(C33-C32) -> 20 | H33: =(D33-D32)/G33 -> 2368.704 | J33: 2967 | K33: 1614378.3 | L33: =K33/J33 -> 544.11131 | M33: =J33/$L$9 -> 0.40040486 | N33: =(J33-J32) -> 89 | O33: =(K33-K32)/N33 -> 638.89618 | Q33: 1519 | R33: 697653.32 | S33: =R33/Q33 -> 459.28461 | T33: =Q33/$S$9 -> 0.19838057 | U33: =Q33-Q32 -> 30 | V33: =(R33-R32)/U33 -> 490.28
B34: =B33+1 -> 22 | C34: =4654+1489 -> 6143 | D34: =893632.26+3216552.39 -> 4110184.7 | E34: =D34/C34 -> 669.08427 | F34: =C34/$E$9 -> 0.80227243 | G34: =(C34-C33) -> 45 | H34: =(D34-D33)/G34 -> 1759.0013 | J34: 3031 | K34: 1665917.6 | L34: =K34/J34 -> 549.62641 | M34: =J34/$L$9 -> 0.40904184 | N34: =(J34-J33) -> 64 | O34: =(K34-K33)/N34 -> 805.30266 | Q34: 1528 | R34: 703461.66 | S34: =R34/Q34 -> 460.38067 | T34: =Q34/$S$9 -> 0.19955596 | U34: =Q34-Q33 -> 9 | V34: =(R34-R33)/U34 -> 645.37111
B35: =B34+1 -> 23 | C35: =4893+1334 -> 6227 | D35: =3386126.84+820707.97 -> 4206834.8 | E35: =D35/C35 -> 675.5797 | F35: =C35/$E$9 -> 0.81324278 | G35: =(C35-C34) -> 84 | H35: =(D35-D34)/G35 -> 1150.5971 | J35: 3167 | K35: 1709381.8 | L35: =K35/J35 -> 539.74796 | M35: =J35/$L$9 -> 0.42739541 | N35: =(J35-J34) -> 136 | O35: =(K35-K34)/N35 -> 319.58926 | Q35: 1534 | R35: 708111.66 | S35: =R35/Q35 -> 461.61125 | T35: =Q35/$S$9 -> 0.20033956 | U35: =Q35-Q34 -> 6 | V35: =(R35-R34)/U35 -> 775
B36: =B35+1 -> 24 | C36: =1216+5126 -> 6342 | D36: =3551134.93+752869.68 -> 4304004.6 | E36: =D36/C36 -> 678.65099 | F36: =C36/$E$9 -> 0.82826172 | G36: =(C36-C35) -> 115 | H36: =(D36-D35)/G36 -> 844.95478 | J36: 3352 | K36: 1809467 | L36: =K36/J36 -> 539.81712 | M36: =J36/$L$9 -> 0.45236167 | N36: =(J36-J35) -> 185 | O36: =(K36-K35)/N36 -> 541.00103 | Q36: 1538 | R36: 714194.86 | S36: =R36/Q36 -> 464.36597 | T36: =Q36/$S$9 -> 0.20086196 | U36: =Q36-Q35 -> 4 | V36: =(R36-R35)/U36 -> 1520.8
B37: =B36+1 -> 25 | C37: =5340+1044 -> 6384 | D37: =649536.51+3708103.51 -> 4357640 | E37: =D37/C37 -> 682.58772 | F37: =C37/$E$9 -> 0.8337469 | G37: =(C37-C36) -> 42 | H37: =(D37-D36)/G37 -> 1277.0336 | J37: 3412 | K37: 1856667 | L37: =K37/J37 -> 544.15798 | M37: =J37/$L$9 -> 0.46045884 | N37: =(J37-J36) -> 60 | O37: =(K37-K36)/N37 -> 786.6675 | Q37: 1553 | R37: 723178.16 | S37: =R37/Q37 -> 465.66527 | T37: =Q37/$S$9 -> 0.20282095 | U37: =Q37-Q36 -> 15 | V37: =(R37-R36)/U37 -> 598.88667
B38: =B37+1 -> 26 | C38: =5521+855 -> 6376 | D38: =3830510.94+536330.77 -> 4366841.7 | E38: =D38/C38 -> 684.88734 | F38: =C38/$E$9 -> 0.8327021 | G38: =(C38-C37) -> -8 | H38: =(D38-D37)/G38 -> -1150.2113 | J38: 3412 | K38: 1862044.6 | L38: =K38/J38 -> 545.73407 | M38: =J38/$L$9 -> 0.46045884 | N38: =(J38-J37) -> 0 | O38: =(K38-K37)/N38 -> #DIV/0! | Q38: 1605 | R38: 741938.18 | S38: =R38/Q38 -> 462.26678 | T38: =Q38/$S$9 -> 0.20961212 | U38: =Q38-Q37 -> 52 | V38: =(R38-R37)/U38 -> 360.76962
B39: =B38+1 -> 27 | C39: =5680+708 -> 6388 | D39: =452577.19+3943715.26 -> 4396292.5 | E39: =D39/C39 -> 688.21109 | F39: =C39/$E$9 -> 0.8342693 | G39: =(C39-C38) -> 12 | H39: =(D39-D38)/G39 -> 2454.2283 | J39: 3561 | K39: 1956688.5 | L39: =K39/J39 -> 549.47724 | M39: =J39/$L$9 -> 0.4805668 | N39: =(J39-J38) -> 149 | O39: =(K39-K38)/N39 -> 635.19349 | Q39: 1607 | R39: 742821.52 | S39: =R39/Q39 -> 462.24114 | T39: =Q39/$S$9 -> 0.20987332 | U39: =Q39-Q38 -> 2 | V39: =(R39-R38)/-U39 -> -441.67
B40: =B39+1 -> 28 | C40: =5873+570 -> 6443 | D40: =4085607.95+363733.55 -> 4449341.5 | E40: =D40/C40 -> 690.56984 | F40: =C40/$E$9 -> 0.84145227 | G40: =(C40-C39) -> 55 | H40: =(D40-D39)/G40 -> 964.52818 | J40: 3850 | K40: 2125117.6 | L40: =K40/J40 -> 551.9786 | M40: =J40/$L$9 -> 0.51956815 | N40: =(J40-J39) -> 289 | O40: =(K40-K39)/N40 -> 582.79979 | Q40: 1610 | R40: 743904.86 | S40: =R40/Q40 -> 462.05271 | T40: =Q40/$S$9 -> 0.21026512 | U40: =Q40-Q39 -> 3 | V40: =(R40-R39)/-U40 -> -361.11333
B41: =B40+1 -> 29 | C41: =6076+390 -> 6466 | D41: =244263.5+4239362.38 -> 4483625.9 | E41: =D41/C41 -> 693.41569 | F41: =C41/$E$9 -> 0.84445605 | G41: =(C41-C40) -> 23 | H41: =(D41-D40)/G41 -> 1490.6252 | I41: 0 | J41: 4040 | K41: 2220939.2 | L41: =K41/J41 -> 549.73742 | M41: =J41/$L$9 -> 0.54520918 | N41: =(J41-J40) -> 190 | O41: =(K41-K40)/N41 -> 504.32405 | Q41: 1619 | R41: 750254.86 | S41: =R41/Q41 -> 463.40634 | T41: =Q41/$S$9 -> 0.21144051 | U41: =Q41-Q40 -> 9 | V41: =(R41-R40)/U41 -> 705.55556
B42: 30 | C42: =190+6286 -> 6476 | D42: =115180.14+4408021.82 -> 4523202 | E42: =D42/C42 -> 698.45614 | F42: =C42/$E$9 -> 0.84576205 | G42: =(C42-C41) -> 10 | H42: =(D42-D41)/G42 -> 3957.608 | J42: 4211 | K42: 2324652.2 | L42: =K42/J42 -> 552.0428 | M42: =J42/$L$9 -> 0.5682861 | N42: =(J42-J41) -> 171 | O42: =(K42-K41)/N42 -> 606.50924 | Q42: 1649 | R42: 764454.94 | S42: =R42/Q42 -> 463.58699 | T42: =Q42/$S$9 -> 0.2153585 | U42: =Q42-Q41 -> 30 | V42: =(R42-R41)/U42 -> 473.336
B43: 31 | C43: 6495 | D43: 4575375.4 | E43: =D43/C43 -> 704.44578 | F43: =C43/$E$9 -> 0.84824344 | G43: =(C43-C42) -> 19 | H43: =(D43-D42)/G43 -> 2745.9689 | J43: 4276 | K43: 2357750.6 | L43: =K43/J43 -> 551.39163 | M43: =J43/$L$9 -> 0.57705803 | N43: =(J43-J42) -> 65 | O43: =(K43-K42)/N43 -> 509.20523 | Q43: 1655 | R43: 768338.28 | S43: =R43/Q43 -> 464.25274 | T43: =Q43/$S$9 -> 0.21614209 | U43: =Q43-Q42 -> 6 | V43: =(R43-R42)/U43 -> 647.22333

Sheet April,May, June
N4: Hotel Name :
N5: Date :
A8: June | B8: April | J8: May | Q8: June
C9: Budget Rm Nts | E9: 5805 | G9: Budget Avg | H9: 657.06 | J9: Budget Rm Nts | L9: 6050 | N9: Budget Avg | O9: 554.09 | Q9: Budget Rm Nts | S9: 5820 | U9: Budget Avg | V9: 456.45
C10: Budget Occ % | E10: 0.783 | F10: Budget Rm Rev | H10: 3814250 | J10: Budget Occ % | L10: 0.79 | M10: Budget Rm Rev | O10: 3352250 | Q10: Budget Occ % | S10: 0.785 | T10: Budget Rm Rev | V10: 2656525
C11: Available Rms | E11: 7410 | J11: Available Rms | L11: =247*31 -> 7657 | Q11: Available Rms | S11: 7410
B12: Month of Mar,Apr, May
B13: Day of the Month | C13: Total Rooms On the Books for whole month | D13: Total Revenue On the Books for whole month | E13: Average Rate per Month | F13: Occ % for end of the Month | G13: Pick-Up Room Nights per Day | H13: Avg Rate Pick Up | J13: Total Rooms On the Books for whole month | K13: Total Revenue On the Books for whole month | L13: Average Rate per Month | M13: Occ % for end of the Month | N13: Pick-Up Room Nights per Day | O13: Avg Rate Pick Up | Q13: Total Rooms On the Books for whole month | R13: Total Revenue On the Books for whole month | S13: Average Rate per Month | T13: Occ % for end of the Month | U13: Pick-Up Room Nights per Day | V13: Avg Rate Pick up
C14: 304 | D14: 304 | E14: 304 | F14: 304 | G14: 304 | H14: 304 | I14: 304 | J14: 304 | K14: 304 | L14: 304 | M14: 304 | N14: 304 | O14: 304 | P14: 304 | Q14: 304 | R14: 304 | S14: 304 | T14: 304 | U14: 304 | V14: 304
B15: 1 | C15: =4169+216 -> 4385 | D15: =2306974.83+146376.21 -> 2453351 | E15: =D15/C15 -> 559.48712 | F15: =C15/$E$11 -> 0.59176788 | G15: 109 | H15: 877.068 | J15: 1660 | K15: 769188.28 | L15: =K15/J15 -> 463.36643 | M15: =J15/$L$11 -> 0.21679509 | N15: 5 | O15: 170 | Q15: 477 | R15: 125697.57 | S15: =R15/Q15 -> 263.51692 | T15: =Q15/$S$11 -> 0.06437247 | U15: 5 | V15: 620
B16: =B15+1 -> 2 | C16: =4188+394 -> 4582 | D16: =2340333.17+259893.45 -> 2600226.6 | E16: =D16/C16 -> 567.48726 | F16: =C16/$E$11 -> 0.61835358 | G16: =(C16-C15) -> 197 | H16: =(D16-D15)/G16 -> 745.56132 | J16: 1676 | K16: 774605.35 | L16: =K16/J16 -> 462.17503 | M16: =J16/$L$11 -> 0.21888468 | N16: =(J16-J15) -> 16 | O16: =-(K16-K15)/-N16 -> 338.56687 | Q16: 480 | R16: 126782.57 | S16: =R16/Q16 -> 264.13035 | T16: =Q16/$S$11 -> 0.064777328 | U16: =Q16-Q15 -> 3 | V16: =(R16-R15)/U16 -> 361.66667
B17: =B16+1 -> 3 | C17: =548+4104 -> 4652 | D17: =364596.15+2353338.32 -> 2717934.5 | E17: =D17/C17 -> 584.25075 | F17: =C17/$E$11 -> 0.62780027 | G17: =(C17-C16) -> 70 | H17: =(D17-D16)/G17 -> 1681.5407 | J17: 1684 | K17: 779138.65 | L17: =K17/J17 -> 462.67141 | M17: =J17/$L$11 -> 0.21992948 | N17: =(J17-J16) -> 8 | O17: =-(K17-K16)/-N17 -> 566.6625 | Q17: 480 | R17: 126782.57 | S17: =R17/Q17 -> 264.13035 | T17: =Q17/$S$11 -> 0.064777328 | U17: 0 | V17: 0
B18: 4 | C18: =3908+744 -> 4652 | D18: =2258580.62+505584.48 -> 2764165.1 | E18: =D18/C18 -> 594.18854 | F18: =C18/$E$11 -> 0.62780027 | G18: =(C18-C17) -> 0 | H18: 0 | J18: 1701 | K18: 787609.49 | L18: =K18/J18 -> 463.02733 | M18: =J18/$L$11 -> 0.22214967 | N18: =(J18-J17) -> 17 | O18: =-(K18-K17)/-N18 -> 498.28471 | Q18: 480 | R18: 126782.57 | S18: =R18/Q18 -> 264.13035 | T18: =Q18/$S$11 -> 0.064777328 | U18: 0 | V18: 0
B19: =B18+1 -> 5 | C19: =973+3755 -> 4728 | D19: =2163134.6+663146.41 -> 2826281 | E19: =D19/C19 -> 597.77517 | F19: =C19/$E$11 -> 0.63805668 | G19: =(C19-C18) -> 76 | H19: =(D19-D18)/G19 -> 817.31461 | J19: 1718 | K19: 799392.86 | L19: =K19/J19 -> 465.30434 | M19: =J19/$L$11 -> 0.22436986 | N19: =(J19-J18) -> 17 | O19: =(K19-K18)/N19 -> 693.13941 | Q19: 482 | R19: 127277.57 | S19: =R19/Q19 -> 264.06135 | T19: =Q19/$S$11 -> 0.065047233 | U19: =Q19-Q18 -> 2 | V19: =(R19-R18)/U19 -> 247.5
B20: =B19+1 -> 6 | C20: =1210+3632 -> 4842 | D20: =2149818.7+839982.57 -> 2989801.3 | E20: =D20/C20 -> 617.47238 | F20: =C20/$E$11 -> 0.6534413 | G20: =(C20-C19) -> 114 | H20: =(D20-D19)/G20 -> 1434.3882 | I20: 0 | J20: 1750 | K20: 813378.71 | L20: =K20/J20 -> 464.78783 | M20: =J20/$L$11 -> 0.22854904 | N20: =(J20-J19) -> 32 | O20: =(K20-K19)/N20 -> 437.05781 | Q20: 485 | R20: 127827.57 | S20: =R20/Q20 -> 263.562 | T20: =Q20/$S$11 -> 0.065452092 | U20: =Q20-Q19 -> 3 | V20: =(R20-R19)/U20 -> 183.33333
B21: =B20+1 -> 7 | C21: =3609+1457 -> 5066 | D21: =2139687.88+1022498.16 -> 3162186 | E21: =D21/C21 -> 624.1978 | F21: =C21/$E$11 -> 0.68367072 | G21: =(C21-C20) -> 224 | H21: =(D21-D20)/G21 -> 769.57487 | J21: 1734 | K21: 819770.38 | L21: =K21/J21 -> 472.76262 | M21: =J21/$L$11 -> 0.22645945 | N21: =(J21-J20) -> -16 | O21: =-(K21-K20)/-N21 -> -399.47938 | Q21: 485 | R21: 127827.57 | S21: =R21/Q21 -> 263.562 | T21: =Q21/$S$11 -> 0.065452092 | U21: 0 | V21: 0
B22: =B21+1 -> 8 | C22: =3431+1689 -> 5120 | D22: =2005643.89+1211444.68 -> 3217088.6 | E22: =D22/C22 -> 628.33761 | F22: =C22/$E$11 -> 0.69095816 | G22: =(C22-C21) -> 54 | H22: =(D22-D21)/G22 -> 1016.7135 | J22: 1804 | K22: 851599.69 | L22: =K22/J22 -> 472.06191 | M22: =J22/$L$11 -> 0.23560141 | N22: =(J22-J21) -> 70 | O22: =(K22-K21)/N22 -> 454.70443 | Q22: 493 | R22: 130650.97 | S22: =R22/Q22 -> 265.01211 | T22: =Q22/$S$11 -> 0.066531714 | U22: =Q22-Q21 -> 8 | V22: =(R22-R21)/U22 -> 352.925
B23: =B22+1 -> 9 | C23: =3251+1901 -> 5152 | D23: =1905228.96+1376923.31 -> 3282152.3 | E23: =D23/C23 -> 637.06372 | F23: =C23/$E$11 -> 0.69527665 | G23: =(C23-C22) -> 32 | H23: =(D23-D22)/G23 -> 2033.2406 | J23: 1833 | K23: 859665.53 | L23: =K23/J23 -> 468.99374 | M23: =J23/$L$11 -> 0.23938879 | N23: =(J23-J22) -> 29 | O23: =(K23-K22)/N23 -> 278.13241 | Q23: 493 | R23: 130650.97 | S23: =R23/Q23 -> 265.01211 | T23: =Q23/$S$11 -> 0.066531714 | U23: 0 | V23: 0
B24: =B23+1 -> 10 | C24: =3086+2135 -> 5221 | D24: =1566164.81+1745254.82 -> 3311419.6 | E24: =D24/C24 -> 634.25007 | F24: =C24/$E$11 -> 0.70458839 | G24: =(C24-C23) -> 69 | H24: =(D24-D23)/G24 -> 424.16464 | J24: 1855 | K24: 871546.31 | L24: =K24/J24 -> 469.83629 | M24: =J24/$L$11 -> 0.24226198 | N24: =(J24-J23) -> 22 | O24: =(K24-K23)/N24 -> 540.03545 | Q24: 526 | R24: 143045.97 | S24: =R24/Q24 -> 271.95051 | T24: =Q24/$S$11 -> 0.070985155 | U24: =Q24-Q23 -> 33 | V24: =(R24-R23)/U24 -> 375.60606
B25: =B24+1 -> 11 | C25: =2382+3135 -> 5517 | D25: =1762798.02+1762529.57 -> 3525327.6 | E25: =D25/C25 -> 638.99358 | F25: =C25/$E$11 -> 0.74453441 | G25: =(C25-C24) -> 296 | H25: =(D25-D24)/G25 -> 722.66203 | J25: 1965 | K25: 937119.36 | L25: =K25/J25 -> 476.90553 | M25: =J25/$L$11 -> 0.25662792 | N25: =(J25-J24) -> 110 | O25: =(K25-K24)/N25 -> 596.11864 | Q25: 556 | R25: 158045.97 | S25: =R25/Q25 -> 284.25534 | T25: =Q25/$S$11 -> 0.075033738 | U25: =Q25-Q24 -> 30 | V25: =(R25-R24)/U25 -> 500
B26: =B25+1 -> 12 | C26: =2617+3019 -> 5636 | D26: =1692351.11+1950229.25 -> 3642580.4 | E26: =D26/C26 -> 646.30595 | F26: =C26/$E$11 -> 0.76059379 | G26: =(C26-C25) -> 119 | H26: =(D26-D25)/G26 -> 985.31739 | I26: 635.86 | J26: 2075 | K26: 997125.51 | L26: =K26/J26 -> 480.54241 | M26: =J26/$L$11 -> 0.27099386 | N26: =(J26-J25) -> 110 | O26: =(K26-K25)/N26 -> 545.51045 | Q26: 566 | R26: 163668.47 | S26: =R26/Q26 -> 289.16691 | T26: =Q26/$S$11 -> 0.076383266 | U26: =Q26-Q25 -> 10 | V26: =(R26-R25)/U26 -> 562.25
B27: =B26+1 -> 13 | C27: =2857+2873 -> 5730 | D27: =1614113.38+2145865.55 -> 3759978.9 | E27: =D27/C27 -> 656.19179 | F27: =C27/$E$11 -> 0.77327935 | G27: =(C27-C26) -> 94 | H27: =(D27-D26)/G27 -> 1248.921 | J27: 2111 | K27: 1014148.8 | L27: =K27/J27 -> 480.41157 | M27: =J27/$L$11 -> 0.27569544 | N27: =(J27-J26) -> 36 | O27: =(K27-K26)/N27 -> 472.86972 | Q27: 681 | R27: 202203.25 | S27: =R27/Q27 -> 296.92107 | T27: =Q27/$S$11 -> 0.091902834 | U27: =Q27-Q26 -> 115 | V27: =(R27-R26)/U27 -> 335.08504
B28: =B27+1 -> 14 | C28: =3088+2738 -> 5826 | D28: =2319291.45+1522830.79 -> 3842122.2 | E28: =D28/C28 -> 659.47859 | F28: =C28/$E$11 -> 0.78623482 | G28: =(C28-C27) -> 96 | H28: =(D28-D27)/G28 -> 855.65948 | J28: 2143 | K28: 1014715.5 | L28: =K28/J28 -> 473.50232 | M28: =J28/$L$11 -> 0.27987462 | N28: =(J28-J27) -> 32 | O28: =(K28-K27)/N28 -> 17.708125 | Q28: 681 | R28: 202203.25 | S28: =R28/Q28 -> 296.92107 | T28: =Q28/$S$11 -> 0.091902834 | U28: 0 | V28: 0
B29: =B28+1 -> 15 | C29: =2512+3306 -> 5818 | D29: =1386782.99+2477664.44 -> 3864447.4 | E29: =D29/C29 -> 664.22266 | F29: =C29/$E$11 -> 0.7851552 | G29: =(C29-C28) -> -8 | H29: =(D29-D28)/G29 -> -2790.6487 | J29: 2174 | K29: 1032282.1 | L29: =K29/J29 -> 474.83079 | M29: =J29/$L$11 -> 0.28392321 | N29: =(J29-J28) -> 31 | O29: =(K29-K28)/N29 -> 566.66645 | Q29: 688 | R29: 203003.25 | S29: =R29/Q29 -> 295.06286 | T29: =Q29/$S$11 -> 0.092847503 | U29: =Q29-Q28 -> 7 | V29: =(R29-R28)/U29 -> 114.28571
B30: =B29+1 -> 16 | C30: =3470+2367 -> 5837 | D30: =1288272.77+2593351.33 -> 3881624.1 | E30: =D30/C30 -> 665.00327 | F30: =C30/$E$11 -> 0.7877193 | G30: =(C30-C29) -> 19 | H30: =(D30-D29)/G30 -> 904.03526 | J30: 2193 | K30: 1035584.7 | L30: =K30/J30 -> 472.22282 | M30: =J30/$L$11 -> 0.2864046 | N30: =(J30-J29) -> 19 | O30: =(K30-K29)/N30 -> 173.81632 | Q30: 688 | R30: 202853.25 | S30: =R30/Q30 -> 294.84484 | T30: =Q30/$S$11 -> 0.092847503 | U30: =Q30-Q29 -> 0 | V30: 0
B31: =B30+1 -> 17 | C31: =3639+2291 -> 5930 | D31: =2707375.63+1270731.64 -> 3978107.3 | E31: =D31/C31 -> 670.8444 | F31: =C31/$E$11 -> 0.80026991 | G31: =(C31-C30) -> 93 | H31: =(D31-D30)/G31 -> 1037.4534 | J31: 2323 | K31: 1109498.8 | L31: =K31/J31 -> 477.61464 | M31: =J31/$L$11 -> 0.30338253 | N31: =(J31-J30) -> 130 | O31: =(K31-K30)/N31 -> 568.57046 | Q31: 749 | R31: 233653.25 | S31: =R31/Q31 -> 311.9536 | T31: =Q31/$S$11 -> 0.10107962 | U31: =Q31-Q30 -> 61 | V31: =(R31-R30)/U31 -> 504.91803
B32: =B31+1 -> 18 | C32: =2157+3854 -> 6011 | D32: =1201699.29+2854561.95 -> 4056261.2 | E32: =D32/C32 -> 674.80639 | F32: =C32/$E$11 -> 0.81120108 | G32: =(C32-C31) -> 81 | H32: =(D32-D31)/G32 -> 964.86383 | J32: 2357 | K32: 1131662.2 | L32: =K32/J32 -> 480.1282 | M32: =J32/$L$11 -> 0.30782291 | N32: =(J32-J31) -> 34 | O32: =(K32-K31)/N32 -> 651.86324 | Q32: 778 | R32: 251053.25 | S32: =R32/Q32 -> 322.69055 | T32: =Q32/$S$11 -> 0.10499325 | U32: =Q32-Q31 -> 29 | V32: =(R32-R31)/U32 -> 600
B33: =B32+1 -> 19 | C33: =1960+4092 -> 6052 | D33: =3010901.9+1108622.01 -> 4119523.9 | E33: =D33/C33 -> 680.68802 | F33: =C33/$E$11 -> 0.81673414 | G33: =(C33-C32) -> 41 | H33: =(D33-D32)/G33 -> 1542.992 | J33: 2394 | K33: 1150685.5 | L33: =K33/J33 -> 480.65393 | M33: =J33/$L$11 -> 0.31265509 | N33: =(J33-J32) -> 37 | O33: =(K33-K32)/N33 -> 514.14459 | Q33: 777 | R33: 250353.25 | S33: =R33/Q33 -> 322.20495 | T33: =Q33/$S$11 -> 0.1048583 | U33: =Q33-Q32 -> -1 | V33: =(R33-R32)/U33 -> 700
B34: =B33+1 -> 20 | C34: =4339+1718 -> 6057 | D34: =947338.38+3183051.8 -> 4130390.2 | E34: =D34/C34 -> 681.92012 | F34: =C34/$E$11 -> 0.81740891 | G34: =(C34-C33) -> 5 | H34: =(D34-D33)/G34 -> 2173.254 | J34: 2433 | K34: 1176430.9 | L34: =K34/J34 -> 483.53098 | M34: =J34/$L$11 -> 0.31774847 | N34: =(J34-J33) -> 39 | O34: =(K34-K33)/N34 -> 660.13744 | Q34: 784 | R34: 253358.25 | S34: =R34/Q34 -> 323.16103 | T34: =Q34/$S$11 -> 0.10580297 | U34: =Q34-Q33 -> 7 | V34: =(R34-R33)/U34 -> 429.28571
B35: =B34+1 -> 21 | C35: =4586+1457 -> 6043 | D35: =811378.36+3353002.55 -> 4164380.9 | E35: =D35/C35 -> 689.12476 | F35: =C35/$E$11 -> 0.81551957 | G35: =(C35-C34) -> -14 | H35: =(D35-D34)/G35 -> -2427.9093 | J35: 2463 | K35: 1199431.2 | L35: =K35/J35 -> 486.97979 | M35: =J35/$L$11 -> 0.32166645 | N35: =(J35-J34) -> 30 | O35: =(K35-K34)/N35 -> 766.67833 | Q35: 729 | R35: 236358.45 | S35: =R35/Q35 -> 324.22284 | T35: =Q35/$S$11 -> 0.098380567 | U35: =Q35-Q34 -> -55 | V35: =(R35-R34)/U35 -> 309.08727
B36: =B35+1 -> 22 | C36: =1254+4799 -> 6053 | D36: =694961.93+3496381.28 -> 4191343.2 | E36: =D36/C36 -> 692.44064 | F36: =C36/$E$11 -> 0.8168691 | G36: =(C36-C35) -> 10 | H36: =(D36-D35)/G36 -> 2696.23 | J36: 2500 | K36: 1219119 | L36: =K36/J36 -> 487.6476 | M36: =J36/$L$11 -> 0.32649863 | N36: =(J36-J35) -> 37 | O36: =(K36-K35)/N36 -> 532.10216 | Q36: 713 | R36: 229151.93 | S36: =R36/Q36 -> 321.39121 | T36: =Q36/$S$11 -> 0.096221323 | U36: =Q36-Q35 -> -16 | V36: =(R36-R35)/U36 -> 450.4075
B37: =B36+1 -> 23 | C37: =4977+1121 -> 6098 | D37: =3610424.07+620628.32 -> 4231052.4 | E37: =D37/C37 -> 693.84264 | F37: =C37/$E$11 -> 0.82294197 | G37: =(C37-C36) -> 45 | H37: =(D37-D36)/G37 -> 882.42622 | J37: 2509 | K37: 1224403 | L37: =K37/J37 -> 488.00438 | M37: =J37/$L$11 -> 0.32767402 | N37: =(J37-J36) -> 9 | O37: =(K37-K36)/N37 -> 587.11111 | Q37: 713 | R37: 229151.93 | S37: =R37/Q37 -> 321.39121 | T37: =Q37/$S$11 -> 0.096221323 | U37: =Q37-Q36 -> 0 | V37: 0
B38: =B37+1 -> 24 | C38: =5172+975 -> 6147 | D38: =3736313.74+539707.78 -> 4276021.5 | E38: =D38/C38 -> 695.62738 | F38: =C38/$E$11 -> 0.82955466 | G38: =(C38-C37) -> 49 | H38: =(D38-D37)/G38 -> 917.73735 | J38: 2720 | K38: 1305912.3 | L38: =K38/J38 -> 480.11482 | M38: =J38/$L$11 -> 0.35523051 | N38: =(J38-J37) -> 211 | O38: =(K38-K37)/N38 -> 386.30009 | Q38: 824 | R38: 268639.93 | S38: =R38/Q38 -> 326.01933 | T38: =Q38/$S$11 -> 0.11120108 | U38: =Q38-Q37 -> 111 | V38: =(R38-R37)/U38 -> 355.74775
B39: =B38+1 -> 25 | C39: =5347+853 -> 6200 | D39: =3851105.17+472942.12 -> 4324047.3 | E39: =D39/C39 -> 697.42698 | F39: =C39/$E$11 -> 0.83670715 | G39: =(C39-C38) -> 53 | H39: =(D39-D38)/G39 -> 906.1466 | J39: 2717 | K39: 1304682.3 | L39: =K39/J39 -> 480.19223 | M39: =J39/$L$11 -> 0.35483871 | N39: =(J39-J38) -> -3 | O39: =(K39-K38)/N39 -> 410.01333 | Q39: 724 | R39: 234099.43 | S39: =R39/Q39 -> 323.34175 | T39: =Q39/$S$11 -> 0.097705803 | U39: =Q39-Q38 -> -100 | V39: =(R39-R38)/U39 -> 345.405
B40: =B39+1 -> 26 | C40: =5506+688 -> 6194 | D40: =372191.19+3953206.26 -> 4325397.5 | E40: =D40/C40 -> 698.32054 | F40: =C40/$E$11 -> 0.83589744 | G40: =(C40-C39) -> -6 | H40: =(D40-D39)/G40 -> -225.02667 | J40: 2636 | K40: 1269566.3 | L40: =K40/J40 -> 481.62606 | M40: =J40/$L$11 -> 0.34426015 | N40: =(J40-J39) -> -81 | O40: =(K40-K39)/N40 -> 433.53062 | Q40: 732 | R40: 235939.43 | S40: =R40/Q40 -> 322.32163 | T40: =Q40/$S$11 -> 0.098785425 | U40: =Q40-Q39 -> 8 | V40: =(R40-R39)/U40 -> 230
B41: =B40+1 -> 27 | C41: =5748+474 -> 6222 | D41: =262829.12+4101750.57 -> 4364579.7 | E41: =D41/C41 -> 701.47536 | F41: =C41/$E$11 -> 0.83967611 | G41: =(C41-C40) -> 28 | H41: =(D41-D40)/G41 -> 1399.3657 | J41: 2750 | K41: 1314171.3 | L41: =K41/J41 -> 477.88048 | M41: =J41/$L$11 -> 0.35914849 | N41: =(J41-J40) -> 114 | O41: =(K41-K40)/N41 -> 391.27202 | Q41: 732 | R41: 235939.43 | S41: =R41/Q41 -> 322.32163 | T41: =Q41/$S$11 -> 0.098785425 | U41: 0 | V41: 0
B42: =B41+1 -> 28 | C42: =5995+283 -> 6278 | D42: =159740.29+4255755.24 -> 4415495.5 | E42: =D42/C42 -> 703.32837 | F42: =C42/$E$11 -> 0.84723347 | G42: =(C42-C41) -> 56 | H42: =(D42-D41)/G42 -> 909.21143 | J42: 2713 | K42: 1305515.9 | L42: =K42/J42 -> 481.20749 | M42: =J42/$L$11 -> 0.35431631 | N42: =(J42-J41) -> -37 | O42: =(K42-K41)/N42 -> 233.92973 | Q42: 739 | R42: 240139.43 | S42: =R42/Q42 -> 324.95187 | T42: =Q42/$S$11 -> 0.099730094 | U42: =Q42-Q41 -> 7 | V42: =(R42-R41)/-U42 -> -600
B43: =B42+1 -> 29 | C43: =6163+137 -> 6300 | D43: =4370562.04+76105.31 -> 4446667.3 | E43: =D43/C43 -> 705.82021 | F43: =C43/$E$11 -> 0.85020243 | G43: =(C43-C42) -> 22 | H43: =(D43-D42)/G43 -> 1416.9009 | I43: 0 | J43: 2758 | K43: 1335371.8 | L43: =K43/J43 -> 484.1812 | M43: =J43/$L$11 -> 0.36019329 | N43: =(J43-J42) -> 45 | O43: =(K43-K42)/N43 -> 663.46311 | Q43: 743 | R43: 242539.43 | S43: =R43/Q43 -> 326.43261 | T43: =Q43/$S$11 -> 0.10026991 | U43: =Q43-Q42 -> 4 | V43: =(R43-R42)/U43 -> 600
B44: 30 | C44: 6304 | D44: 4467300.6 | E44: =D44/C44 -> 708.64541 | F44: =C44/$E$11 -> 0.85074224 | G44: =(C44-C43) -> 4 | H44: =(D44-D43)/G44 -> 5158.3225 | J44: 2809 | K44: 1359803.1 | L44: =K44/J44 -> 484.08797 | M44: =J44/$L$11 -> 0.36685386 | N44: =(J44-J43) -> 51 | O44: =(K44-K43)/N44 -> 479.04627 | Q44: 747 | R44: 245139.43 | S44: =R44/Q44 -> 328.16523 | T44: =Q44/$S$11 -> 0.10080972 | U44: =Q44-Q43 -> 4 | V44: =(R44-R43)/U44 -> 650
B45: 31 | E45: =D45/C45 -> #DIV/0! | F45: =C45/$E$11 -> 0 | G45: 0 | H45: =(D45-D44)/G45 -> #DIV/0! | L45: =K45/J45 -> #DIV/0! | M45: =J45/$L$11 -> 0 | N45: 0 | O45: =(K45-K44)/N45 -> #DIV/0! | S45: =R45/Q45 -> #DIV/0! | T45: =Q45/$S$11 -> 0 | U45: 0 | V45: =(R45-R44)/U45 -> #DIV/0!

Sheet May, June , July
N3: Hotel Name :
N4: Date :
A6: June | B6: May | J6: June | Q6: July
C7: Budget Rm Nts | E7: 6050 | G7: Budget Avg | H7: 554.09 | J7: Budget Rm Nts | L7: 5820 | N7: Budget Avg | O7: 456.45 | Q7: Budget Rm Nts | S7: 5615 | U7: Budget Avg | V7: 451.96
C8: Budget Occ % | E8: 0.79 | F8: Budget Rm Rev | H8: 3352250 | J8: Budget Occ % | L8: 0.785 | M8: Budget Rm Rev | O8: 2656525 | Q8: Budget Occ % | S8: 0.733 | T8: Budget Rm Rev | V8: 2537750
C9: Available Rms | E9: =247*31 -> 7657 | J9: Available Rms | L9: 7410 | Q9: Available Rms | S9: 7657
B10: Month of May,Jun, July
B11: Day of the Month | C11: Total Rooms On the Books for whole month | D11: Total Revenue On the Books for whole month | E11: Average Rate per Month | F11: Occ % for end of the Month | G11: Pick-Up Room Nights per Day | H11: Avg Rate Pick Up | J11: Total Rooms On the Books for whole month | K11: Total Revenue On the Books for whole month | L11: Average Rate per Month | M11: Occ % for end of the Month | N11: Pick-Up Room Nights per Day | O11: Avg Rate Pick Up | Q11: Total Rooms On the Books for whole month | R11: Total Revenue On the Books for whole month | S11: Average Rate per Month | T11: Occ % for end of the Month | U11: Pick-Up Room Nights per Day | V11: Avg Rate Pick up
C12: 304 | D12: 304 | E12: 304 | F12: 304 | G12: 304 | H12: 304 | I12: 304 | J12: 304 | K12: 304 | L12: 304 | M12: 304 | N12: 304 | O12: 304 | P12: 304 | Q12: 304 | R12: 304 | S12: 304 | T12: 304 | U12: 304 | V12: 304
B13: 1 | C13: =135+2764 -> 2899 | D13: =90750.24+1347275.44 -> 1438025.7 | E13: =D13/C13 -> 496.04197 | F13: =C13/$E$9 -> 0.37860781 | G13: 90 | H13: 869.13 | J13: 783 | K13: 254652.93 | L13: =K13/J13 -> 325.22724 | M13: =J13/$L$9 -> 0.10566802 | N13: 36 | O13: 264.26 | Q13: 413 | R13: 138272.76 | S13: =R13/Q13 -> 334.80087 | T13: =Q13/$S$9 -> 0.053937573 | U13: 6 | V13: 226.66
B14: =B13+1 -> 2 | C14: =273+2620 -> 2893 | D14: =185789.49+1292495.9 -> 1478285.4 | E14: =D14/C14 -> 510.987 | F14: =C14/$E$9 -> 0.37782421 | G14: =(C14-C13) -> -6 | H14: =(D14-D13)/G14 -> -6709.9517 | J14: 803 | K14: 263612.93 | L14: =K14/J14 -> 328.28509 | M14: =J14/$L$9 -> 0.10836707 | N14: =(J14-J13) -> 20 | O14: =-(K14-K13)/-N14 -> 448 | Q14: 413 | R14: 138272.76 | S14: =R14/Q14 -> 334.80087 | T14: =Q14/$S$9 -> 0.053937573 | U14: =Q14-Q13 -> 0 | V14: 0
B15: =B14+1 -> 3 | C15: =417+2605 -> 3022 | D15: =285426.76+1285255.8 -> 1570682.6 | E15: =D15/C15 -> 519.74936 | F15: =C15/$E$9 -> 0.39467154 | G15: =(C15-C14) -> 129 | H15: =(D15-D14)/G15 -> 716.25713 | J15: 803 | K15: 263812.93 | L15: =K15/J15 -> 328.53416 | M15: =J15/$L$9 -> 0.10836707 | N15: =(J15-J14) -> 0 | O15: 0 | Q15: 425 | R15: 142872.76 | S15: =R15/Q15 -> 336.1712 | T15: =Q15/$S$9 -> 0.055504767 | U15: =Q15-Q14 -> 12 | V15: =(R15-R14)/U15 -> 383.33333
B16: 4 | C16: =2623+608 -> 3231 | D16: =1286472.23+433621.56 -> 1720093.8 | E16: =D16/C16 -> 532.37196 | F16: =C16/$E$9 -> 0.42196683 | G16: =(C16-C15) -> 209 | H16: =(D16-D15)/G16 -> 714.88627 | J16: 834 | K16: 279800.43 | L16: =K16/J16 -> 335.49212 | M16: =J16/$L$9 -> 0.11255061 | N16: =(J16-J15) -> 31 | O16: =-(K16-K15)/-N16 -> 515.72581 | Q16: 442 | R16: 145806.1 | S16: =R16/Q16 -> 329.87805 | T16: =Q16/$S$9 -> 0.057724958 | U16: =Q16-Q15 -> 17 | V16: =(R16-R15)/U16 -> 172.54941
B17: =B16+1 -> 5 | C17: =2583+814 -> 3397 | D17: =1260504.44+572304.3 -> 1832808.7 | E17: =D17/C17 -> 539.53746 | F17: =C17/$E$9 -> 0.44364634 | G17: =(C17-C16) -> 166 | H17: =(D17-D16)/G17 -> 679.00572 | J17: 859 | K17: 292528.77 | L17: =K17/J17 -> 340.54572 | M17: =J17/$L$9 -> 0.11592443 | N17: =(J17-J16) -> 25 | O17: =(K17-K16)/N17 -> 509.1336 | Q17: 438 | R17: 142131.1 | S17: =R17/Q17 -> 324.50023 | T17: =Q17/$S$9 -> 0.05720256 | U17: =Q17-Q16 -> -4 | V17: =(R17-R16)/U17 -> 918.75
B18: =B17+1 -> 6 | C18: =2509+968 -> 3477 | D18: =1216302.87+669608.83 -> 1885911.7 | E18: =D18/C18 -> 542.39623 | F18: =C18/$E$9 -> 0.45409429 | G18: =(C18-C17) -> 80 | H18: =(D18-D17)/G18 -> 663.787 | I18: 0 | J18: 879 | K18: 300018.8 | L18: =K18/J18 -> 341.31832 | M18: =J18/$L$9 -> 0.11862348 | N18: =(J18-J17) -> 20 | O18: =(K18-K17)/N18 -> 374.5015 | Q18: 447 | R18: 146644.44 | S18: =R18/Q18 -> 328.06362 | T18: =Q18/$S$9 -> 0.058377955 | U18: =Q18-Q17 -> 9 | V18: =(R18-R17)/U18 -> 501.48222
B19: =B18+1 -> 7 | C19: =1094+2437 -> 3531 | D19: =1180430.62+749873.14 -> 1930303.8 | E19: =D19/C19 -> 546.6734 | F19: =C19/$E$9 -> 0.46114666 | G19: =(C19-C18) -> 54 | H19: =(D19-D18)/G19 -> 822.07519 | J19: 889 | K19: 313923.8 | L19: =K19/J19 -> 353.12013 | M19: =J19/$L$9 -> 0.11997301 | N19: =(J19-J18) -> 10 | O19: =-(K19-K18)/-N19 -> 1390.5 | Q19: 447 | R19: 146644.44 | S19: =R19/Q19 -> 328.06362 | T19: =Q19/$S$9 -> 0.058377955 | U19: 0 | V19: 0
B20: =B19+1 -> 8 | C20: =2408+1234 -> 3642 | D20: =842049.64+1153343.36 -> 1995393 | E20: =D20/C20 -> 547.88386 | F20: =C20/$E$9 -> 0.4756432 | G20: =(C20-C19) -> 111 | H20: =(D20-D19)/G20 -> 586.38955 | J20: 934 | K20: 329842.16 | L20: =K20/J20 -> 353.15006 | M20: =J20/$L$9 -> 0.12604588 | N20: =(J20-J19) -> 45 | O20: =(K20-K19)/N20 -> 353.74133 | Q20: 453 | R20: 148294.44 | S20: =R20/Q20 -> 327.36079 | T20: =Q20/$S$9 -> 0.059161552 | U20: =Q20-Q19 -> 6 | V20: =(R20-R19)/U20 -> 275
B21: =B20+1 -> 9 | C21: =2373+1393 -> 3766 | D21: =943916.93+1134083.73 -> 2078000.7 | E21: =D21/C21 -> 551.77925 | F21: =C21/$E$9 -> 0.49183753 | G21: =(C21-C20) -> 124 | H21: =(D21-D20)/G21 -> 666.19081 | J21: 970 | K21: 340910.18 | L21: =K21/J21 -> 351.45379 | M21: =J21/$L$9 -> 0.13090418 | N21: =(J21-J20) -> 36 | O21: =(K21-K20)/N21 -> 307.445 | Q21: 455 | R21: 148469.44 | S21: =R21/Q21 -> 326.30646 | T21: =Q21/$S$9 -> 0.05942275 | U21: =Q21-Q20 -> 2 | V21: 0
B22: =B21+1 -> 10 | C22: =2322+1569 -> 3891 | D22: =1057133+1093993.48 -> 2151126.5 | E22: =D22/C22 -> 552.84669 | F22: =C22/$E$9 -> 0.50816247 | G22: =(C22-C21) -> 125 | H22: =(D22-D21)/G22 -> 585.00656 | J22: 1024 | K22: 366899.35 | L22: =K22/J22 -> 358.30015 | M22: =J22/$L$9 -> 0.13819163 | N22: =(J22-J21) -> 54 | O22: =(K22-K21)/N22 -> 481.28093 | Q22: 468 | R22: 155794.44 | S22: =R22/Q22 -> 332.8941 | T22: =Q22/$S$9 -> 0.061120543 | U22: =Q22-Q21 -> 13 | V22: =(R22-R21)/U22 -> 563.46154
B23: =B22+1 -> 11 | C23: =2304+1753 -> 4057 | D23: =1083578.76+1175441.78 -> 2259020.5 | E23: =D23/C23 -> 556.82044 | F23: =C23/$E$9 -> 0.52984197 | G23: =(C23-C22) -> 166 | H23: =(D23-D22)/G23 -> 649.96422 | J23: 1046 | K23: 373548.95 | L23: =K23/J23 -> 357.12137 | M23: =J23/$L$9 -> 0.14116059 | N23: =(J23-J22) -> 22 | O23: =(K23-K22)/N23 -> 302.25455 | Q23: 469 | R23: 156069.44 | S23: =R23/Q23 -> 332.77066 | T23: =Q23/$S$9 -> 0.061251143 | U23: =Q23-Q22 -> 1 | V23: =(R23-R22)/U23 -> 275
B24: =B23+1 -> 12 | C24: =2280+1929 -> 4209 | D24: =1046398.25+1288709.81 -> 2335108.1 | E24: =D24/C24 -> 554.78928 | F24: =C24/$E$9 -> 0.54969309 | G24: =(C24-C23) -> 152 | H24: =(D24-D23)/G24 -> 500.57579 | I24: 635.86 | J24: 1077 | K24: 385130.95 | L24: =K24/J24 -> 357.59605 | M24: =J24/$L$9 -> 0.14534413 | N24: =(J24-J23) -> 31 | O24: =(K24-K23)/N24 -> 373.6129 | Q24: 479 | R24: 159569.44 | S24: =R24/Q24 -> 333.13035 | T24: =Q24/$S$9 -> 0.062557137 | U24: =Q24-Q23 -> 10 | V24: =(R24-R23)/U24 -> 350
B25: =B24+1 -> 13 | C25: =2064+2231 -> 4295 | D25: =1361005.65+1026231.38 -> 2387237 | E25: =D25/C25 -> 555.8177 | F25: =C25/$E$9 -> 0.56092464 | G25: =(C25-C24) -> 86 | H25: =(D25-D24)/G25 -> 606.15081 | J25: 1119 | K25: 400719.23 | L25: =K25/J25 -> 358.10476 | M25: =J25/$L$9 -> 0.15101215 | N25: =(J25-J24) -> 42 | O25: =(K25-K24)/N25 -> 371.14952 | Q25: 488 | R25: 162934.44 | S25: =R25/Q25 -> 333.88205 | T25: =Q25/$S$9 -> 0.063732532 | U25: =Q25-Q24 -> 9 | V25: =(R25-R24)/U25 -> 373.88889
B26: =B25+1 -> 14 | C26: =2187+2143 -> 4330 | D26: =1430650.17+971430.84 -> 2402081 | E26: =D26/C26 -> 554.75312 | F26: =C26/$E$9 -> 0.56549562 | G26: =(C26-C25) -> 35 | H26: =(D26-D25)/G26 -> 424.11371 | J26: 1156 | K26: 413915.92 | L26: =K26/J26 -> 358.05875 | M26: =J26/$L$9 -> 0.1560054 | N26: =(J26-J25) -> 37 | O26: =(K26-K25)/N26 -> 356.6673 | Q26: 480 | R26: 159384.44 | S26: =R26/Q26 -> 332.05092 | T26: =Q26/$S$9 -> 0.062687737 | U26: =Q26-Q25 -> -8 | V26: =(R26-R25)/U26 -> 443.75
B27: =B26+1 -> 15 | C27: =2036+2346 -> 4382 | D27: =1522996.25+910136.38 -> 2433132.6 | E27: =D27/C27 -> 555.25619 | F27: =C27/$E$9 -> 0.5722868 | G27: =(C27-C26) -> 52 | H27: =(D27-D26)/G27 -> 597.14654 | J27: 1179 | K27: 419461.27 | L27: =K27/J27 -> 355.77716 | M27: =J27/$L$9 -> 0.15910931 | N27: =(J27-J26) -> 23 | O27: =(K27-K26)/N27 -> 241.10217 | Q27: 485 | R27: 158521.01 | S27: =R27/Q27 -> 326.84744 | T27: =Q27/$S$9 -> 0.063340734 | U27: =Q27-Q26 -> 5 | V27: =(R27-R26)/U27 -> -172.686
B28: =B27+1 -> 16 | C28: =2544+1978 -> 4522 | D28: =888288.64+1625359.02 -> 2513647.7 | E28: =D28/C28 -> 555.87078 | F28: =C28/$E$9 -> 0.59057072 | G28: =(C28-C27) -> 140 | H28: =(D28-D27)/G28 -> 575.10736 | J28: 1201 | K28: 435833.24 | L28: =K28/J28 -> 362.89196 | M28: =J28/$L$9 -> 0.16207827 | N28: =(J28-J27) -> 22 | O28: =(K28-K27)/N28 -> 744.18045 | Q28: 522 | R28: 177097.69 | S28: =R28/Q28 -> 339.26761 | T28: =Q28/$S$9 -> 0.068172914 | U28: =Q28-Q27 -> 37 | V28: =(R28-R27)/U28 -> 502.07243
B29: =B28+1 -> 17 | C29: =2758+1850 -> 4608 | D29: =1732919.83+836611.27 -> 2569531.1 | E29: =D29/C29 -> 557.62394 | F29: =C29/$E$9 -> 0.60180227 | G29: =(C29-C28) -> 86 | H29: =(D29-D28)/G29 -> 649.80744 | J29: 1407 | K29: 470304.68 | L29: =K29/J29 -> 334.26061 | M29: =J29/$L$9 -> 0.18987854 | N29: =(J29-J28) -> 206 | O29: =(K29-K28)/N29 -> 167.33709 | Q29: 534 | R29: 186697.69 | S29: =R29/Q29 -> 349.62114 | T29: =Q29/$S$9 -> 0.069740107 | U29: =Q29-Q28 -> 12 | V29: =(R29-R28)/U29 -> 800
B30: =B29+1 -> 18 | C30: =1623+2961 -> 4584 | D30: =1843210.96+743959.75 -> 2587170.7 | E30: =D30/C30 -> 564.39152 | F30: =C30/$E$9 -> 0.59866789 | G30: =(C30-C29) -> -24 | H30: =(D30-D29)/G30 -> -734.98375 | J30: 1480 | K30: 496370.42 | L30: =K30/J30 -> 335.38542 | M30: =J30/$L$9 -> 0.19973009 | N30: =(J30-J29) -> 73 | O30: =(K30-K29)/N30 -> 357.06493 | Q30: 533 | R30: 184897.69 | S30: =R30/Q30 -> 346.89998 | T30: =Q30/$S$9 -> 0.069609508 | U30: =Q30-Q29 -> -1 | V30: =(R30-R29)/U30 -> 1800
